Workbook

Sheet KPI
B1: KEY PERFORMANCE INDICATOR
B2: Jabatan : GM Central Kitchen
B4: Tanggal | D4: 20 Februari 2025 | K4: Departemen/Jabatan | M4: central kitchen / pt mss
B5: Nama/Jabatan | D5: Budi Siswanto | K5: Nama Atasan/Jabatan | M5: Yang Ingrid
B6: Tanggal Bergabung | D6: 01 Februari 2016 | K6: Periode Kinerja | M6: 2025
B8: NO | D8: Perspektif & Sasaran Strategis KPI | F8: Formula | G8: Periode | H8: Verifikasi | I8: Sumber Data | J8: Realisasi Tahun | K8: Target 2025 | M8: Polarisasi | N8: UoM | O8: Realisasi (YTD) | P8: Target (YTD) | R8: Skor | S8: Bobot | T8: SKOR AKHIR (Skor x Bobot)
C9: #, %, IDR | E9: Sumber KPI | J9: 2024 | K9: Target 100% | L9: Treshold Min | O9: 2025 | P9: 2025 | S9: (%)
B10: FINANCIAL PERSPECTIVE | S10: 10 | AB10: Februari | AC10: 150000000
B11: F1 | C11: Meningkatkan Valuasi Bisnis | AB11: Maret | AC11: 65000000
B12: F1a | C12: IDR | D12: Omzet non outlet | E12: VAM | F12: Omzet | G12: Bulan | H12: Direktur (F&A) | I12: Laporan FA | J12: 950000000 | K12: 45000000000 | L12: 31000000000 | M12: Maksimal | N12: Omzet | O12: =F1a!B19 -> 761 | P12: =F1a!C19 -> 45036 | Q12: =F1a!D19 -> 31525.2 | R12: =F1a!E19 -> 1.6897593 | S12: 15 | AB12: April | AC12: 120000000
B13: F1b | C13: % | D13: Profit Margin | E13: VAM | F13: Realisasi/ Target | G13: Bulan | H13: Direktur (F&A) | I13: Laporan FA | K13: 0.1 | L13: 0.08 | M13: Maksimal | N13: Persentase profit | O13: =Table3_4[[#Totals],[Realisasi]] -> 80 | P13: =Table3_4[[#Totals],[Target (100%)]] -> 120 | Q13: =Table3_4[[#Totals],[Treshold Min]] -> 96 | R13: =Table3_4[[#Totals],[Skor]] -> 66.666667 | S13: 5
C14: % | D14: ROI atas Inovasi | E14: VAM | M14: Maksimal | N14: Persentase | S14: 0
B15: F1c | C15: % | D15: COGS | E15: Job Desc | G15: Bulan | H15: Direktur (F&A) | I15: Laporan FA | K15: 0.65 | L15: 0.7 | M15: Minimal | N15: Persentase | O15: =F1c!B19 -> 727.94 | P15: =F1c!C19 -> 840 | Q15: =F1c!D19 -> 960 | R15: =F1c!E19 -> 100 | S15: 10
B16: F2 | C16: Cost Control | AB16: Mei | AC16: 340000000
B17: F2a | C17: % | D17: Penurunan Production Cost | E17: VAM | F17: Production cost tahun 2025/ production cost 2024 | G17: Tahunan | H17: Direktur (F&A) | I17: Laporan FA | K17: 0.05 | L17: 0.03 | M17: Maksimal | N17: Persentase | R17: 10 | S17: 10 | AB17: Juli
B18: CUSTOMER PERSPECTIVE | AB18: November
B19: C1 | C19: Menciptakan Satisfied Customer Experience | AB19: Desember
B20: C1a | C20: # | D20: Indeks Kepuasan Outlet & Customer (CSI) | E20: Job Desc | F20: Indeks Kepuasan | G20: Semester | H20: Direktur | I20: Survei | K20: 0.8 | L20: 0.6 | M20: Maksimal | N20: Indeks | R20: 10 | S20: 10 | AC20: =SUM(AC9:AC19) -> 675000000 | AD20: =AC20/AC8 -> #DIV/0!
B21: C2 | C21: Mengembangkan Kerjasama Bisnis
B22: INTERNAL BUSINESS PROCESS PERSPECTIVE
B23: B1 | C23: Meningkatkan kualitas
B24: B1a | C24: # | D24: Temuan Audit Internal Kritis | E24: HAM | F24: Jumlah Temuan Audit Internal Kritis | G24: Tahunan | H24: Auditor | I24: Internal Audit | K24: 0 | L24: 1 | M24: Minimal | N24: Temuan | O24: =B1a!B11 -> #VALUE! | P24: =B1a!C11 -> #VALUE! | Q24: =B1a!D11 -> #VALUE! | R24: =B1a!E11 -> #VALUE! | S24: 15
B25: B1b | C25: # | D25: Temuan Audit Mutu & Compliance | E25: HAM | F25: Jumlah Temuan Audit Mutu & Compliance | G25: Tahunan | H25: Quality | I25: Quality | K25: 0 | L25: 1 | M25: Minimal | N25: Temuan | O25: =Table3_6[[#Totals],[Realisasi]] -> 5 | P25: =Table3_6[[#Totals],[Target (100%)]] -> 14 | Q25: =Table3_6[[#Totals],[Treshold Min]] -> 12 | R25: =Table3_6[[#Totals],[Skor]] -> 35.714286
B26: B1c | C26: # | D26: Sertifikasi Mutu | E26: VAM | F26: Total Sertifikat Mutu yang dimiliki | G26: Bulan | H26: Direktur | I26: QMS | K26: 5 | L26: 2 | M26: Maksimal | N26: Sertifikat mutu | O26: 0 | P26: 4 | R26: 5 | S26: 5
C27: % | D27: jumlah kecelakaan kerja | E27: HAM | G27: bulan | K27: 0 | L27: 0.02
C28: % | D28: Defect rate | E28: HAM | K28: 0.03 | L28: 0.05
B29: B2 | C29: Inovasi
B30: B2a | C30: # | D30: Inovasi Produk yang direlease | E30: VAM | F30: Inovasi yang diterapkan di outlet | G30: Bulan | H30: Direktur | I30: Direktur | K30: 12 | L30: 8 | M30: Maksimal | N30: Inovasi | O30: =B2a!B11 -> 13 | P30: =B2a!C11 -> 20 | Q30: =B2a!D11 -> 12 | R30: =B2a!E11 -> 65 | S30: 5
B31: B3 | C31: System Development
B32: B3a | C32: % | D32: Deviasi Stock | E32: Job Desc | F32: Selisih stock/ total stock | G32: Audit | H32: Auditor | I32: Internal Audit | K32: 0 | L32: 0.02 | M32: Minimal | N32: Persentase | O32: =B3a!B19 -> 92 | P32: =B3a!C19 -> 100 | Q32: =B3a!D19 -> 0.83 | R32: =B3a!E19 -> 92 | S32: 10
C33: # | D33: Penyelesaian laboratorium QC | E33: HAM | K33: Mei | L33: Juli
B36: LEARNING & GROWTH PERSPECTIVE
B37: L1 | C37: Talent Management
B38: L1a
B39: L2 | C39: People Development
B40: L2a | C40: # | D40: Rata-rata Jam Learning Karyawan | E40: HAM | F40: Total jam learning semua karyawan dibagi jumlah karyawan | G40: Bulan | H40: GM Support | I40: GM Business Support | K40: 3 | L40: 2 | M40: Maksimal | N40: 3Jam / orang | O40: =L2a!B19 -> 23.4 | P40: =L2a!C19 -> 36 | Q40: =L2a!D19 -> 24 | R40: =L2a!E19 -> 65 | S40: 7.5
B41: L2b | C41: # | D41: Candidate readiness | E41: VAM | F41: Candidate yang siap dipromosikan selesai masa training/ total karyawan dibawahnya | G41: Bulan | H41: GM Support | I41: GM Business Support | K41: 4 orang | L41: 1 orang | M41: Maksimal | N41: Karyawan | O41: =L2b!B11 -> 4 | P41: =L2b!C11 -> 3 | Q41: =L2b!D11 -> 1 | R41: =L2b!E11 -> 133.33333 | S41: 7.5
B42: Total % | S42: =SUM(S12:S41) -> 100 | T42: 0
D44: Saya telah mengerti dan berkomitmen selama setahun untuk mencapai tujuan kinerja di atas.
D45: Tanda tangan & Nama | H45: Diketahui, | N45: Disetujui,
...

Sheet Achievement
B3: Kode BSC | C3: Indikator | D3: Achieve/Not Achieve | E3: Keterangan
B4: F1a | C4: Omzet Non Outlet | D4: Not Achieve | E4: Bulan September
B5: F1b | C5: Profit Margin | D5: Achieve | E5: Bulan September
B6: F1c | C6: COGS | D6: Achieve | E6: Bulan September
B7: C1a | C7: Indeks Kepuasaan Pelanggan | D7: Not Achieve | E7: Belum diisi/Belum ada data
B8: B2a | C8: Inovasi Produk yg di-Release | D8: Achieve | E8: Bulan September
B9: B3a | C9: Deviasi Stock | D9: Achieve | E9: Bulan september
B10: L2a | C10: Jam Learning Karyawan | D10: Not Achieve | E10: (SUM of All Jam Learning/Jumlah Karyawan CK)

Sheet F1a
A1: Nama KPI | B1: IDR | C1: Omzet non Outlet | D1: Non Kipas
A2: Periode | B2: Bulanan
A3: Polarisasi | B3: Maksimal
C5: dalam juta | D5: 0.7
A6: Periode | B6: Realisasi | C6: Target (100%) | D6: Treshold Min | E6: Skor | F6: Status
A7: Januari | B7: 105 | C7: 142 | D7: =C7*$D$5 -> 99.4 | E7: =IF(ISBLANK(B7), 0,IF(B7<D7, 0, IF(B7=D7, 80, IF(B7=C7, 100, IF(B7<C7, 80 + (B7-D7)/(C7-D7)*(100-80), 100 + (B7-C7)/(C7-D7)*(100-80)))))) -> 82.629108 | F7: =IF(ISBLANK(B7), "isi data dulu",IF(B7 < D7, "Dibawah target", IF(B7 <= C7, "Di dalam target", "Melebihi target"))) -> Di dalam target
A8: Februari | B8: 66 | C8: 235 | D8: =C8*$D$5 -> 164.5 | E8: =IF(ISBLANK(B8), 0,IF(B8<D8, 0, IF(B8=D8, 80, IF(B8=C8, 100, IF(B8<C8, 80 + (B8-D8)/(C8-D8)*(100-80), 100 + (B8-C8)/(C8-D8)*(100-80)))))) -> 0 | F8: =IF(ISBLANK(B8), "isi data dulu",IF(B8 < D8, "Dibawah target", IF(B8 <= C8, "Di dalam target", "Melebihi target"))) -> Dibawah target
A9: Maret | B9: 73 | C9: 806 | D9: =C9*$D$5 -> 564.2 | E9: =IF(ISBLANK(B9), 0,IF(B9<D9, 0, IF(B9=D9, 80, IF(B9=C9, 100, IF(B9<C9, 80 + (B9-D9)/(C9-D9)*(100-80), 100 + (B9-C9)/(C9-D9)*(100-80)))))) -> 0 | F9: =IF(ISBLANK(B9), "isi data dulu",IF(B9 < D9, "Dibawah target", IF(B9 <= C9, "Di dalam target", "Melebihi target"))) -> Dibawah target
A10: April | B10: 65 | C10: 1519 | D10: =C10*$D$5 -> 1063.3 | E10: =IF(ISBLANK(B10), 0,IF(B10<D10, 0, IF(B10=D10, 80, IF(B10=C10, 100, IF(B10<C10, 80 + (B10-D10)/(C10-D10)*(100-80), 100 + (B10-C10)/(C10-D10)*(100-80)))))) -> 0 | F10: =IF(ISBLANK(B10), "isi data dulu",IF(B10 < D10, "Dibawah target", IF(B10 <= C10, "Di dalam target", "Melebihi target"))) -> Dibawah target
A11: Mei | B11: 87 | C11: 2560 | D11: =C11*$D$5 -> 1792 | E11: =IF(ISBLANK(B11), 0,IF(B11<D11, 0, IF(B11=D11, 80, IF(B11=C11, 100, IF(B11<C11, 80 + (B11-D11)/(C11-D11)*(100-80), 100 + (B11-C11)/(C11-D11)*(100-80)))))) -> 0 | F11: =IF(ISBLANK(B11), "isi data dulu",IF(B11 < D11, "Dibawah target", IF(B11 <= C11, "Di dalam target", "Melebihi target"))) -> Dibawah target
A12: Juni | B12: 75 | C12: 3087 | D12: =C12*$D$5 -> 2160.9 | E12: =IF(ISBLANK(B12), 0,IF(B12<D12, 0, IF(B12=D12, 80, IF(B12=C12, 100, IF(B12<C12, 80 + (B12-D12)/(C12-D12)*(100-80), 100 + (B12-C12)/(C12-D12)*(100-80)))))) -> 0 | F12: =IF(ISBLANK(B12), "isi data dulu",IF(B12 < D12, "Dibawah target", IF(B12 <= C12, "Di dalam target", "Melebihi target"))) -> Dibawah target
A13: Juli | B13: 104 | C13: 3667 | D13: =C13*$D$5 -> 2566.9 | E13: =IF(ISBLANK(B13), 0,IF(B13<D13, 0, IF(B13=D13, 80, IF(B13=C13, 100, IF(B13<C13, 80 + (B13-D13)/(C13-D13)*(100-80), 100 + (B13-C13)/(C13-D13)*(100-80)))))) -> 0 | F13: =IF(ISBLANK(B13), "isi data dulu",IF(B13 < D13, "Dibawah target", IF(B13 <= C13, "Di dalam target", "Melebihi target"))) -> Dibawah target
A14: Agustus | B14: 88 | C14: 4455 | D14: =C14*$D$5 -> 3118.5 | E14: =IF(ISBLANK(B14), 0,IF(B14<D14, 0, IF(B14=D14, 80, IF(B14=C14, 100, IF(B14<C14, 80 + (B14-D14)/(C14-D14)*(100-80), 100 + (B14-C14)/(C14-D14)*(100-80)))))) -> 0 | F14: =IF(ISBLANK(B14), "isi data dulu",IF(B14 < D14, "Dibawah target", IF(B14 <= C14, "Di dalam target", "Melebihi target"))) -> Dibawah target
A15: September | B15: 98 | C15: 5430 | D15: =C15*$D$5 -> 3801 | E15: =IF(ISBLANK(B15), 0,IF(B15<D15, 0, IF(B15=D15, 80, IF(B15=C15, 100, IF(B15<C15, 80 + (B15-D15)/(C15-D15)*(100-80), 100 + (B15-C15)/(C15-D15)*(100-80)))))) -> 0 | F15: =IF(ISBLANK(B15), "isi data dulu",IF(B15 < D15, "Dibawah target", IF(B15 <= C15, "Di dalam target", "Melebihi target"))) -> Dibawah target
A16: Oktober | C16: 6755 | D16: =C16*$D$5 -> 4728.5 | E16: =IF(ISBLANK(B16), 0,IF(B16<D16, 0, IF(B16=D16, 80, IF(B16=C16, 100, IF(B16<C16, 80 + (B16-D16)/(C16-D16)*(100-80), 100 + (B16-C16)/(C16-D16)*(100-80)))))) -> 0 | F16: =IF(ISBLANK(B16), "isi data dulu",IF(B16 < D16, "Dibawah target", IF(B16 <= C16, "Di dalam target", "Melebihi target"))) -> isi data dulu
A17: November | C17: 7291 | D17: =C17*$D$5 -> 5103.7 | E17: =IF(ISBLANK(B17), 0,IF(B17<D17, 0, IF(B17=D17, 80, IF(B17=C17, 100, IF(B17<C17, 80 + (B17-D17)/(C17-D17)*(100-80), 100 + (B17-C17)/(C17-D17)*(100-80)))))) -> 0 | F17: =IF(ISBLANK(B17), "isi data dulu",IF(B17 < D17, "Dibawah target", IF(B17 <= C17, "Di dalam target", "Melebihi target"))) -> isi data dulu
A18: Desember | C18: 9089 | D18: =C18*$D$5 -> 6362.3 | E18: =IF(ISBLANK(B18), 0,IF(B18<D18, 0, IF(B18=D18, 80, IF(B18=C18, 100, IF(B18<C18, 80 + (B18-D18)/(C18-D18)*(100-80), 100 + (B18-C18)/(C18-D18)*(100-80)))))) -> 0 | F18: =IF(ISBLANK(B18), "isi data dulu",IF(B18 < D18, "Dibawah target", IF(B18 <= C18, "Di dalam target", "Melebihi target"))) -> isi data dulu
A19: Total | B19: =SUM(B7:B18) -> 761 | C19: =SUM(C7:C18) -> 45036 | D19: =SUM(D7:D18) -> 31525.2 | E19: =(B19/C19)*100 -> 1.6897593 | F19: =IF(B19 < D19, "Dibawah target", IF(B19 <= C19, "Di dalam target", "Melebihi target")) -> Dibawah target

Sheet F1b
A1: Nama KPI | B1: % | C1: Profit Margin All Factory
A2: Periode | B2: Bulanan
A3: Polarisasi | B3: Maksimal
D5: 0.8
A6: Periode | B6: Realisasi | C6: Target (100%) | D6: Treshold Min | E6: Skor | F6: Status
A7: Januari | B7: 5 | C7: 10 | D7: =C7*D5 -> 8 | E7: =IF(ISBLANK(B7), 0,IF(B7<D7, 0, IF(B7=D7, 80, IF(B7=C7, 100, IF(B7<C7, 80 + (B7-D7)/(C7-D7)*(100-80), 100 + (B7-C7)/(C7-D7)*(100-80)))))) -> 0 | F7: =IF(ISBLANK(B7), "isi data dulu",IF(B7 < D7, "Dibawah target", IF(B7 <= C7, "Di dalam target", "Melebihi target"))) -> Dibawah target
A8: Februari | B8: -1 | C8: 10 | D8: =C8*$D$5 -> 8 | E8: =IF(ISBLANK(B8), 0,IF(B8<D8, 0, IF(B8=D8, 80, IF(B8=C8, 100, IF(B8<C8, 80 + (B8-D8)/(C8-D8)*(100-80), 100 + (B8-C8)/(C8-D8)*(100-80)))))) -> 0 | F8: =IF(ISBLANK(B8), "isi data dulu",IF(B8 < D8, "Dibawah target", IF(B8 <= C8, "Di dalam target", "Melebihi target"))) -> Dibawah target
A9: Maret | B9: 9 | C9: 10 | D9: =C9*$D$5 -> 8 | E9: =IF(ISBLANK(B9), 0,IF(B9<D9, 0, IF(B9=D9, 80, IF(B9=C9, 100, IF(B9<C9, 80 + (B9-D9)/(C9-D9)*(100-80), 100 + (B9-C9)/(C9-D9)*(100-80)))))) -> 90 | F9: =IF(ISBLANK(B9), "isi data dulu",IF(B9 < D9, "Dibawah target", IF(B9 <= C9, "Di dalam target", "Melebihi target"))) -> Di dalam target
A10: April | B10: 13 | C10: 10 | D10: =C10*$D$5 -> 8 | E10: =IF(ISBLANK(B10), 0,IF(B10<D10, 0, IF(B10=D10, 80, IF(B10=C10, 100, IF(B10<C10, 80 + (B10-D10)/(C10-D10)*(100-80), 100 + (B10-C10)/(C10-D10)*(100-80)))))) -> 130 | F10: =IF(ISBLANK(B10), "isi data dulu",IF(B10 < D10, "Dibawah target", IF(B10 <= C10, "Di dalam target", "Melebihi target"))) -> Melebihi target
A11: Mei | B11: 10 | C11: 10 | D11: =C11*$D$5 -> 8 | E11: =IF(ISBLANK(B11), 0,IF(B11<D11, 0, IF(B11=D11, 80, IF(B11=C11, 100, IF(B11<C11, 80 + (B11-D11)/(C11-D11)*(100-80), 100 + (B11-C11)/(C11-D11)*(100-80)))))) -> 100 | F11: =IF(ISBLANK(B11), "isi data dulu",IF(B11 < D11, "Dibawah target", IF(B11 <= C11, "Di dalam target", "Melebihi target"))) -> Di dalam target
A12: Juni | B12: 9 | C12: 10 | D12: =C12*$D$5 -> 8 | E12: =IF(ISBLANK(B12), 0,IF(B12<D12, 0, IF(B12=D12, 80, IF(B12=C12, 100, IF(B12<C12, 80 + (B12-D12)/(C12-D12)*(100-80), 100 + (B12-C12)/(C12-D12)*(100-80)))))) -> 90 | F12: =IF(ISBLANK(B12), "isi data dulu",IF(B12 < D12, "Dibawah target", IF(B12 <= C12, "Di dalam target", "Melebihi target"))) -> Di dalam target
A13: Juli | B13: 13 | C13: 10 | D13: =C13*$D$5 -> 8 | E13: =IF(ISBLANK(B13), 0,IF(B13<D13, 0, IF(B13=D13, 80, IF(B13=C13, 100, IF(B13<C13, 80 + (B13-D13)/(C13-D13)*(100-80), 100 + (B13-C13)/(C13-D13)*(100-80)))))) -> 130 | F13: =IF(ISBLANK(B13), "isi data dulu",IF(B13 < D13, "Dibawah target", IF(B13 <= C13, "Di dalam target", "Melebihi target"))) -> Melebihi target
A14: Agustus | B14: 11 | C14: 10 | D14: =C14*$D$5 -> 8 | E14: =IF(ISBLANK(B14), 0,IF(B14<D14, 0, IF(B14=D14, 80, IF(B14=C14, 100, IF(B14<C14, 80 + (B14-D14)/(C14-D14)*(100-80), 100 + (B14-C14)/(C14-D14)*(100-80)))))) -> 110 | F14: =IF(ISBLANK(B14), "isi data dulu",IF(B14 < D14, "Dibawah target", IF(B14 <= C14, "Di dalam target", "Melebihi target"))) -> Melebihi target
A15: September | B15: 11 | C15: 10 | D15: =C15*$D$5 -> 8 | E15: =IF(ISBLANK(B15), 0,IF(B15<D15, 0, IF(B15=D15, 80, IF(B15=C15, 100, IF(B15<C15, 80 + (B15-D15)/(C15-D15)*(100-80), 100 + (B15-C15)/(C15-D15)*(100-80)))))) -> 110 | F15: =IF(ISBLANK(B15), "isi data dulu",IF(B15 < D15, "Dibawah target", IF(B15 <= C15, "Di dalam target", "Melebihi target"))) -> Melebihi target
A16: Oktober | C16: 10 | D16: =C16*$D$5 -> 8 | E16: =IF(ISBLANK(B16), 0,IF(B16<D16, 0, IF(B16=D16, 80, IF(B16=C16, 100, IF(B16<C16, 80 + (B16-D16)/(C16-D16)*(100-80), 100 + (B16-C16)/(C16-D16)*(100-80)))))) -> 0 | F16: =IF(ISBLANK(B16), "isi data dulu",IF(B16 < D16, "Dibawah target", IF(B16 <= C16, "Di dalam target", "Melebihi target"))) -> isi data dulu
A17: November | C17: 10 | D17: =C17*$D$5 -> 8 | E17: =IF(ISBLANK(B17), 0,IF(B17<D17, 0, IF(B17=D17, 80, IF(B17=C17, 100, IF(B17<C17, 80 + (B17-D17)/(C17-D17)*(100-80), 100 + (B17-C17)/(C17-D17)*(100-80)))))) -> 0 | F17: =IF(ISBLANK(B17), "isi data dulu",IF(B17 < D17, "Dibawah target", IF(B17 <= C17, "Di dalam target", "Melebihi target"))) -> isi data dulu
A18: Desember | C18: 10 | D18: =C18*$D$5 -> 8 | E18: =IF(ISBLANK(B18), 0,IF(B18<D18, 0, IF(B18=D18, 80, IF(B18=C18, 100, IF(B18<C18, 80 + (B18-D18)/(C18-D18)*(100-80), 100 + (B18-C18)/(C18-D18)*(100-80)))))) -> 0 | F18: =IF(ISBLANK(B18), "isi data dulu",IF(B18 < D18, "Dibawah target", IF(B18 <= C18, "Di dalam target", "Melebihi target"))) -> isi data dulu
B19: =SUBTOTAL(109,Table3_4[Realisasi]) -> 80 | C19: =SUBTOTAL(109,Table3_4[Target (100%)]) -> 120 | D19: =SUBTOTAL(109,Table3_4[Treshold Min]) -> 96 | E19: =Table3_4[[#Totals],[Realisasi]]/Table3_4[[#Totals],[Target (100%)]]*100 -> 66.666667

Sheet F1c
A1: Nama KPI | B1: # | C1: COGS all Factory
A2: Periode | B2: Bulanan
A3: Polarisasi | B3: Minimal
E5: 80
A6: Periode | B6: Realisasi | C6: Target (100%) | D6: Treshold Min | E6: Skor | F6: Status
A7: Januari | B7: 84 | C7: 70 | D7: 80 | E7: =IF(ISBLANK(B7), 0,IF(B7<=C7, 100, IF(B7>=D7, IF(B7=D7, 80, 0), 100 - ((B7-C7)/(D7-C7) * 20)))) -> 0 | F7: =IF(ISBLANK(B7), "isi data dulu", IF(B7<=C7, "sesuai target", IF(AND(B7>C7,B7<=D7), "di dalam target", IF(B7>D7, "melebihi batas", "")))) -> melebihi batas
A8: Februari | B8: 89 | C8: 70 | D8: 80 | E8: =IF(ISBLANK(B8), 0,IF(B8<=C8, 100, IF(B8>=D8, IF(B8=D8, 80, 0), 100 - ((B8-C8)/(D8-C8) * 20)))) -> 0 | F8: =IF(ISBLANK(B8), "isi data dulu", IF(B8<=C8, "sesuai target", IF(AND(B8>C8,B8<=D8), "di dalam target", IF(B8>D8, "melebihi batas", "")))) -> melebihi batas
A9: Maret | B9: 82 | C9: 70 | D9: 80 | E9: =IF(ISBLANK(B9), 0,IF(B9<=C9, 100, IF(B9>=D9, IF(B9=D9, 80, 0), 100 - ((B9-C9)/(D9-C9) * 20)))) -> 0 | F9: =IF(ISBLANK(B9), "isi data dulu", IF(B9<=C9, "sesuai target", IF(AND(B9>C9,B9<=D9), "di dalam target", IF(B9>D9, "melebihi batas", "")))) -> melebihi batas
A10: April | B10: 79 | C10: 70 | D10: 80 | E10: =IF(ISBLANK(B10), 0,IF(B10<=C10, 100, IF(B10>=D10, IF(B10=D10, 80, 0), 100 - ((B10-C10)/(D10-C10) * 20)))) -> 82 | F10: =IF(ISBLANK(B10), "isi data dulu", IF(B10<=C10, "sesuai target", IF(AND(B10>C10,B10<=D10), "di dalam target", IF(B10>D10, "melebihi batas", "")))) -> di dalam target
A11: Mei | B11: 77 | C11: 70 | D11: 80 | E11: =IF(ISBLANK(B11), 0,IF(B11<=C11, 100, IF(B11>=D11, IF(B11=D11, 80, 0), 100 - ((B11-C11)/(D11-C11) * 20)))) -> 86 | F11: =IF(ISBLANK(B11), "isi data dulu", IF(B11<=C11, "sesuai target", IF(AND(B11>C11,B11<=D11), "di dalam target", IF(B11>D11, "melebihi batas", "")))) -> di dalam target
A12: Juni | B12: 81 | C12: 70 | D12: 80 | E12: =IF(ISBLANK(B12), 0,IF(B12<=C12, 100, IF(B12>=D12, IF(B12=D12, 80, 0), 100 - ((B12-C12)/(D12-C12) * 20)))) -> 0 | F12: =IF(ISBLANK(B12), "isi data dulu", IF(B12<=C12, "sesuai target", IF(AND(B12>C12,B12<=D12), "di dalam target", IF(B12>D12, "melebihi batas", "")))) -> melebihi batas
A13: Juli | B13: 78 | C13: 70 | D13: 80 | E13: =IF(ISBLANK(B13), 0,IF(B13<=C13, 100, IF(B13>=D13, IF(B13=D13, 80, 0), 100 - ((B13-C13)/(D13-C13) * 20)))) -> 84 | F13: =IF(ISBLANK(B13), "isi data dulu", IF(B13<=C13, "sesuai target", IF(AND(B13>C13,B13<=D13), "di dalam target", IF(B13>D13, "melebihi batas", "")))) -> di dalam target
A14: Agustus | B14: 79.41 | C14: 70 | D14: 80 | E14: =IF(ISBLANK(B14), 0,IF(B14<=C14, 100, IF(B14>=D14, IF(B14=D14, 80, 0), 100 - ((B14-C14)/(D14-C14) * 20)))) -> 81.18 | F14: =IF(ISBLANK(B14), "isi data dulu", IF(B14<=C14, "sesuai target", IF(AND(B14>C14,B14<=D14), "di dalam target", IF(B14>D14, "melebihi batas", "")))) -> di dalam target
A15: September | B15: 78.53 | C15: 70 | D15: 80 | E15: =IF(ISBLANK(B15), 0,IF(B15<=C15, 100, IF(B15>=D15, IF(B15=D15, 80, 0), 100 - ((B15-C15)/(D15-C15) * 20)))) -> 82.94 | F15: =IF(ISBLANK(B15), "isi data dulu", IF(B15<=C15, "sesuai target", IF(AND(B15>C15,B15<=D15), "di dalam target", IF(B15>D15, "melebihi batas", "")))) -> di dalam target
A16: Oktober | C16: 70 | D16: 80 | E16: =IF(ISBLANK(B16), 0,IF(B16<=C16, 100, IF(B16>=D16, IF(B16=D16, 80, 0), 100 - ((B16-C16)/(D16-C16) * 20)))) -> 0 | F16: =IF(ISBLANK(B16), "isi data dulu", IF(B16<=C16, "sesuai target", IF(AND(B16>C16,B16<=D16), "di dalam target", IF(B16>D16, "melebihi batas", "")))) -> isi data dulu
A17: November | C17: 70 | D17: 80 | E17: =IF(ISBLANK(B17), 0,IF(B17<=C17, 100, IF(B17>=D17, IF(B17=D17, 80, 0), 100 - ((B17-C17)/(D17-C17) * 20)))) -> 0 | F17: =IF(ISBLANK(B17), "isi data dulu", IF(B17<=C17, "sesuai target", IF(AND(B17>C17,B17<=D17), "di dalam target", IF(B17>D17, "melebihi batas", "")))) -> isi data dulu
A18: Desember | C18: 70 | D18: 80 | E18: =IF(ISBLANK(B18), 0,IF(B18<=C18, 100, IF(B18>=D18, IF(B18=D18, 80, 0), 100 - ((B18-C18)/(D18-C18) * 20)))) -> 0 | F18: =IF(ISBLANK(B18), "isi data dulu", IF(B18<=C18, "sesuai target", IF(AND(B18>C18,B18<=D18), "di dalam target", IF(B18>D18, "melebihi batas", "")))) -> isi data dulu
A19: Total | B19: =SUM(B7:B18) -> 727.94 | C19: =SUM(C7:C18) -> 840 | D19: =SUM(D7:D18) -> 960 | E19: =IF(ISBLANK(B19), 0,IF(B19<=C19, 100, IF(B19>=D19, IF(B19=D19, 80, 0), 100 - ((B19-C19)/(D19-C19) * 20)))) -> 100 | F19: =IF(ISBLANK(B19), "isi data dulu", IF(B19<=C19, "sesuai target", IF(AND(B19>C19,B19<=D19), "di dalam target", IF(B19>D19, "melebihi batas", "")))) -> sesuai target

Sheet F2a
A1: Nama KPI | B1: % | C1: Penurunan Production Cost | E1: Masih didiskusikan sama FA
A2: Periode | B2: Bulanan
A3: Polarisasi | B3: Maksimal
A6: Periode | B6: Achievement | C6: Realisasi | D6: Target (100%) | E6: Treshold Min | F6: Skor | G6: Status
A7: Januari | B7: 26.495.796 | C7: 2804000000 | D7: 100000000 | E7: =D7-(D7*20%) -> 80000000 | F7: =C7/D7*100 -> 2804 | G7: =IF(ISBLANK(B7), "isi data dulu",IF(C7>D7, "Melebihi target", IF(AND(C7>=E7, C7<=D7), "Di dalam target", "Dibawah target"))) -> Melebihi target
A8: Februari | B8: 60440443 | C8: 2855000000 | D8: 200000000 | E8: =D8-(D8*20%) -> 160000000 | F8: =C8/D8*100 -> 1427.5 | G8: =IF(ISBLANK(B8), "isi data dulu",IF(C8>D8, "Melebihi target", IF(AND(C8>=E8, C8<=D8), "Di dalam target", "Dibawah target"))) -> Melebihi target
A9: Maret | B9: 46337984 | C9: =B9+C8 -> 2.901338e+09 | D9: 300000000 | E9: =D9-(D9*20%) -> 240000000 | F9: =C9/D9*100 -> 967.11266 | G9: =IF(ISBLANK(B9), "isi data dulu",IF(C9>D9, "Melebihi target", IF(AND(C9>=E9, C9<=D9), "Di dalam target", "Dibawah target"))) -> Melebihi target
A10: April | B10: 1.88822e+08 | C10: =B10+C9 -> 3.09016e+09 | D10: 400000000 | E10: =D10-(D10*20%) -> 320000000 | F10: =C10/D10*100 -> 772.54 | G10: =IF(ISBLANK(B10), "isi data dulu",IF(C10>D10, "Melebihi target", IF(AND(C10>=E10, C10<=D10), "Di dalam target", "Dibawah target"))) -> Melebihi target
A11: Mei | B11: 1.6185703e+08 | C11: =B11+C10 -> 3.252017e+09 | D11: 500000000 | E11: =D11-(D11*20%) -> 400000000 | F11: =C11/D11*100 -> 650.4034 | G11: =IF(ISBLANK(B11), "isi data dulu",IF(C11>D11, "Melebihi target", IF(AND(C11>=E11, C11<=D11), "Di dalam target", "Dibawah target"))) -> Melebihi target
A12: Juni | B12: 2.2013688e+08 | C12: =B12+C11 -> 3.4721539e+09 | D12: 600000000 | E12: =D12-(D12*20%) -> 480000000 | F12: =C12/D12*100 -> 578.69232 | G12: =IF(ISBLANK(B12), "isi data dulu",IF(C12>D12, "Melebihi target", IF(AND(C12>=E12, C12<=D12), "Di dalam target", "Dibawah target"))) -> Melebihi target
A13: Juli | B13: 1.5085703e+08 | C13: =B13+C12 -> 3.6230109e+09 | D13: 700000000 | E13: =D13-(D13*20%) -> 560000000 | F13: =C13/D13*100 -> 517.57299 | G13: =IF(ISBLANK(B13), "isi data dulu",IF(C13>D13, "Melebihi target", IF(AND(C13>=E13, C13<=D13), "Di dalam target", "Dibawah target"))) -> Melebihi target
A14: Agustus | B14: 1.2881586e+08 | C14: =B14+C13 -> 3.7518268e+09 | D14: 800000000 | E14: =D14-(D14*20%) -> 640000000 | F14: =C14/D14*100 -> 468.97835 | G14: =IF(ISBLANK(B14), "isi data dulu",IF(C14>D14, "Melebihi target", IF(AND(C14>=E14, C14<=D14), "Di dalam target", "Dibawah target"))) -> Melebihi target
A15: September | B15: 1.6782168e+08 | C15: =B15+C14 -> 3.9196485e+09 | D15: 900000000 | E15: =D15-(D15*20%) -> 720000000 | F15: =C15/D15*100 -> 435.5165 | G15: =IF(ISBLANK(B15), "isi data dulu",IF(C15>D15, "Melebihi target", IF(AND(C15>=E15, C15<=D15), "Di dalam target", "Dibawah target"))) -> Melebihi target
A16: Oktober | B16: 1.7485136e+08 | C16: =B16+C15 -> 4.0944998e+09 | D16: 1000000000 | E16: =D16-(D16*20%) -> 800000000 | F16: =C16/D16*100 -> 409.44998 | G16: =IF(ISBLANK(B16), "isi data dulu",IF(C16>D16, "Melebihi target", IF(AND(C16>=E16, C16<=D16), "Di dalam target", "Dibawah target"))) -> Melebihi target
A17: November | B17: 1.7190539e+08 | C17: =B17+C16 -> 4.2664052e+09 | D17: 1100000000 | E17: =D17-(D17*20%) -> 880000000 | F17: =C17/D17*100 -> 387.85502 | G17: =IF(ISBLANK(B17), "isi data dulu",IF(C17>D17, "Melebihi target", IF(AND(C17>=E17, C17<=D17), "Di dalam target", "Dibawah target"))) -> Melebihi target
A18: Desember | B18: 65065225 | C18: =B18+C17 -> 4.3314705e+09 | D18: 1200000000 | E18: =D18-(D18*20%) -> 960000000 | F18: =C18/D18*100 -> 360.95587 | G18: =IF(ISBLANK(B18), "isi data dulu",IF(C18>D18, "Melebihi target", IF(AND(C18>=E18, C18<=D18), "Di dalam target", "Dibawah target"))) -> Melebihi target

Sheet C1a
A1: Nama KPI | B1: # | C1: Indeks Kepuasan Outlet & Customer | F1: Skala 1-5
A2: Periode | B2: Quarter (3bln)
A3: Polarisasi | B3: Maksimal | E3: Note: Ridho: Q3 akan dirilis mulai Agustus. Kemudian ada business improvement untuk CK berupa Form Evaluasi yang akan didisukiskan bersama Pak Budi
A6: Periode | B6: Total responden outlet | C6: Rata-rata penilaian responden outlet | D6: Total responden non outlet | E6: Rata-rata penilaian responden nonoutlet | F6: Realisasi | G6: Target (100%) | H6: Treshold Min | I6: Skor | J6: Status | K6: Keterangan
A7: Q1 | B7: 17 | C7: 3.28 | F7: =AVERAGE(E7,C7) -> 3.28 | G7: 4.5 | H7: 4 | I7: =IF(ISBLANK(F7), 0,IF(F7<H7, 0, IF(F7=H7, 80, IF(F7=G7, 100, IF(F7<G7, 80 + (F7-H7)/(G7-H7)*(100-80), 100 + (F7-G7)/(G7-H7)*(100-80)))))) -> 0 | J7: =IF(ISBLANK(F7), "isi data dulu",IF(F7 < H7, "Dibawah target", IF(F7 <= G7, "Di dalam target", "Melebihi target"))) -> Dibawah target
A8: Q2 | B8: 28 | C8: 3.34 | F8: =AVERAGE(E8,C8) -> 3.34 | G8: 4.5 | H8: 4 | I8: =IF(ISBLANK(F8), 0,IF(F8<H8, 0, IF(F8=H8, 80, IF(F8=G8, 100, IF(F8<G8, 80 + (F8-H8)/(G8-H8)*(100-80), 100 + (F8-G8)/(G8-H8)*(100-80)))))) -> 0 | J8: =IF(ISBLANK(F8), "isi data dulu",IF(F8 < H8, "Dibawah target", IF(F8 <= G8, "Di dalam target", "Melebihi target"))) -> Dibawah target
A9: Q3 | F9: =AVERAGE(E9,C9) -> #DIV/0! | G9: 4.5 | H9: 4 | I9: =IF(ISBLANK(F9), 0,IF(F9<H9, 0, IF(F9=H9, 80, IF(F9=G9, 100, IF(F9<G9, 80 + (F9-H9)/(G9-H9)*(100-80), 100 + (F9-G9)/(G9-H9)*(100-80)))))) -> #DIV/0! | J9: =IF(ISBLANK(F9), "isi data dulu",IF(F9 < H9, "Dibawah target", IF(F9 <= G9, "Di dalam target", "Melebihi target"))) -> #DIV/0!
A10: Q4 | F10: =AVERAGE(E10,C10) -> #DIV/0! | G10: 4.5 | H10: 4 | I10: =IF(ISBLANK(F10), 0,IF(F10<H10, 0, IF(F10=H10, 80, IF(F10=G10, 100, IF(F10<G10, 80 + (F10-H10)/(G10-H10)*(100-80), 100 + (F10-G10)/(G10-H10)*(100-80)))))) -> #DIV/0! | J10: =IF(ISBLANK(F10), "isi data dulu",IF(F10 < H10, "Dibawah target", IF(F10 <= G10, "Di dalam target", "Melebihi target"))) -> #DIV/0!

Sheet B1a
A1: Nama KPI | B1: # | C1: Temuan Audit Mutu & Finance
A2: Periode | B2: Quarter (3bln)
A3: Polarisasi | B3: Minimal
C5: Temuan Mayor
A6: Periode | B6: Realisasi | C6: Target (100%) | D6: Treshold Min | E6: Skor | F6: Status
A7: Q1 | B7: 5 | C7: 0 | D7: 1 | E7: =IF(ISBLANK(B7), 0,IF(B7<=C7, 100, IF(B7>=D7, IF(B7=D7, 80, 0), 100 - ((B7-C7)/(D7-C7) * 20)))) -> 0 | F7: =IF(ISBLANK(B7), "isi data dulu", IF(B7<=C7, "sesuai target", IF(AND(B7>C7,B7<=D7), "di dalam target", IF(B7>D7, "melebihi batas", "")))) -> melebihi batas
A8: Q2 | B8: 4 | C8: 0 | D8: 1 | E8: =IF(ISBLANK(B8), 0,IF(B8<=C8, 100, IF(B8>=D8, IF(B8=D8, 80, 0), 100 - ((B8-C8)/(D8-C8) * 20)))) -> 0 | F8: =IF(ISBLANK(B8), "isi data dulu", IF(B8<=C8, "sesuai target", IF(AND(B8>C8,B8<=D8), "di dalam target", IF(B8>D8, "melebihi batas", "")))) -> melebihi batas
A9: Q3 | C9: 0 | D9: 1 | E9: =IF(ISBLANK(B9), 0,IF(B9<=C9, 100, IF(B9>=D9, IF(B9=D9, 80, 0), 100 - ((B9-C9)/(D9-C9) * 20)))) -> 0 | F9: =IF(ISBLANK(B9), "isi data dulu", IF(B9<=C9, "sesuai target", IF(AND(B9>C9,B9<=D9), "di dalam target", IF(B9>D9, "melebihi batas", "")))) -> isi data dulu
A10: Q4 | C10: 0 | D10: 1 | E10: =IF(ISBLANK(B10), 0,IF(B10<=C10, 100, IF(B10>=D10, IF(B10=D10, 80, 0), 100 - ((B10-C10)/(D10-C10) * 20)))) -> 0 | F10: =IF(ISBLANK(B10), "isi data dulu", IF(B10<=C10, "sesuai target", IF(AND(B10>C10,B10<=D10), "di dalam target", IF(B10>D10, "melebihi batas", "")))) -> isi data dulu
B11: =SUM(Table4[Realisasi]) -> #VALUE! | C11: =SUM(Table4[Target (100%)]) -> #VALUE! | D11: =SUM(Table4[Treshold Min]) -> #VALUE! | E11: =IF(ISBLANK(B11), 0,IF(B11<=C11, 100, IF(B11>=D11, IF(B11=D11, 80, 0), 100 - ((B11-C11)/(D11-C11) * 20)))) -> #VALUE!

Sheet B1b
A1: Nama KPI | B1: # | C1: Sertifikasi Mutu | D1: Serifikasi BPOM
A2: Periode | B2: Quarter (3bln) | D2: halal lumbung rawit
A3: Polarisasi | B3: Maksimal
C5: Skala 1-5
A6: Periode | B6: Realisasi | C6: Target (100%) | D6: Treshold Min | E6: Skor | F6: Status
A7: Q1 | B7: 4 | C7: 3 | D7: 3 | E7: 10 | F7: =IF(ISBLANK(B7), "isi data dulu",IF(B7 < D7, "Dibawah target", IF(B7 <= C7, "Di dalam target", "Melebihi target"))) -> Melebihi target
A8: Q2 | B8: 1 | C8: 3 | D8: 3 | E8: =IF(ISBLANK(B8), 0,IF(B8<D8, 0, IF(B8=D8, 80, IF(B8=C8, 100, IF(B8<C8, 80 + (B8-D8)/(C8-D8)*(100-80), 100 + (B8-C8)/(C8-D8)*(100-80)))))) -> 0 | F8: =IF(ISBLANK(B8), "isi data dulu",IF(B8 < D8, "Dibawah target", IF(B8 <= C8, "Di dalam target", "Melebihi target"))) -> Dibawah target
A9: Q3 | B9: 0 | C9: 4 | D9: 3 | E9: =IF(ISBLANK(B9), 0,IF(B9<D9, 0, IF(B9=D9, 80, IF(B9=C9, 100, IF(B9<C9, 80 + (B9-D9)/(C9-D9)*(100-80), 100 + (B9-C9)/(C9-D9)*(100-80)))))) -> 0 | F9: =IF(ISBLANK(B9), "isi data dulu",IF(B9 < D9, "Dibawah target", IF(B9 <= C9, "Di dalam target", "Melebihi target"))) -> Dibawah target
A10: Q4 | C10: 4 | D10: 3 | E10: =IF(ISBLANK(B10), 0,IF(B10<D10, 0, IF(B10=D10, 80, IF(B10=C10, 100, IF(B10<C10, 80 + (B10-D10)/(C10-D10)*(100-80), 100 + (B10-C10)/(C10-D10)*(100-80)))))) -> 0 | F10: =IF(ISBLANK(B10), "isi data dulu",IF(B10 < D10, "Dibawah target", IF(B10 <= C10, "Di dalam target", "Melebihi target"))) -> isi data dulu
B11: =SUM(Table3_6[Realisasi]) -> 5 | C11: =SUM(Table3_6[Target (100%)]) -> 14 | D11: =SUM(Table3_6[Treshold Min]) -> 12 | E11: =Table3_6[[#Totals],[Realisasi]]/Table3_6[[#Totals],[Target (100%)]]*100 -> 35.714286

Sheet B2a
A1: Nama KPI | B1: # | C1: Inovasi Produk yang Di Release | E1: Untuk kategori: Menu baru, Perbaikan menu (makanan atau minuman), perbaikan proses produksi.
A2: Periode | B2: Quarter (3bln) | E2: Menu baru tidak harus dipantenkan, misalnya menu seasonal (e.g: McD Beef Prosperity)
A3: Polarisasi | B3: Maksimal
A6: Periode | B6: Realisasi | C6: Target (100%) | D6: Treshold Min | E6: Skor | F6: Status
A7: Q1 | B7: 4 | C7: 5 | D7: 3 | E7: =IF(ISBLANK(B7), 0,IF(B7<D7, 0, IF(B7=D7, 80, IF(B7=C7, 100, IF(B7<C7, 80 + (B7-D7)/(C7-D7)*(100-80), 100 + (B7-C7)/(C7-D7)*(100-80)))))) -> 90 | F7: =IF(ISBLANK(B7), "isi data dulu",IF(B7 < D7, "Dibawah target", IF(B7 <= C7, "Di dalam target", "Melebihi target"))) -> Di dalam target
A8: Q2 | B8: 5 | C8: 5 | D8: 3 | E8: =IF(ISBLANK(B8), 0,IF(B8<D8, 0, IF(B8=D8, 80, IF(B8=C8, 100, IF(B8<C8, 80 + (B8-D8)/(C8-D8)*(100-80), 100 + (B8-C8)/(C8-D8)*(100-80)))))) -> 100 | F8: =IF(ISBLANK(B8), "isi data dulu",IF(B8 < D8, "Dibawah target", IF(B8 <= C8, "Di dalam target", "Melebihi target"))) -> Di dalam target
A9: Q3 | B9: 4 | C9: 5 | D9: 3 | E9: =IF(ISBLANK(B9), 0,IF(B9<D9, 0, IF(B9=D9, 80, IF(B9=C9, 100, IF(B9<C9, 80 + (B9-D9)/(C9-D9)*(100-80), 100 + (B9-C9)/(C9-D9)*(100-80)))))) -> 90 | F9: =IF(ISBLANK(B9), "isi data dulu",IF(B9 < D9, "Dibawah target", IF(B9 <= C9, "Di dalam target", "Melebihi target"))) -> Di dalam target
A10: Q4 | C10: 5 | D10: 3 | E10: =IF(ISBLANK(B10), 0,IF(B10<D10, 0, IF(B10=D10, 80, IF(B10=C10, 100, IF(B10<C10, 80 + (B10-D10)/(C10-D10)*(100-80), 100 + (B10-C10)/(C10-D10)*(100-80)))))) -> 0 | F10: =IF(ISBLANK(B10), "isi data dulu",IF(B10 < D10, "Dibawah target", IF(B10 <= C10, "Di dalam target", "Melebihi target"))) -> isi data dulu
B11: =SUM(Table3_7[Realisasi]) -> 13 | C11: =SUBTOTAL(109,Table3_7[Target (100%)]) -> 20 | D11: =SUBTOTAL(109,Table3_7[Treshold Min]) -> 12 | E11: =Table3_7[[#Totals],[Realisasi]]/Table3_7[[#Totals],[Target (100%)]]*100 -> 65

Sheet B3a
A1: Nama KPI | B1: % | C1: Deviasi Stok | D1: Selisih barang datang
A2: Periode | B2: Bulanan | D2: Temuan seringkali di: Barang datang, preparation
A3: Polarisasi | B3: Maksimal | D3: Gudang seharusnya 0%; Produksi bisa selisih atau bisa tambah karena ada penyusutan atau penambahan air; Preparation juga bisa kurang, contoh proses pembuangan lemak.
A6: Periode | B6: Realisasi | C6: Target (100%) | D6: Treshold Min | E6: Skor | F6: Status
A7: Januari | B7: 95 | C7: 100 | D7: 0.9 | E7: =IF(ISBLANK(B7), 0,IF(B7<=C7, 100, IF(B7>=D7, IF(B7=D7, 80, 0), 100 - ((B7-C7)/(D7-C7) * 20)))) -> 100 | F7: =IF(ISBLANK(B7), "isi data dulu", IF(B7<=C7, "sesuai target", IF(AND(B7>C7,B7<=D7), "di dalam target", IF(B7>D7, "melebihi batas", "")))) -> sesuai target
A8: Februari | B8: 87 | C8: 100 | D8: 0.9 | E8: =IF(ISBLANK(B8), 0,IF(B8<=C8, 100, IF(B8>=D8, IF(B8=D8, 80, 0), 100 - ((B8-C8)/(D8-C8) * 20)))) -> 100 | F8: =IF(ISBLANK(B8), "isi data dulu", IF(B8<=C8, "sesuai target", IF(AND(B8>C8,B8<=D8), "di dalam target", IF(B8>D8, "melebihi batas", "")))) -> sesuai target
A9: Maret | B9: 85 | C9: 100 | D9: 0.9 | E9: =IF(ISBLANK(B9), 0,IF(B9<=C9, 100, IF(B9>=D9, IF(B9=D9, 80, 0), 100 - ((B9-C9)/(D9-C9) * 20)))) -> 100 | F9: =IF(ISBLANK(B9), "isi data dulu", IF(B9<=C9, "sesuai target", IF(AND(B9>C9,B9<=D9), "di dalam target", IF(B9>D9, "melebihi batas", "")))) -> sesuai target
A10: April | B10: 84 | C10: 100 | D10: 0.9 | E10: =IF(ISBLANK(B10), 0,IF(B10<=C10, 100, IF(B10>=D10, IF(B10=D10, 80, 0), 100 - ((B10-C10)/(D10-C10) * 20)))) -> 100 | F10: =IF(ISBLANK(B10), "isi data dulu", IF(B10<=C10, "sesuai target", IF(AND(B10>C10,B10<=D10), "di dalam target", IF(B10>D10, "melebihi batas", "")))) -> sesuai target
A11: Mei | B11: 85 | C11: 100 | D11: 0.9 | E11: =IF(ISBLANK(B11), 0,IF(B11<=C11, 100, IF(B11>=D11, IF(B11=D11, 80, 0), 100 - ((B11-C11)/(D11-C11) * 20)))) -> 100 | F11: =IF(ISBLANK(B11), "isi data dulu", IF(B11<=C11, "sesuai target", IF(AND(B11>C11,B11<=D11), "di dalam target", IF(B11>D11, "melebihi batas", "")))) -> sesuai target
A12: Juni | B12: 96 | C12: 100 | D12: 0.9 | E12: =IF(ISBLANK(B12), 0,IF(B12<=C12, 100, IF(B12>=D12, IF(B12=D12, 80, 0), 100 - ((B12-C12)/(D12-C12) * 20)))) -> 100 | F12: =IF(ISBLANK(B12), "isi data dulu", IF(B12<=C12, "sesuai target", IF(AND(B12>C12,B12<=D12), "di dalam target", IF(B12>D12, "melebihi batas", "")))) -> sesuai target
A13: Juli | B13: 98 | C13: 100 | D13: 0.9 | E13: =IF(ISBLANK(B13), 0,IF(B13<=C13, 100, IF(B13>=D13, IF(B13=D13, 80, 0), 100 - ((B13-C13)/(D13-C13) * 20)))) -> 100 | F13: =IF(ISBLANK(B13), "isi data dulu", IF(B13<=C13, "sesuai target", IF(AND(B13>C13,B13<=D13), "di dalam target", IF(B13>D13, "melebihi batas", "")))) -> sesuai target
A14: Agustus | B14: 99 | C14: 100 | D14: 0.9 | E14: =IF(ISBLANK(B14), 0,IF(B14<=C14, 100, IF(B14>=D14, IF(B14=D14, 80, 0), 100 - ((B14-C14)/(D14-C14) * 20)))) -> 100 | F14: =IF(ISBLANK(B14), "isi data dulu", IF(B14<=C14, "sesuai target", IF(AND(B14>C14,B14<=D14), "di dalam target", IF(B14>D14, "melebihi batas", "")))) -> sesuai target
A15: September | B15: 99 | C15: 100 | D15: 0.9 | E15: =IF(ISBLANK(B15), 0,IF(B15<=C15, 100, IF(B15>=D15, IF(B15=D15, 80, 0), 100 - ((B15-C15)/(D15-C15) * 20)))) -> 100 | F15: =IF(ISBLANK(B15), "isi data dulu", IF(B15<=C15, "sesuai target", IF(AND(B15>C15,B15<=D15), "di dalam target", IF(B15>D15, "melebihi batas", "")))) -> sesuai target
A16: Oktober | C16: 100 | D16: 0.62 | E16: =IF(ISBLANK(B16), 0,IF(B16<=C16, 100, IF(B16>=D16, IF(B16=D16, 80, 0), 100 - ((B16-C16)/(D16-C16) * 20)))) -> 0 | F16: =IF(ISBLANK(B16), "isi data dulu", IF(B16<=C16, "sesuai target", IF(AND(B16>C16,B16<=D16), "di dalam target", IF(B16>D16, "melebihi batas", "")))) -> isi data dulu
A17: November | C17: 100 | D17: 0.62 | E17: =IF(ISBLANK(B17), 0,IF(B17<=C17, 100, IF(B17>=D17, IF(B17=D17, 80, 0), 100 - ((B17-C17)/(D17-C17) * 20)))) -> 0 | F17: =IF(ISBLANK(B17), "isi data dulu", IF(B17<=C17, "sesuai target", IF(AND(B17>C17,B17<=D17), "di dalam target", IF(B17>D17, "melebihi batas", "")))) -> isi data dulu
A18: Desember | C18: 100 | D18: 0.62 | E18: =IF(ISBLANK(B18), 0,IF(B18<=C18, 100, IF(B18>=D18, IF(B18=D18, 80, 0), 100 - ((B18-C18)/(D18-C18) * 20)))) -> 0 | F18: =IF(ISBLANK(B18), "isi data dulu", IF(B18<=C18, "sesuai target", IF(AND(B18>C18,B18<=D18), "di dalam target", IF(B18>D18, "melebihi batas", "")))) -> isi data dulu
B19: =AVERAGE(Table4_2[Realisasi]) -> 92 | C19: =SUBTOTAL(101,Table4_2[Target (100%)]) -> 100 | D19: =SUBTOTAL(101,Table4_2[Treshold Min]) -> 0.83 | E19: =Table4_2[[#Totals],[Realisasi]]/Table4_2[[#Totals],[Target (100%)]]*100 -> 92

Sheet L2a
A1: Nama KPI | B1: # | C1: Rata-rata Jam Learning Karyawan | E1: (Berbagai metode case study, training, LMS, OJT, dll)
A2: Periode | B2: Bulanan
A3: Polarisasi | B3: Maksimal
A6: Periode | B6: Realisasi | C6: Target (100%) | D6: Treshold Min | E6: Skor | F6: Status
A7: Januari | B7: 6 | C7: 3 | D7: 2 | E7: =IF(ISBLANK(B7), 0,IF(B7<D7, 0, IF(B7=D7, 80, IF(B7=C7, 100, IF(B7<C7, 80 + (B7-D7)/(C7-D7)*(100-80), 100 + (B7-C7)/(C7-D7)*(100-80)))))) -> 160 | F7: =IF(ISBLANK(B7), "isi data dulu",IF(B7 < D7, "Dibawah target", IF(B7 <= C7, "Di dalam target", "Melebihi target"))) -> Melebihi target
A8: Februari | B8: 6 | C8: 3 | D8: 2 | E8: =IF(ISBLANK(B8), 0,IF(B8<D8, 0, IF(B8=D8, 80, IF(B8=C8, 100, IF(B8<C8, 80 + (B8-D8)/(C8-D8)*(100-80), 100 + (B8-C8)/(C8-D8)*(100-80)))))) -> 160 | F8: =IF(ISBLANK(B8), "isi data dulu",IF(B8 < D8, "Dibawah target", IF(B8 <= C8, "Di dalam target", "Melebihi target"))) -> Melebihi target
A9: Maret | B9: 3 | C9: 3 | D9: 2 | E9: =IF(ISBLANK(B9), 0,IF(B9<D9, 0, IF(B9=D9, 80, IF(B9=C9, 100, IF(B9<C9, 80 + (B9-D9)/(C9-D9)*(100-80), 100 + (B9-C9)/(C9-D9)*(100-80)))))) -> 100 | F9: =IF(ISBLANK(B9), "isi data dulu",IF(B9 < D9, "Dibawah target", IF(B9 <= C9, "Di dalam target", "Melebihi target"))) -> Di dalam target
A10: April | B10: 2 | C10: 3 | D10: 2 | E10: =IF(ISBLANK(B10), 0,IF(B10<D10, 0, IF(B10=D10, 80, IF(B10=C10, 100, IF(B10<C10, 80 + (B10-D10)/(C10-D10)*(100-80), 100 + (B10-C10)/(C10-D10)*(100-80)))))) -> 80 | F10: =IF(ISBLANK(B10), "isi data dulu",IF(B10 < D10, "Dibawah target", IF(B10 <= C10, "Di dalam target", "Melebihi target"))) -> Di dalam target
A11: Mei | B11: 0 | C11: 3 | D11: 2 | E11: =IF(ISBLANK(B11), 0,IF(B11<D11, 0, IF(B11=D11, 80, IF(B11=C11, 100, IF(B11<C11, 80 + (B11-D11)/(C11-D11)*(100-80), 100 + (B11-C11)/(C11-D11)*(100-80)))))) -> 0 | F11: Dibawah target
A12: Juni | B12: 0.2 | C12: 3 | D12: 2 | E12: =IF(ISBLANK(B12), 0,IF(B12<D12, 0, IF(B12=D12, 80, IF(B12=C12, 100, IF(B12<C12, 80 + (B12-D12)/(C12-D12)*(100-80), 100 + (B12-C12)/(C12-D12)*(100-80)))))) -> 0 | F12: =IF(ISBLANK(B12), "isi data dulu",IF(B12 < D12, "Dibawah target", IF(B12 <= C12, "Di dalam target", "Melebihi target"))) -> Dibawah target
A13: Juli | B13: 0.8 | C13: 3 | D13: 2 | E13: =IF(ISBLANK(B13), 0,IF(B13<D13, 0, IF(B13=D13, 80, IF(B13=C13, 100, IF(B13<C13, 80 + (B13-D13)/(C13-D13)*(100-80), 100 + (B13-C13)/(C13-D13)*(100-80)))))) -> 0 | F13: =IF(ISBLANK(B13), "isi data dulu",IF(B13 < D13, "Dibawah target", IF(B13 <= C13, "Di dalam target", "Melebihi target"))) -> Dibawah target
A14: Agustus | B14: 5.4 | C14: 3 | D14: 2 | E14: =IF(ISBLANK(B14), 0,IF(B14<D14, 0, IF(B14=D14, 80, IF(B14=C14, 100, IF(B14<C14, 80 + (B14-D14)/(C14-D14)*(100-80), 100 + (B14-C14)/(C14-D14)*(100-80)))))) -> 148 | F14: =IF(ISBLANK(B14), "isi data dulu",IF(B14 < D14, "Dibawah target", IF(B14 <= C14, "Di dalam target", "Melebihi target"))) -> Melebihi target
A15: September | C15: 3 | D15: 2 | E15: =IF(ISBLANK(B15), 0,IF(B15<D15, 0, IF(B15=D15, 80, IF(B15=C15, 100, IF(B15<C15, 80 + (B15-D15)/(C15-D15)*(100-80), 100 + (B15-C15)/(C15-D15)*(100-80)))))) -> 0 | F15: =IF(ISBLANK(B15), "isi data dulu",IF(B15 < D15, "Dibawah target", IF(B15 <= C15, "Di dalam target", "Melebihi target"))) -> isi data dulu
A16: Oktober | C16: 3 | D16: 2 | E16: =IF(ISBLANK(B16), 0,IF(B16<D16, 0, IF(B16=D16, 80, IF(B16=C16, 100, IF(B16<C16, 80 + (B16-D16)/(C16-D16)*(100-80), 100 + (B16-C16)/(C16-D16)*(100-80)))))) -> 0 | F16: =IF(ISBLANK(B16), "isi data dulu",IF(B16 < D16, "Dibawah target", IF(B16 <= C16, "Di dalam target", "Melebihi target"))) -> isi data dulu
A17: November | C17: 3 | D17: 2 | E17: =IF(ISBLANK(B17), 0,IF(B17<D17, 0, IF(B17=D17, 80, IF(B17=C17, 100, IF(B17<C17, 80 + (B17-D17)/(C17-D17)*(100-80), 100 + (B17-C17)/(C17-D17)*(100-80)))))) -> 0 | F17: =IF(ISBLANK(B17), "isi data dulu",IF(B17 < D17, "Dibawah target", IF(B17 <= C17, "Di dalam target", "Melebihi target"))) -> isi data dulu
A18: Desember | C18: 3 | D18: 2 | E18: =IF(ISBLANK(B18), 0,IF(B18<D18, 0, IF(B18=D18, 80, IF(B18=C18, 100, IF(B18<C18, 80 + (B18-D18)/(C18-D18)*(100-80), 100 + (B18-C18)/(C18-D18)*(100-80)))))) -> 0 | F18: =IF(ISBLANK(B18), "isi data dulu",IF(B18 < D18, "Dibawah target", IF(B18 <= C18, "Di dalam target", "Melebihi target"))) -> isi data dulu
B19: =SUM(Table3_8[Realisasi]) -> 23.4 | C19: =SUM(Table3_8[Target (100%)]) -> 36 | D19: =SUM(Table3_8[Treshold Min]) -> 24 | E19: =Table3_8[[#Totals],[Realisasi]]/Table3_8[[#Totals],[Target (100%)]]*100 -> 65

Sheet L2b
A1: Nama KPI | B1: # | C1: Candidate Readiness | E1: total karyawan ready/ total karyawan
A2: Periode | B2: Quarter (3bln)
A3: Polarisasi | B3: Maksimal
C5: pembulatan ke atas | D5: pembulatan ke bawah
A6: Periode | B6: Realisasi | C6: Target (100%) | D6: Treshold Min | E6: Skor | F6: Status
A7: Q1 | B7: 2 | C7: 3 | D7: 1 | E7: =IF(ISBLANK(B7), 0,IF(B7<D7, 0, IF(B7=D7, 80, IF(B7=C7, 100, IF(B7<C7, 80 + (B7-D7)/(C7-D7)*(100-80), 100 + (B7-C7)/(C7-D7)*(100-80)))))) -> 90 | F7: =IF(ISBLANK(B7), "isi data dulu",IF(B7 < D7, "Dibawah target", IF(B7 <= C7, "Di dalam target", "Melebihi target"))) -> Di dalam target
A8: Q2 | B8: 1 | C8: 3 | D8: 1 | E8: =IF(ISBLANK(B8), 0,IF(B8<D8, 0, IF(B8=D8, 80, IF(B8=C8, 100, IF(B8<C8, 80 + (B8-D8)/(C8-D8)*(100-80), 100 + (B8-C8)/(C8-D8)*(100-80)))))) -> 80 | F8: =IF(ISBLANK(B8), "isi data dulu",IF(B8 < D8, "Dibawah target", IF(B8 <= C8, "Di dalam target", "Melebihi target"))) -> Di dalam target
A9: Q3 | B9: 1 | C9: 3 | D9: 1 | E9: =IF(ISBLANK(B9), 0,IF(B9<D9, 0, IF(B9=D9, 80, IF(B9=C9, 100, IF(B9<C9, 80 + (B9-D9)/(C9-D9)*(100-80), 100 + (B9-C9)/(C9-D9)*(100-80)))))) -> 80 | F9: =IF(ISBLANK(B9), "isi data dulu",IF(B9 < D9, "Dibawah target", IF(B9 <= C9, "Di dalam target", "Melebihi target"))) -> Di dalam target
A10: Q4 | C10: 3 | D10: 1 | E10: =IF(ISBLANK(B10), 0,IF(B10<D10, 0, IF(B10=D10, 80, IF(B10=C10, 100, IF(B10<C10, 80 + (B10-D10)/(C10-D10)*(100-80), 100 + (B10-C10)/(C10-D10)*(100-80)))))) -> 0 | F10: =IF(ISBLANK(B10), "isi data dulu",IF(B10 < D10, "Dibawah target", IF(B10 <= C10, "Di dalam target", "Melebihi target"))) -> isi data dulu
B11: =SUM(Table1_11[Realisasi]) -> 4 | C11: 3 | D11: 1 | E11: =Table1_11[[#Totals],[Realisasi]]/Table1_11[[#Totals],[Target (100%)]]*100 -> 133.33333
