Workbook

Sheet KPI
B1: KEY PERFORMANCE INDICATOR
B2: Jabatan : GM Operational & Marketing
B4: Tanggal | K4: Departemen/Jabatan
B5: Nama/Jabatan | D5: William C. T. | K5: Nama Atasan/Jabatan
B6: Tanggal Bergabung | K6: Periode Kinerja | M6: 2025
B8: NO | D8: Perspektif & Sasaran Strategis KPI | F8: Formula | G8: Periode | H8: Verifikasi | I8: Sumber Data | J8: Realisasi Tahun | K8: Target 2025 | M8: Polarisasi | N8: UoM | O8: Realisasi (YTD) | P8: Target (YTD) | R8: Skor | S8: Bobot | T8: SKOR AKHIR (Skor x Bobot)
C9: #, %, IDR | E9: Sumber KPI | J9: 2024 | K9: Target 100% | L9: Treshold Min | O9: 2025 | P9: 2025 | S9: (%)
B10: FINANCIAL PERSPECTIVE | S10: 10 | AB10: Februari | AC10: 150000000
B11: F1 | C11: Meningkatkan Valuasi Bisnis | AB11: Maret | AC11: 65000000
B12: F1a | C12: # | D12: Omzet Existing | E12: VAM | F12: (omzet/ target)*100% | G12: Bulan | H12: Direktur | I12: 176 M | J12: 70 | K12: 1 | L12: 0.8 | M12: Maksimal | N12: Persentase | O12: =F1a!B19 -> 7.6488954e+10 | P12: =F1a!C19 -> 176000000000 | Q12: =F1a!D19 -> 140800000000 | R12: =F1a!E19 -> 43.459633 | S12: 10 | AB12: April | AC12: 120000000
B13: F1b | C13: % | D13: Omzet New Store | E13: VAM | F13: (omzet/ target)*100% | G13: Tahun | H13: Direktur | I13: 80 M | K13: 100 | L13: 80 | M13: Maksimal | N13: Persentase | S13: 10
C14: % | D14: ROI Outlet | E14: VAM | G14: Tahun | H14: Direktur | M14: Maksimal | N14: Persentase
B15: F1c | C15: % | D15: Profit | E15: VAM | F15: Realisasi/ Target | G15: Tahun | H15: Direktur | I15: 5,67 % | K15: 0.15 | L15: 0.12 | M15: Maksimal | N15: Persentase | O15: =Table3_8[[#Totals],[Realisasi]] -> 1.72 | P15: =Table3_8[[#Totals],[Target (100%)]] -> 15 | Q15: =Table3_8[[#Totals],[Treshold Min]] -> 12 | R15: =Table3_8[[#Totals],[Skor]] -> 11.466667 | S15: 8
C16: % | D16: Peningkatan Omzet | E16: VAM | G16: Tahun | H16: Direktur | M16: Maksimal | N16: Persentase
B17: F1d | C17: IDR | D17: Total Omzet Franchise | E17: VAM | F17: Management Fee, bukan omzet penjualan | G17: Tahun | H17: Direktur | M17: Maksimal | N17: Rupiah | S17: 5
B18: F1e | C18: % | D18: Kesesuaian FS vs Omzet | E18: Job Desc | F18: (Omzet/ nilai FS) *100% | G18: Project | H18: Direktur | I18: 1. Potensi nilai Omzet lokasi project di hitungan ROI+BEP 2. Nilai Omzet Actual per bulan selama Outlet opening | K18: 1 | L18: 0.8 | M18: Maksimal | N18: Persentase | O18: 0.6842 | P18: 1 | S18: 5
B19: F2 | C19: Cost Control | AB19: Mei | AC19: 340000000
B20: F2a | C20: IDR | D20: Average per transaksi | E20: VAM | F20: Total omzet/ Total bill | G20: Monthly | H20: FA | I20: BI | K20: 150000 | L20: 120000 | M20: Maksimal | N20: Rupiah | O20: =F2a!B19 -> 118003.44 | P20: =F2a!C19 -> 150000 | Q20: =F2a!D19 -> 120000 | R20: =F2a!E19 -> 0 | S20: 5 | AB20: Juni | AC20: 75000000
B21: CUSTOMER PERSPECTIVE | AB21: November
B22: C1 | C22: Menciptakan Satisfied Customer Experience | AB22: Desember
B23: C1a | C23: % | D23: Total transaksi | E23: Job Desc | F23: Total Transaksi | G23: Bulan | H23: Direktur | I23: BI | K23: 1 | L23: 0.8 | M23: Maksimal | N23: Persentase | O23: =C1a!B19 -> 656672 | P23: =C1a!C19 -> 1173333 | Q23: =C1a!D19 -> 938666.4 | R23: =C1a!E19 -> 55.96638 | S23: 5 | AC23: =SUM(AC9:AC22) -> 750000000 | AD23: =AC23/AC8 -> #DIV/0!
C24: # | D24: Indeks Kepuasan Pelanggan | E24: VAM | F24: Indeks | G24: Survey | H24: Direktur | M24: Maksimal | N24: Indeks | AC24: Realisasi YTD | AD24: Pencapaian YTD
B25: C1b | C25: # | D25: NPS | E25: VAM | F25: Indeks | G25: Survey | H25: Direktur | K25: 4.5 | L25: 4 | M25: Maksimal | N25: Indeks | S25: 3
B26: C1c | C26: # | D26: Google Review | E26: VAM | F26: Indeks | G26: Bulan | H26: Direktur | K26: 4.8 | L26: 4.5 | M26: Maksimal | N26: Indeks | O26: =Table3_4[[#Totals],[Realisasi]] -> 4.5888889 | P26: =Table3_4[[#Totals],[Target (100%)]] -> 4.8 | Q26: =Table3_4[[#Totals],[Treshold Min]] -> 4.5 | R26: =Table3_4[[#Totals],[Skor]] -> 58.333333 | S26: 3
B27: C1d | C27: # | D27: Komplain | E27: Job Desc | F27: Komplain yg diterima di call center/ medsos | G27: Bulan | H27: Direktur | K27: 12 | L27: 17 | M27: Minimal | N27: Komplain | O27: =C1d!B19 -> 167 | P27: =C1d!C19 -> 156 | Q27: =C1d!D19 -> 216 | R27: =C1d!E19 -> 96.333333 | S27: 4
B28: C2 | C28: Mengembangkan Kerjasama Bisnis
C29: # | D29: Total Franchise | E29: VAM | F29: Semua outlet Franchise yang sedang beroperasi | G29: Bulan | H29: Direktur | M29: Maksimal | N29: Franchise
B30: C2a | C30: # | D30: New Franchise | E30: Job Desc | F30: Outlet Franchise yang Beroperasi tahun 2025 | G30: Quarter | H30: Direktur | K30: 36 | L30: 12 | M30: Maksimal | N30: Franchise | S30: 3
B31: C2b | C31: # | D31: Total Outlet | E31: VAM | F31: Total semua outlet yang beroperasi | K31: 61 | L31: 55 | M31: Maksimal | N31: Outlet | S31: 4
B32: INTERNAL BUSINESS PROCESS PERSPECTIVE
B33: B1 | C33: Meningkatkan kualitas
B34: B1a | C34: # | D34: Temuan Audit Mutu & Finance | E34: HAM | F34: Temuan Kritis | G34: Audit | H34: Auditor | K34: 0 | L34: 1 | M34: Minimal | N34: Temuan | O34: =Table4_3[[#Totals],[Realisasi]] -> 17 | P34: =Table4_3[[#Totals],[Target (100%)]] -> 0 | Q34: =Table4_3[[#Totals],[Treshold Min]] -> 4 | R34: =Table4_3[[#Totals],[Skor]] -> 0 | S34: 10
B35: B1b | C35: # | D35: Sertifikasi Mutu | E35: VAM | F35: Sertifikasi mutu yang diperoleh | H35: QA | K35: 4 | L35: 3 | M35: Maksimal | N35: Sertifikat | O35: =B1b!B12 -> 3 | P35: =B1b!C12 -> 4 | Q35: =B1b!D12 -> 3 | R35: =B1b!E12 -> 80 | S35: 5
B36: B1c | C36: # | D36: Outlet terlambat buka | E36: Job Desc | F36: Proyek terlambat | G36: Project/ Event | H36: Direktur | I36: Open Project | K36: 0.05 | L36: 0.1 | M36: Minimal | N36: persentase
B37: B2 | C37: Inovasi
A38: Cancel | B38: B2a | C38: # | D38: New Menu | E38: VAM | F38: Menu baru yang dijual | K38: 2 | L38: 1 | M38: Maksimal | N38: Menu
B39: B3 | C39: System Development
B41: LEARNING & GROWTH PERSPECTIVE
B42: L1 | C42: Talent Management
B43: L2 | C43: People Development
...

Sheet Achievement
B2: Kode BSC | C2: Indikator | D2: Achieve/Not Achieve | E2: Keterangan
B3: F1a | C3: Omzet | D3: Not Achieve | E3: Belum diisi/Belum ada data
B4: F1c | C4: Profit Margin | D4: Not Achieve | E4: Belum diisi/Belum ada data
B5: F2a | C5: Average Transaksi | D5: Not Achieve | E5: Belum diisi/Belum ada data
B6: C1a | C6: Total Transaksi | D6: Not Achieve | E6: Belum diisi/Belum ada data
B7: C1c | C7: Google Review | D7: Not Achieve | E7: Belum diisi/Belum ada data
B8: C1d | C8: Jumlah Komplain | D8: Not Achieve | E8: Belum diisi/Belum ada data
B9: B1b | C9: Sertifikasi Mutu | D9: Achieve
B10: L2a | C10: Jam Learning | D10: Not Achieve
B11: L2b | C11: Candidate Readiness | D11: Not Achieve

Sheet F1a
A1: Nama KPI | B1: IDR | C1: Omzet Existing
A2: Periode | B2: Bulanan
A3: Polarisasi | B3: Maksimal
D5: 0.8
A6: Periode | B6: Realisasi | C6: Target (100%) | D6: Treshold Min | E6: Skor | F6: Status
A7: Januari | B7: 7.955946e+09 | C7: 14149040951 | D7: =C7*D5 -> 1.1319233e+10 | E7: =IF(ISBLANK(B7), 0,IF(B7<D7, 0, IF(B7=D7, 80, IF(B7=C7, 100, IF(B7<C7, 80 + (B7-D7)/(C7-D7)*(100-80), 100 + (B7-C7)/(C7-D7)*(100-80)))))) -> 0 | F7: =IF(ISBLANK(B7), "isi data dulu",IF(B7 < D7, "Dibawah target", IF(B7 <= C7, "Di dalam target", "Melebihi target"))) -> Dibawah target | H7: =Table3_7[[#This Row],[Target (100%)]]/150000 -> 94326.94
A8: Februari | B8: 6.9858194e+09 | C8: 12984849340 | D8: =C8*D5 -> 10387879472 | E8: =IF(ISBLANK(B8), 0,IF(B8<D8, 0, IF(B8=D8, 80, IF(B8=C8, 100, IF(B8<C8, 80 + (B8-D8)/(C8-D8)*(100-80), 100 + (B8-C8)/(C8-D8)*(100-80)))))) -> 0 | F8: =IF(ISBLANK(B8), "isi data dulu",IF(B8 < D8, "Dibawah target", IF(B8 <= C8, "Di dalam target", "Melebihi target"))) -> Dibawah target
A9: Maret | B9: 9.3802226e+09 | C9: 15355796185 | D9: =C9*$D$5 -> 12284636948 | E9: =IF(ISBLANK(B9), 0,IF(B9<D9, 0, IF(B9=D9, 80, IF(B9=C9, 100, IF(B9<C9, 80 + (B9-D9)/(C9-D9)*(100-80), 100 + (B9-C9)/(C9-D9)*(100-80)))))) -> 0 | F9: =IF(ISBLANK(B9), "isi data dulu",IF(B9 < D9, "Dibawah target", IF(B9 <= C9, "Di dalam target", "Melebihi target"))) -> Dibawah target
A10: April | B10: 1.045754e+10 | C10: 19946653007 | D10: =C10*$D$5 -> 1.5957322e+10 | E10: =IF(ISBLANK(B10), 0,IF(B10<D10, 0, IF(B10=D10, 80, IF(B10=C10, 100, IF(B10<C10, 80 + (B10-D10)/(C10-D10)*(100-80), 100 + (B10-C10)/(C10-D10)*(100-80)))))) -> 0 | F10: =IF(ISBLANK(B10), "isi data dulu",IF(B10 < D10, "Dibawah target", IF(B10 <= C10, "Di dalam target", "Melebihi target"))) -> Dibawah target
A11: Mei | B11: 8.5491279e+09 | C11: 15007572140 | D11: =C11*$D$5 -> 12006057712 | E11: =IF(ISBLANK(B11), 0,IF(B11<D11, 0, IF(B11=D11, 80, IF(B11=C11, 100, IF(B11<C11, 80 + (B11-D11)/(C11-D11)*(100-80), 100 + (B11-C11)/(C11-D11)*(100-80)))))) -> 0 | F11: =IF(ISBLANK(B11), "isi data dulu",IF(B11 < D11, "Dibawah target", IF(B11 <= C11, "Di dalam target", "Melebihi target"))) -> Dibawah target
A12: Juni | B12: 8.8084759e+09 | C12: 14706366683 | D12: =C12*$D$5 -> 1.1765093e+10 | E12: =IF(ISBLANK(B12), 0,IF(B12<D12, 0, IF(B12=D12, 80, IF(B12=C12, 100, IF(B12<C12, 80 + (B12-D12)/(C12-D12)*(100-80), 100 + (B12-C12)/(C12-D12)*(100-80)))))) -> 0 | F12: =IF(ISBLANK(B12), "isi data dulu",IF(B12 < D12, "Dibawah target", IF(B12 <= C12, "Di dalam target", "Melebihi target"))) -> Dibawah target
A13: Juli | B13: 8.5563977e+09 | C13: 13856653855 | D13: =C13*$D$5 -> 11085323084 | E13: =IF(ISBLANK(B13), 0,IF(B13<D13, 0, IF(B13=D13, 80, IF(B13=C13, 100, IF(B13<C13, 80 + (B13-D13)/(C13-D13)*(100-80), 100 + (B13-C13)/(C13-D13)*(100-80)))))) -> 0 | F13: =IF(ISBLANK(B13), "isi data dulu",IF(B13 < D13, "Dibawah target", IF(B13 <= C13, "Di dalam target", "Melebihi target"))) -> Dibawah target
A14: Agustus | B14: 8.2473681e+09 | C14: 13458788961 | D14: =C14*$D$5 -> 1.0767031e+10 | E14: =IF(ISBLANK(B14), 0,IF(B14<D14, 0, IF(B14=D14, 80, IF(B14=C14, 100, IF(B14<C14, 80 + (B14-D14)/(C14-D14)*(100-80), 100 + (B14-C14)/(C14-D14)*(100-80)))))) -> 0 | F14: =IF(ISBLANK(B14), "isi data dulu",IF(B14 < D14, "Dibawah target", IF(B14 <= C14, "Di dalam target", "Melebihi target"))) -> Dibawah target
A15: September | B15: 7548056999 | C15: 13533128429 | D15: =C15*$D$5 -> 1.0826503e+10 | E15: =IF(ISBLANK(B15), 0,IF(B15<D15, 0, IF(B15=D15, 80, IF(B15=C15, 100, IF(B15<C15, 80 + (B15-D15)/(C15-D15)*(100-80), 100 + (B15-C15)/(C15-D15)*(100-80)))))) -> 0 | F15: =IF(ISBLANK(B15), "isi data dulu",IF(B15 < D15, "Dibawah target", IF(B15 <= C15, "Di dalam target", "Melebihi target"))) -> Dibawah target
A16: Oktober | C16: 13678430989 | D16: =C16*$D$5 -> 1.0942745e+10 | E16: =IF(ISBLANK(B16), 0,IF(B16<D16, 0, IF(B16=D16, 80, IF(B16=C16, 100, IF(B16<C16, 80 + (B16-D16)/(C16-D16)*(100-80), 100 + (B16-C16)/(C16-D16)*(100-80)))))) -> 0 | F16: =IF(ISBLANK(B16), "isi data dulu",IF(B16 < D16, "Dibawah target", IF(B16 <= C16, "Di dalam target", "Melebihi target"))) -> isi data dulu
A17: November | C17: 14048003457 | D17: =C17*$D$5 -> 1.1238403e+10 | E17: =IF(ISBLANK(B17), 0,IF(B17<D17, 0, IF(B17=D17, 80, IF(B17=C17, 100, IF(B17<C17, 80 + (B17-D17)/(C17-D17)*(100-80), 100 + (B17-C17)/(C17-D17)*(100-80)))))) -> 0 | F17: =IF(ISBLANK(B17), "isi data dulu",IF(B17 < D17, "Dibawah target", IF(B17 <= C17, "Di dalam target", "Melebihi target"))) -> isi data dulu
A18: Desember | C18: 15274716003 | D18: =C18*$D$5 -> 1.2219773e+10 | E18: =IF(ISBLANK(B18), 0,IF(B18<D18, 0, IF(B18=D18, 80, IF(B18=C18, 100, IF(B18<C18, 80 + (B18-D18)/(C18-D18)*(100-80), 100 + (B18-C18)/(C18-D18)*(100-80)))))) -> 0 | F18: =IF(ISBLANK(B18), "isi data dulu",IF(B18 < D18, "Dibawah target", IF(B18 <= C18, "Di dalam target", "Melebihi target"))) -> isi data dulu
A19: Total | B19: =SUM(B7:B18) -> 7.6488954e+10 | C19: =SUM(C7:C18) -> 176000000000 | D19: =SUM(D7:D18) -> 140800000000 | E19: =(B19/C19)*100 -> 43.459633 | F19: =IF(B19 < D19, "Dibawah target", IF(B19 <= C19, "Di dalam target", "Melebihi target")) -> Dibawah target
B20: =B19/C19 -> 0.43459633

Sheet F1b
A1: Nama KPI | B1: IDR | C1: Omzet New Store
A2: Periode | B2: Bulanan
A3: Polarisasi | B3: Maksimal
C5: dalam juta | D5: 0.8
A6: Periode | B6: Realisasi | C6: Target (100%) | D6: Treshold Min | E6: Skor | F6: Status
A7: Januari | B7: 0 | C7: 1074 | D7: =C7*D5 -> 859.2 | E7: =IF(ISBLANK(B7), 0,IF(B7<D7, 0, IF(B7=D7, 80, IF(B7=C7, 100, IF(B7<C7, 80 + (B7-D7)/(C7-D7)*(100-80), 100 + (B7-C7)/(C7-D7)*(100-80)))))) -> 0 | F7: =IF(ISBLANK(B7), "isi data dulu",IF(B7 < D7, "Dibawah target", IF(B7 <= C7, "Di dalam target", "Melebihi target"))) -> Dibawah target
A8: Februari | B8: 194 | C8: 1578 | D8: =C8*D5 -> 1262.4 | E8: =IF(ISBLANK(B8), 0,IF(B8<D8, 0, IF(B8=D8, 80, IF(B8=C8, 100, IF(B8<C8, 80 + (B8-D8)/(C8-D8)*(100-80), 100 + (B8-C8)/(C8-D8)*(100-80)))))) -> 0 | F8: =IF(ISBLANK(B8), "isi data dulu",IF(B8 < D8, "Dibawah target", IF(B8 <= C8, "Di dalam target", "Melebihi target"))) -> Dibawah target
A9: Maret | B9: 404 | C9: 2028 | D9: =C9*D5 -> 1622.4 | E9: =IF(ISBLANK(B9), 0,IF(B9<D9, 0, IF(B9=D9, 80, IF(B9=C9, 100, IF(B9<C9, 80 + (B9-D9)/(C9-D9)*(100-80), 100 + (B9-C9)/(C9-D9)*(100-80)))))) -> 0 | F9: =IF(ISBLANK(B9), "isi data dulu",IF(B9 < D9, "Dibawah target", IF(B9 <= C9, "Di dalam target", "Melebihi target"))) -> Dibawah target
A10: April | B10: 731 | C10: 2934 | D10: =C10*D5 -> 2347.2 | E10: =IF(ISBLANK(B10), 0,IF(B10<D10, 0, IF(B10=D10, 80, IF(B10=C10, 100, IF(B10<C10, 80 + (B10-D10)/(C10-D10)*(100-80), 100 + (B10-C10)/(C10-D10)*(100-80)))))) -> 0 | F10: =IF(ISBLANK(B10), "isi data dulu",IF(B10 < D10, "Dibawah target", IF(B10 <= C10, "Di dalam target", "Melebihi target"))) -> Dibawah target
A11: Mei | B11: 644 | C11: 4314 | D11: =C11*D5 -> 3451.2 | E11: =IF(ISBLANK(B11), 0,IF(B11<D11, 0, IF(B11=D11, 80, IF(B11=C11, 100, IF(B11<C11, 80 + (B11-D11)/(C11-D11)*(100-80), 100 + (B11-C11)/(C11-D11)*(100-80)))))) -> 0 | F11: =IF(ISBLANK(B11), "isi data dulu",IF(B11 < D11, "Dibawah target", IF(B11 <= C11, "Di dalam target", "Melebihi target"))) -> Dibawah target
A12: Juni | B12: 664 | C12: 5154 | D12: =C12*D5 -> 4123.2 | E12: =IF(ISBLANK(B12), 0,IF(B12<D12, 0, IF(B12=D12, 80, IF(B12=C12, 100, IF(B12<C12, 80 + (B12-D12)/(C12-D12)*(100-80), 100 + (B12-C12)/(C12-D12)*(100-80)))))) -> 0 | F12: =IF(ISBLANK(B12), "isi data dulu",IF(B12 < D12, "Dibawah target", IF(B12 <= C12, "Di dalam target", "Melebihi target"))) -> Dibawah target
A13: Juli | C13: 6408 | D13: =C13*D5 -> 5126.4 | E13: =IF(ISBLANK(B13), 0,IF(B13<D13, 0, IF(B13=D13, 80, IF(B13=C13, 100, IF(B13<C13, 80 + (B13-D13)/(C13-D13)*(100-80), 100 + (B13-C13)/(C13-D13)*(100-80)))))) -> 0 | F13: =IF(ISBLANK(B13), "isi data dulu",IF(B13 < D13, "Dibawah target", IF(B13 <= C13, "Di dalam target", "Melebihi target"))) -> isi data dulu
A14: Agustus | C14: 8238 | D14: =C14*D5 -> 6590.4 | E14: =IF(ISBLANK(B14), 0,IF(B14<D14, 0, IF(B14=D14, 80, IF(B14=C14, 100, IF(B14<C14, 80 + (B14-D14)/(C14-D14)*(100-80), 100 + (B14-C14)/(C14-D14)*(100-80)))))) -> 0 | F14: =IF(ISBLANK(B14), "isi data dulu",IF(B14 < D14, "Dibawah target", IF(B14 <= C14, "Di dalam target", "Melebihi target"))) -> isi data dulu
A15: September | C15: 9642 | D15: =C15*D5 -> 7713.6 | E15: =IF(ISBLANK(B15), 0,IF(B15<D15, 0, IF(B15=D15, 80, IF(B15=C15, 100, IF(B15<C15, 80 + (B15-D15)/(C15-D15)*(100-80), 100 + (B15-C15)/(C15-D15)*(100-80)))))) -> 0 | F15: =IF(ISBLANK(B15), "isi data dulu",IF(B15 < D15, "Dibawah target", IF(B15 <= C15, "Di dalam target", "Melebihi target"))) -> isi data dulu
A16: Oktober | C16: 11142 | D16: =C16*D5 -> 8913.6 | E16: =IF(ISBLANK(B16), 0,IF(B16<D16, 0, IF(B16=D16, 80, IF(B16=C16, 100, IF(B16<C16, 80 + (B16-D16)/(C16-D16)*(100-80), 100 + (B16-C16)/(C16-D16)*(100-80)))))) -> 0 | F16: =IF(ISBLANK(B16), "isi data dulu",IF(B16 < D16, "Dibawah target", IF(B16 <= C16, "Di dalam target", "Melebihi target"))) -> isi data dulu
A17: November | C17: 12708 | D17: =C17*D5 -> 10166.4 | E17: =IF(ISBLANK(B17), 0,IF(B17<D17, 0, IF(B17=D17, 80, IF(B17=C17, 100, IF(B17<C17, 80 + (B17-D17)/(C17-D17)*(100-80), 100 + (B17-C17)/(C17-D17)*(100-80)))))) -> 0 | F17: =IF(ISBLANK(B17), "isi data dulu",IF(B17 < D17, "Dibawah target", IF(B17 <= C17, "Di dalam target", "Melebihi target"))) -> isi data dulu
A18: Desember | C18: 14088 | D18: =C18*D5 -> 11270.4 | E18: =IF(ISBLANK(B18), 0,IF(B18<D18, 0, IF(B18=D18, 80, IF(B18=C18, 100, IF(B18<C18, 80 + (B18-D18)/(C18-D18)*(100-80), 100 + (B18-C18)/(C18-D18)*(100-80)))))) -> 0 | F18: =IF(ISBLANK(B18), "isi data dulu",IF(B18 < D18, "Dibawah target", IF(B18 <= C18, "Di dalam target", "Melebihi target"))) -> isi data dulu
A19: Total | B19: =SUM(B7:B18) -> 2637 | C19: =SUM(C7:C18) -> 79308 | D19: =SUM(D7:D18) -> 63446.4 | E19: =(B19/C19)*100 -> 3.3250113 | F19: =IF(B19 < D19, "Dibawah target", IF(B19 <= C19, "Di dalam target", "Melebihi target")) -> Dibawah target

Sheet F1c
A1: Nama KPI | B1: % | C1: Profit Margin
A2: Periode | B2: Bulanan | C2: data dari FA
A3: Polarisasi | B3: Maksimal
D5: 0.8
A6: Periode | B6: Realisasi | C6: Target (100%) | D6: Treshold Min | E6: Skor | F6: Status
A7: Januari | B7: 1.72 | C7: 15 | D7: =C7*$D$5 -> 12 | E7: =IF(ISBLANK(B7), 0,IF(B7<D7, 0, IF(B7=D7, 80, IF(B7=C7, 100, IF(B7<C7, 80 + (B7-D7)/(C7-D7)*(100-80), 100 + (B7-C7)/(C7-D7)*(100-80)))))) -> 0 | F7: =IF(ISBLANK(B7), "isi data dulu",IF(B7 < D7, "Dibawah target", IF(B7 <= C7, "Di dalam target", "Melebihi target"))) -> Dibawah target
A8: Februari | B8: -5.41 | C8: 15 | D8: =C8*$D$5 -> 12 | E8: =IF(ISBLANK(B8), 0,IF(B8<D8, 0, IF(B8=D8, 80, IF(B8=C8, 100, IF(B8<C8, 80 + (B8-D8)/(C8-D8)*(100-80), 100 + (B8-C8)/(C8-D8)*(100-80)))))) -> 0 | F8: =IF(ISBLANK(B8), "isi data dulu",IF(B8 < D8, "Dibawah target", IF(B8 <= C8, "Di dalam target", "Melebihi target"))) -> Dibawah target
A9: Maret | B9: 0.24 | C9: 15 | D9: =C9*$D$5 -> 12 | E9: =IF(ISBLANK(B9), 0,IF(B9<D9, 0, IF(B9=D9, 80, IF(B9=C9, 100, IF(B9<C9, 80 + (B9-D9)/(C9-D9)*(100-80), 100 + (B9-C9)/(C9-D9)*(100-80)))))) -> 0 | F9: =IF(ISBLANK(B9), "isi data dulu",IF(B9 < D9, "Dibawah target", IF(B9 <= C9, "Di dalam target", "Melebihi target"))) -> Dibawah target
A10: April | B10: 10.4 | C10: 15 | D10: =C10*$D$5 -> 12 | E10: =IF(ISBLANK(B10), 0,IF(B10<D10, 0, IF(B10=D10, 80, IF(B10=C10, 100, IF(B10<C10, 80 + (B10-D10)/(C10-D10)*(100-80), 100 + (B10-C10)/(C10-D10)*(100-80)))))) -> 0 | F10: =IF(ISBLANK(B10), "isi data dulu",IF(B10 < D10, "Dibawah target", IF(B10 <= C10, "Di dalam target", "Melebihi target"))) -> Dibawah target
A11: Mei | B11: 1.65 | C11: 15 | D11: =C11*$D$5 -> 12 | E11: =IF(ISBLANK(B11), 0,IF(B11<D11, 0, IF(B11=D11, 80, IF(B11=C11, 100, IF(B11<C11, 80 + (B11-D11)/(C11-D11)*(100-80), 100 + (B11-C11)/(C11-D11)*(100-80)))))) -> 0 | F11: =IF(ISBLANK(B11), "isi data dulu",IF(B11 < D11, "Dibawah target", IF(B11 <= C11, "Di dalam target", "Melebihi target"))) -> Dibawah target
A12: Juni | C12: 15 | D12: =C12*$D$5 -> 12 | E12: =IF(ISBLANK(B12), 0,IF(B12<D12, 0, IF(B12=D12, 80, IF(B12=C12, 100, IF(B12<C12, 80 + (B12-D12)/(C12-D12)*(100-80), 100 + (B12-C12)/(C12-D12)*(100-80)))))) -> 0 | F12: =IF(ISBLANK(B12), "isi data dulu",IF(B12 < D12, "Dibawah target", IF(B12 <= C12, "Di dalam target", "Melebihi target"))) -> isi data dulu
A13: Juli | C13: 15 | D13: =C13*$D$5 -> 12 | E13: =IF(ISBLANK(B13), 0,IF(B13<D13, 0, IF(B13=D13, 80, IF(B13=C13, 100, IF(B13<C13, 80 + (B13-D13)/(C13-D13)*(100-80), 100 + (B13-C13)/(C13-D13)*(100-80)))))) -> 0 | F13: =IF(ISBLANK(B13), "isi data dulu",IF(B13 < D13, "Dibawah target", IF(B13 <= C13, "Di dalam target", "Melebihi target"))) -> isi data dulu
A14: Agustus | C14: 15 | D14: =C14*$D$5 -> 12 | E14: =IF(ISBLANK(B14), 0,IF(B14<D14, 0, IF(B14=D14, 80, IF(B14=C14, 100, IF(B14<C14, 80 + (B14-D14)/(C14-D14)*(100-80), 100 + (B14-C14)/(C14-D14)*(100-80)))))) -> 0 | F14: =IF(ISBLANK(B14), "isi data dulu",IF(B14 < D14, "Dibawah target", IF(B14 <= C14, "Di dalam target", "Melebihi target"))) -> isi data dulu
A15: September | C15: 15 | D15: =C15*$D$5 -> 12 | E15: =IF(ISBLANK(B15), 0,IF(B15<D15, 0, IF(B15=D15, 80, IF(B15=C15, 100, IF(B15<C15, 80 + (B15-D15)/(C15-D15)*(100-80), 100 + (B15-C15)/(C15-D15)*(100-80)))))) -> 0 | F15: =IF(ISBLANK(B15), "isi data dulu",IF(B15 < D15, "Dibawah target", IF(B15 <= C15, "Di dalam target", "Melebihi target"))) -> isi data dulu
A16: Oktober | C16: 15 | D16: =C16*$D$5 -> 12 | E16: =IF(ISBLANK(B16), 0,IF(B16<D16, 0, IF(B16=D16, 80, IF(B16=C16, 100, IF(B16<C16, 80 + (B16-D16)/(C16-D16)*(100-80), 100 + (B16-C16)/(C16-D16)*(100-80)))))) -> 0 | F16: =IF(ISBLANK(B16), "isi data dulu",IF(B16 < D16, "Dibawah target", IF(B16 <= C16, "Di dalam target", "Melebihi target"))) -> isi data dulu
A17: November | C17: 15 | D17: =C17*$D$5 -> 12 | E17: =IF(ISBLANK(B17), 0,IF(B17<D17, 0, IF(B17=D17, 80, IF(B17=C17, 100, IF(B17<C17, 80 + (B17-D17)/(C17-D17)*(100-80), 100 + (B17-C17)/(C17-D17)*(100-80)))))) -> 0 | F17: =IF(ISBLANK(B17), "isi data dulu",IF(B17 < D17, "Dibawah target", IF(B17 <= C17, "Di dalam target", "Melebihi target"))) -> isi data dulu
A18: Desember | C18: 15 | D18: =C18*$D$5 -> 12 | E18: =(B18/C18)*100 -> 0 | F18: =IF(B18 < D18, "Dibawah target", IF(B18 <= C18, "Di dalam target", "Melebihi target")) -> Dibawah target
B19: =AVERAGE(Table3_8[Realisasi]) -> 1.72 | C19: 15 | D19: 12 | E19: =Table3_8[[#Totals],[Realisasi]]/Table3_8[[#Totals],[Target (100%)]]*100 -> 11.466667

Sheet F1d
A1: Nama KPI | B1: IDR | C1: Total Omzet Franchise | E1: (yang dihitung adalah management fee)
A2: Periode | B2: Bulanan
A3: Polarisasi | B3: Maksimal
C5: dalam juta
A6: Periode | B6: Realisasi | C6: Target (100%) | D6: Treshold Min | E6: Skor | F6: Status
A7: Januari | B7: 0 | C7: 600 | D7: 300 | E7: =IF(ISBLANK(B7), 0,IF(B7<D7, 0, IF(B7=D7, 80, IF(B7=C7, 100, IF(B7<C7, 80 + (B7-D7)/(C7-D7)*(100-80), 100 + (B7-C7)/(C7-D7)*(100-80)))))) -> 0 | F7: =IF(ISBLANK(B7), "isi data dulu",IF(B7 < D7, "Dibawah target", IF(B7 <= C7, "Di dalam target", "Melebihi target"))) -> Dibawah target
A8: Februari | B8: 0 | C8: 600 | D8: 300 | E8: =IF(ISBLANK(B8), 0,IF(B8<D8, 0, IF(B8=D8, 80, IF(B8=C8, 100, IF(B8<C8, 80 + (B8-D8)/(C8-D8)*(100-80), 100 + (B8-C8)/(C8-D8)*(100-80)))))) -> 0 | F8: =IF(ISBLANK(B8), "isi data dulu",IF(B8 < D8, "Dibawah target", IF(B8 <= C8, "Di dalam target", "Melebihi target"))) -> Dibawah target
A9: Maret | B9: 0 | C9: 600 | D9: 300 | E9: =IF(ISBLANK(B9), 0,IF(B9<D9, 0, IF(B9=D9, 80, IF(B9=C9, 100, IF(B9<C9, 80 + (B9-D9)/(C9-D9)*(100-80), 100 + (B9-C9)/(C9-D9)*(100-80)))))) -> 0 | F9: =IF(ISBLANK(B9), "isi data dulu",IF(B9 < D9, "Dibawah target", IF(B9 <= C9, "Di dalam target", "Melebihi target"))) -> Dibawah target
A10: April | B10: 0 | C10: 600 | D10: 300 | E10: =IF(ISBLANK(B10), 0,IF(B10<D10, 0, IF(B10=D10, 80, IF(B10=C10, 100, IF(B10<C10, 80 + (B10-D10)/(C10-D10)*(100-80), 100 + (B10-C10)/(C10-D10)*(100-80)))))) -> 0 | F10: =IF(ISBLANK(B10), "isi data dulu",IF(B10 < D10, "Dibawah target", IF(B10 <= C10, "Di dalam target", "Melebihi target"))) -> Dibawah target
A11: Mei | B11: 0 | C11: 600 | D11: 300 | E11: =IF(ISBLANK(B11), 0,IF(B11<D11, 0, IF(B11=D11, 80, IF(B11=C11, 100, IF(B11<C11, 80 + (B11-D11)/(C11-D11)*(100-80), 100 + (B11-C11)/(C11-D11)*(100-80)))))) -> 0 | F11: =IF(ISBLANK(B11), "isi data dulu",IF(B11 < D11, "Dibawah target", IF(B11 <= C11, "Di dalam target", "Melebihi target"))) -> Dibawah target
A12: Juni | B12: 150 | C12: 600 | D12: 300 | E12: =IF(ISBLANK(B12), 0,IF(B12<D12, 0, IF(B12=D12, 80, IF(B12=C12, 100, IF(B12<C12, 80 + (B12-D12)/(C12-D12)*(100-80), 100 + (B12-C12)/(C12-D12)*(100-80)))))) -> 0 | F12: =IF(ISBLANK(B12), "isi data dulu",IF(B12 < D12, "Dibawah target", IF(B12 <= C12, "Di dalam target", "Melebihi target"))) -> Dibawah target
A13: Juli | C13: 600 | D13: 300 | E13: =IF(ISBLANK(B13), 0,IF(B13<D13, 0, IF(B13=D13, 80, IF(B13=C13, 100, IF(B13<C13, 80 + (B13-D13)/(C13-D13)*(100-80), 100 + (B13-C13)/(C13-D13)*(100-80)))))) -> 0 | F13: =IF(ISBLANK(B13), "isi data dulu",IF(B13 < D13, "Dibawah target", IF(B13 <= C13, "Di dalam target", "Melebihi target"))) -> isi data dulu
A14: Agustus | C14: 600 | D14: 300 | E14: =IF(ISBLANK(B14), 0,IF(B14<D14, 0, IF(B14=D14, 80, IF(B14=C14, 100, IF(B14<C14, 80 + (B14-D14)/(C14-D14)*(100-80), 100 + (B14-C14)/(C14-D14)*(100-80)))))) -> 0 | F14: =IF(ISBLANK(B14), "isi data dulu",IF(B14 < D14, "Dibawah target", IF(B14 <= C14, "Di dalam target", "Melebihi target"))) -> isi data dulu
A15: September | C15: 600 | D15: 300 | E15: =IF(ISBLANK(B15), 0,IF(B15<D15, 0, IF(B15=D15, 80, IF(B15=C15, 100, IF(B15<C15, 80 + (B15-D15)/(C15-D15)*(100-80), 100 + (B15-C15)/(C15-D15)*(100-80)))))) -> 0 | F15: =IF(ISBLANK(B15), "isi data dulu",IF(B15 < D15, "Dibawah target", IF(B15 <= C15, "Di dalam target", "Melebihi target"))) -> isi data dulu
A16: Oktober | C16: 600 | D16: 300 | E16: =IF(ISBLANK(B16), 0,IF(B16<D16, 0, IF(B16=D16, 80, IF(B16=C16, 100, IF(B16<C16, 80 + (B16-D16)/(C16-D16)*(100-80), 100 + (B16-C16)/(C16-D16)*(100-80)))))) -> 0 | F16: =IF(ISBLANK(B16), "isi data dulu",IF(B16 < D16, "Dibawah target", IF(B16 <= C16, "Di dalam target", "Melebihi target"))) -> isi data dulu
A17: November | C17: 600 | D17: 300 | E17: =IF(ISBLANK(B17), 0,IF(B17<D17, 0, IF(B17=D17, 80, IF(B17=C17, 100, IF(B17<C17, 80 + (B17-D17)/(C17-D17)*(100-80), 100 + (B17-C17)/(C17-D17)*(100-80)))))) -> 0 | F17: =IF(ISBLANK(B17), "isi data dulu",IF(B17 < D17, "Dibawah target", IF(B17 <= C17, "Di dalam target", "Melebihi target"))) -> isi data dulu
A18: Desember | C18: 600 | D18: 300 | E18: =IF(ISBLANK(B18), 0,IF(B18<D18, 0, IF(B18=D18, 80, IF(B18=C18, 100, IF(B18<C18, 80 + (B18-D18)/(C18-D18)*(100-80), 100 + (B18-C18)/(C18-D18)*(100-80)))))) -> 0 | F18: =IF(ISBLANK(B18), "isi data dulu",IF(B18 < D18, "Dibawah target", IF(B18 <= C18, "Di dalam target", "Melebihi target"))) -> isi data dulu
A19: Total | B19: =SUM(B7:B18) -> 150 | C19: =SUM(C7:C18) -> 7200 | D19: =SUM(D7:D18) -> 3600 | E19: =(B19/C19)*100 -> 2.0833333 | F19: =IF(B19 < D19, "Dibawah target", IF(B19 <= C19, "Di dalam target", "Melebihi target")) -> Dibawah target

Sheet F1e
A1: Nama KPI | B1: % | C1: Kesesuaian FS vs omzet
A2: Periode | B2: Quarter (3bln)
A3: Polarisasi | B3: Maksimal
A6: Periode | B6: Total FS | C6: AVG Realisasi | D6: Target (100%) | E6: Treshold Min | F6: Skor | G6: Status | J6: karawaci
A7: Q1 | B7: 10000000 | C7: 0.88 | D7: 1 | E7: 0.8 | F7: =IF(ISBLANK(C7), 0,IF(C7<E7, 0, IF(C7=E7, 80, IF(C7=D7, 100, IF(C7<D7, 80 + (C7-E7)/(D7-E7)*(100-80), 100 + (C7-D7)/(D7-E7)*(100-80)))))) -> 88 | G7: =IF(ISBLANK(C7), "isi data dulu",IF(C7 < E7, "Dibawah target", IF(C7 <= D7, "Di dalam target", "Melebihi target"))) -> Di dalam target | J7: 0.41
A8: Q2 | B8: 10000000 | C8: 0.74 | D8: 1 | E8: 0.8 | F8: =IF(ISBLANK(C8), 0,IF(C8<E8, 0, IF(C8=E8, 80, IF(C8=D8, 100, IF(C8<D8, 80 + (C8-E8)/(D8-E8)*(100-80), 100 + (C8-D8)/(D8-E8)*(100-80)))))) -> 0 | G8: =IF(ISBLANK(C8), "isi data dulu",IF(C8 < E8, "Dibawah target", IF(C8 <= D8, "Di dalam target", "Melebihi target"))) -> Dibawah target | J8: aeon
A9: Q3 | B9: 0 | D9: 1 | E9: 0.8 | F9: =IF(ISBLANK(C9), 0,IF(C9<E9, 0, IF(C9=E9, 80, IF(C9=D9, 100, IF(C9<D9, 80 + (C9-E9)/(D9-E9)*(100-80), 100 + (C9-D9)/(D9-E9)*(100-80)))))) -> 0 | G9: =IF(ISBLANK(C9), "isi data dulu",IF(C9 < E9, "Dibawah target", IF(C9 <= D9, "Di dalam target", "Melebihi target"))) -> isi data dulu | J9: 0.44
A10: Q4 | B10: 0 | D10: 1 | E10: 0.8 | F10: =IF(ISBLANK(C10), 0,IF(C10<E10, 0, IF(C10=E10, 80, IF(C10=D10, 100, IF(C10<D10, 80 + (C10-E10)/(D10-E10)*(100-80), 100 + (C10-D10)/(D10-E10)*(100-80)))))) -> 0 | G10: =IF(ISBLANK(C10), "isi data dulu",IF(C10 < E10, "Dibawah target", IF(C10 <= D10, "Di dalam target", "Melebihi target"))) -> isi data dulu | J10: Puri
J11: 1.79
B12: catatan | H12: Avarage
B13: Omzet total Outlet yg di open dlm 1 quartal = Omzet Plan vs Omzett Actual | H13: 7400000

Sheet F2a
B1: IDR | C1: Average per transaksi
A2: Periode | B2: Bulanan
A3: Polarisasi | B3: Maksimal
A6: Periode | B6: Realisasi | C6: Target (100%) | D6: Treshold Min | E6: Skor | F6: Status
A7: Januari | B7: 122000 | C7: 150000 | D7: 120000 | E7: =IF(ISBLANK(B7), 0,IF(B7<D7, 0, IF(B7=D7, 80, IF(B7=C7, 100, IF(B7<C7, 80 + (B7-D7)/(C7-D7)*(100-80), 100 + (B7-C7)/(C7-D7)*(100-80)))))) -> 81.333333 | F7: =IF(ISBLANK(B7), "isi data dulu",IF(B7 < D7, "Dibawah target", IF(B7 <= C7, "Di dalam target", "Melebihi target"))) -> Di dalam target
A8: Februari | B8: 116000 | C8: 150000 | D8: 120000 | E8: =IF(ISBLANK(B8), 0,IF(B8<D8, 0, IF(B8=D8, 80, IF(B8=C8, 100, IF(B8<C8, 80 + (B8-D8)/(C8-D8)*(100-80), 100 + (B8-C8)/(C8-D8)*(100-80)))))) -> 0 | F8: =IF(ISBLANK(B8), "isi data dulu",IF(B8 < D8, "Dibawah target", IF(B8 <= C8, "Di dalam target", "Melebihi target"))) -> Dibawah target
A9: Maret | B9: 124000 | C9: 150000 | D9: 120000 | E9: =IF(ISBLANK(B9), 0,IF(B9<D9, 0, IF(B9=D9, 80, IF(B9=C9, 100, IF(B9<C9, 80 + (B9-D9)/(C9-D9)*(100-80), 100 + (B9-C9)/(C9-D9)*(100-80)))))) -> 82.666667 | F9: =IF(ISBLANK(B9), "isi data dulu",IF(B9 < D9, "Dibawah target", IF(B9 <= C9, "Di dalam target", "Melebihi target"))) -> Di dalam target
A10: April | B10: 126000 | C10: 150000 | D10: 120000 | E10: =IF(ISBLANK(B10), 0,IF(B10<D10, 0, IF(B10=D10, 80, IF(B10=C10, 100, IF(B10<C10, 80 + (B10-D10)/(C10-D10)*(100-80), 100 + (B10-C10)/(C10-D10)*(100-80)))))) -> 84 | F10: =IF(ISBLANK(B10), "isi data dulu",IF(B10 < D10, "Dibawah target", IF(B10 <= C10, "Di dalam target", "Melebihi target"))) -> Di dalam target
A11: Mei | B11: 119000 | C11: 150000 | D11: 120000 | E11: =IF(ISBLANK(B11), 0,IF(B11<D11, 0, IF(B11=D11, 80, IF(B11=C11, 100, IF(B11<C11, 80 + (B11-D11)/(C11-D11)*(100-80), 100 + (B11-C11)/(C11-D11)*(100-80)))))) -> 0 | F11: =IF(ISBLANK(B11), "isi data dulu",IF(B11 < D11, "Dibawah target", IF(B11 <= C11, "Di dalam target", "Melebihi target"))) -> Dibawah target
A12: Juni | B12: 121000 | C12: 150000 | D12: 120000 | E12: =IF(ISBLANK(B12), 0,IF(B12<D12, 0, IF(B12=D12, 80, IF(B12=C12, 100, IF(B12<C12, 80 + (B12-D12)/(C12-D12)*(100-80), 100 + (B12-C12)/(C12-D12)*(100-80)))))) -> 80.666667 | F12: =IF(ISBLANK(B12), "isi data dulu",IF(B12 < D12, "Dibawah target", IF(B12 <= C12, "Di dalam target", "Melebihi target"))) -> Di dalam target
A13: Juli | B13: 109852 | C13: 150000 | D13: 120000 | E13: =IF(ISBLANK(B13), 0,IF(B13<D13, 0, IF(B13=D13, 80, IF(B13=C13, 100, IF(B13<C13, 80 + (B13-D13)/(C13-D13)*(100-80), 100 + (B13-C13)/(C13-D13)*(100-80)))))) -> 0 | F13: =IF(ISBLANK(B13), "isi data dulu",IF(B13 < D13, "Dibawah target", IF(B13 <= C13, "Di dalam target", "Melebihi target"))) -> Dibawah target
A14: Agustus | B14: 113549 | C14: 150000 | D14: 120000 | E14: =IF(ISBLANK(B14), 0,IF(B14<D14, 0, IF(B14=D14, 80, IF(B14=C14, 100, IF(B14<C14, 80 + (B14-D14)/(C14-D14)*(100-80), 100 + (B14-C14)/(C14-D14)*(100-80)))))) -> 0 | F14: =IF(ISBLANK(B14), "isi data dulu",IF(B14 < D14, "Dibawah target", IF(B14 <= C14, "Di dalam target", "Melebihi target"))) -> Dibawah target
A15: September | B15: 110630 | C15: 150000 | D15: 120000 | E15: =IF(ISBLANK(B15), 0,IF(B15<D15, 0, IF(B15=D15, 80, IF(B15=C15, 100, IF(B15<C15, 80 + (B15-D15)/(C15-D15)*(100-80), 100 + (B15-C15)/(C15-D15)*(100-80)))))) -> 0 | F15: =IF(ISBLANK(B15), "isi data dulu",IF(B15 < D15, "Dibawah target", IF(B15 <= C15, "Di dalam target", "Melebihi target"))) -> Dibawah target
A16: Oktober | C16: 150000 | D16: 120000 | E16: =IF(ISBLANK(B16), 0,IF(B16<D16, 0, IF(B16=D16, 80, IF(B16=C16, 100, IF(B16<C16, 80 + (B16-D16)/(C16-D16)*(100-80), 100 + (B16-C16)/(C16-D16)*(100-80)))))) -> 0 | F16: =IF(ISBLANK(B16), "isi data dulu",IF(B16 < D16, "Dibawah target", IF(B16 <= C16, "Di dalam target", "Melebihi target"))) -> isi data dulu
A17: November | C17: 150000 | D17: 120000 | E17: =IF(ISBLANK(B17), 0,IF(B17<D17, 0, IF(B17=D17, 80, IF(B17=C17, 100, IF(B17<C17, 80 + (B17-D17)/(C17-D17)*(100-80), 100 + (B17-C17)/(C17-D17)*(100-80)))))) -> 0 | F17: =IF(ISBLANK(B17), "isi data dulu",IF(B17 < D17, "Dibawah target", IF(B17 <= C17, "Di dalam target", "Melebihi target"))) -> isi data dulu
A18: Desember | C18: 150000 | D18: 120000 | E18: =IF(ISBLANK(B18), 0,IF(B18<D18, 0, IF(B18=D18, 80, IF(B18=C18, 100, IF(B18<C18, 80 + (B18-D18)/(C18-D18)*(100-80), 100 + (B18-C18)/(C18-D18)*(100-80)))))) -> 0 | F18: =IF(ISBLANK(B18), "isi data dulu",IF(B18 < D18, "Dibawah target", IF(B18 <= C18, "Di dalam target", "Melebihi target"))) -> isi data dulu
A19: Average | B19: =AVERAGE(B7:B18) -> 118003.44 | C19: =AVERAGE(C7:C18) -> 150000 | D19: =AVERAGE(D7:D18) -> 120000 | E19: =IF(ISBLANK(B19), 0,IF(B19<D19, 0, IF(B19=D19, 80, IF(B19=C19, 100, IF(B19<C19, 80 + (B19-D19)/(C19-D19)*(100-80), 100 + (B19-C19)/(C19-D19)*(100-80)))))) -> 0
B20: =B19/C19 -> 0.78668963

Sheet C1a
A1: Nama KPI | B1: # | C1: Total Transaksi | D1: (Untuk marketing, meningkatkan jumlah transaksi dan kunjungan)
A2: Periode | B2: Bulanan | C2: target average sales 150 ribu
A3: Polarisasi | B3: Maksimal
D5: 0.8
A6: Periode | B6: Realisasi | C6: Target (100%) | D6: Treshold Min | E6: Skor | F6: Status | G6: Revisi
A7: Januari | B7: 67279 | C7: 94327 | D7: 75462 | E7: =IF(ISBLANK(B7), 0,IF(B7<D7, 0, IF(B7=D7, 80, IF(B7=C7, 100, IF(B7<C7, 80 + (B7-D7)/(C7-D7)*(100-80), 100 + (B7-C7)/(C7-D7)*(100-80)))))) -> 0 | F7: =IF(ISBLANK(B7), "isi data dulu",IF(B7 < D7, "Dibawah target", IF(B7 <= C7, "Di dalam target", "Melebihi target"))) -> Dibawah target
A8: Februari | B8: 61989 | C8: 86566 | D8: 69253 | E8: =IF(ISBLANK(B8), 0,IF(B8<D8, 0, IF(B8=D8, 80, IF(B8=C8, 100, IF(B8<C8, 80 + (B8-D8)/(C8-D8)*(100-80), 100 + (B8-C8)/(C8-D8)*(100-80)))))) -> 0 | F8: =IF(ISBLANK(B8), "isi data dulu",IF(B8 < D8, "Dibawah target", IF(B8 <= C8, "Di dalam target", "Melebihi target"))) -> Dibawah target
A9: Maret | B9: 78637 | C9: 102372 | D9: 81898 | E9: =IF(ISBLANK(B9), 0,IF(B9<D9, 0, IF(B9=D9, 80, IF(B9=C9, 100, IF(B9<C9, 80 + (B9-D9)/(C9-D9)*(100-80), 100 + (B9-C9)/(C9-D9)*(100-80)))))) -> 0 | F9: =IF(ISBLANK(B9), "isi data dulu",IF(B9 < D9, "Dibawah target", IF(B9 <= C9, "Di dalam target", "Melebihi target"))) -> Dibawah target
A10: April | B10: 86038 | C10: 132978 | D10: 106382 | E10: =IF(ISBLANK(B10), 0,IF(B10<D10, 0, IF(B10=D10, 80, IF(B10=C10, 100, IF(B10<C10, 80 + (B10-D10)/(C10-D10)*(100-80), 100 + (B10-C10)/(C10-D10)*(100-80)))))) -> 0 | F10: =IF(ISBLANK(B10), "isi data dulu",IF(B10 < D10, "Dibawah target", IF(B10 <= C10, "Di dalam target", "Melebihi target"))) -> Dibawah target
A11: Mei | B11: 73643 | C11: 100050 | D11: 80040 | E11: =IF(ISBLANK(B11), 0,IF(B11<D11, 0, IF(B11=D11, 80, IF(B11=C11, 100, IF(B11<C11, 80 + (B11-D11)/(C11-D11)*(100-80), 100 + (B11-C11)/(C11-D11)*(100-80)))))) -> 0 | F11: =IF(ISBLANK(B11), "isi data dulu",IF(B11 < D11, "Dibawah target", IF(B11 <= C11, "Di dalam target", "Melebihi target"))) -> Dibawah target
A12: Juni | B12: 74899 | C12: 98042 | D12: 78434 | E12: =IF(ISBLANK(B12), 0,IF(B12<D12, 0, IF(B12=D12, 80, IF(B12=C12, 100, IF(B12<C12, 80 + (B12-D12)/(C12-D12)*(100-80), 100 + (B12-C12)/(C12-D12)*(100-80)))))) -> 0 | F12: =IF(ISBLANK(B12), "isi data dulu",IF(B12 < D12, "Dibawah target", IF(B12 <= C12, "Di dalam target", "Melebihi target"))) -> Dibawah target
A13: Juli | B13: 74596 | C13: 92378 | D13: 73902 | E13: =IF(ISBLANK(B13), 0,IF(B13<D13, 0, IF(B13=D13, 80, IF(B13=C13, 100, IF(B13<C13, 80 + (B13-D13)/(C13-D13)*(100-80), 100 + (B13-C13)/(C13-D13)*(100-80)))))) -> 80.751245 | F13: =IF(ISBLANK(B13), "isi data dulu",IF(B13 < D13, "Dibawah target", IF(B13 <= C13, "Di dalam target", "Melebihi target"))) -> Di dalam target
A14: Agustus | B14: 72631 | C14: 89725 | D14: 71780 | E14: =IF(ISBLANK(B14), 0,IF(B14<D14, 0, IF(B14=D14, 80, IF(B14=C14, 100, IF(B14<C14, 80 + (B14-D14)/(C14-D14)*(100-80), 100 + (B14-C14)/(C14-D14)*(100-80)))))) -> 80.948454 | F14: =IF(ISBLANK(B14), "isi data dulu",IF(B14 < D14, "Dibawah target", IF(B14 <= C14, "Di dalam target", "Melebihi target"))) -> Di dalam target
A15: September | B15: 66960 | C15: 90221 | D15: 72177 | E15: =IF(ISBLANK(B15), 0,IF(B15<D15, 0, IF(B15=D15, 80, IF(B15=C15, 100, IF(B15<C15, 80 + (B15-D15)/(C15-D15)*(100-80), 100 + (B15-C15)/(C15-D15)*(100-80)))))) -> 0 | F15: =IF(ISBLANK(B15), "isi data dulu",IF(B15 < D15, "Dibawah target", IF(B15 <= C15, "Di dalam target", "Melebihi target"))) -> Dibawah target
A16: Oktober | C16: 91190 | D16: 72952 | E16: =IF(ISBLANK(B16), 0,IF(B16<D16, 0, IF(B16=D16, 80, IF(B16=C16, 100, IF(B16<C16, 80 + (B16-D16)/(C16-D16)*(100-80), 100 + (B16-C16)/(C16-D16)*(100-80)))))) -> 0 | F16: =IF(ISBLANK(B16), "isi data dulu",IF(B16 < D16, "Dibawah target", IF(B16 <= C16, "Di dalam target", "Melebihi target"))) -> isi data dulu
A17: November | C17: 93653 | D17: 74923 | E17: =IF(ISBLANK(B17), 0,IF(B17<D17, 0, IF(B17=D17, 80, IF(B17=C17, 100, IF(B17<C17, 80 + (B17-D17)/(C17-D17)*(100-80), 100 + (B17-C17)/(C17-D17)*(100-80)))))) -> 0 | F17: =IF(ISBLANK(B17), "isi data dulu",IF(B17 < D17, "Dibawah target", IF(B17 <= C17, "Di dalam target", "Melebihi target"))) -> isi data dulu
A18: Desember | C18: 101831 | D18: 81465 | E18: =IF(ISBLANK(B18), 0,IF(B18<D18, 0, IF(B18=D18, 80, IF(B18=C18, 100, IF(B18<C18, 80 + (B18-D18)/(C18-D18)*(100-80), 100 + (B18-C18)/(C18-D18)*(100-80)))))) -> 0 | F18: =IF(ISBLANK(B18), "isi data dulu",IF(B18 < D18, "Dibawah target", IF(B18 <= C18, "Di dalam target", "Melebihi target"))) -> isi data dulu
A19: Total | B19: =SUM(B7:B18) -> 656672 | C19: =SUM(C7:C18) -> 1173333 | D19: =C19*$D$5 -> 938666.4 | E19: =(B19/C19)*100 -> 55.96638 | F19: =IF(B19 < D19, "Dibawah target", IF(B19 <= C19, "Di dalam target", "Melebihi target")) -> Dibawah target
B20: =B19/Table3_1023[[#Totals],[Target (100%)]] -> 0.82451114 | C20: =SUM(C7:C14) -> 796438

Sheet C1b
A1: Nama KPI | B1: # | C1: NPS | D1: Ridho: Bisa di jalankan semster 2, dititipkan di Survey Pelanggan milih Dept. Marketing
A2: Periode | B2: Quarter (3bln)
A3: Polarisasi | B3: Maksimal
C5: Skala 1-5
A6: Periode | B6: Realisasi | C6: Target (100%) | D6: Treshold Min | E6: Skor | F6: Status
A7: Q1 | C7: 4.5 | D7: 4 | E7: =IF(ISBLANK(B7), 0,IF(B7<D7, 0, IF(B7=D7, 80, IF(B7=C7, 100, IF(B7<C7, 80 + (B7-D7)/(C7-D7)*(100-80), 100 + (B7-C7)/(C7-D7)*(100-80)))))) -> 0 | F7: =IF(ISBLANK(B7), "isi data dulu",IF(B7 < D7, "Dibawah target", IF(B7 <= C7, "Di dalam target", "Melebihi target"))) -> isi data dulu
A8: Q2 | C8: 4.5 | D8: 4 | E8: =IF(ISBLANK(B8), 0,IF(B8<D8, 0, IF(B8=D8, 80, IF(B8=C8, 100, IF(B8<C8, 80 + (B8-D8)/(C8-D8)*(100-80), 100 + (B8-C8)/(C8-D8)*(100-80)))))) -> 0 | F8: =IF(ISBLANK(B8), "isi data dulu",IF(B8 < D8, "Dibawah target", IF(B8 <= C8, "Di dalam target", "Melebihi target"))) -> isi data dulu
A9: Q3 | C9: 4.5 | D9: 4 | E9: =IF(ISBLANK(B9), 0,IF(B9<D9, 0, IF(B9=D9, 80, IF(B9=C9, 100, IF(B9<C9, 80 + (B9-D9)/(C9-D9)*(100-80), 100 + (B9-C9)/(C9-D9)*(100-80)))))) -> 0 | F9: =IF(ISBLANK(B9), "isi data dulu",IF(B9 < D9, "Dibawah target", IF(B9 <= C9, "Di dalam target", "Melebihi target"))) -> isi data dulu
A10: Q4 | C10: 4.5 | D10: 4 | E10: =IF(ISBLANK(B10), 0,IF(B10<D10, 0, IF(B10=D10, 80, IF(B10=C10, 100, IF(B10<C10, 80 + (B10-D10)/(C10-D10)*(100-80), 100 + (B10-C10)/(C10-D10)*(100-80)))))) -> 0 | F10: =IF(ISBLANK(B10), "isi data dulu",IF(B10 < D10, "Dibawah target", IF(B10 <= C10, "Di dalam target", "Melebihi target"))) -> isi data dulu

Sheet C1c
A1: Nama KPI | B1: # | C1: Rata-rata Google Review
A2: Periode | B2: Bulanan
A3: Polarisasi | B3: Maksimal
A6: Periode | B6: Realisasi | C6: Target (100%) | D6: Treshold Min | E6: Skor | F6: Status
A7: Januari | B7: 4.6 | C7: 4.8 | D7: 4.5 | E7: =IF(ISBLANK(B7), 0,IF(B7<D7, 0, IF(B7=D7, 80, IF(B7=C7, 100, IF(B7<C7, 80 + (B7-D7)/(C7-D7)*(100-80), 100 + (B7-C7)/(C7-D7)*(100-80)))))) -> 86.666667 | F7: =IF(ISBLANK(B7), "isi data dulu",IF(B7 < D7, "Dibawah target", IF(B7 <= C7, "Di dalam target", "Melebihi target"))) -> Di dalam target
A8: Februari | B8: 4.4 | C8: 4.8 | D8: 4.5 | E8: =IF(ISBLANK(B8), 0,IF(B8<D8, 0, IF(B8=D8, 80, IF(B8=C8, 100, IF(B8<C8, 80 + (B8-D8)/(C8-D8)*(100-80), 100 + (B8-C8)/(C8-D8)*(100-80)))))) -> 0 | F8: =IF(ISBLANK(B8), "isi data dulu",IF(B8 < D8, "Dibawah target", IF(B8 <= C8, "Di dalam target", "Melebihi target"))) -> Dibawah target
A9: Maret | B9: 4.6 | C9: 4.8 | D9: 4.5 | E9: =IF(ISBLANK(B9), 0,IF(B9<D9, 0, IF(B9=D9, 80, IF(B9=C9, 100, IF(B9<C9, 80 + (B9-D9)/(C9-D9)*(100-80), 100 + (B9-C9)/(C9-D9)*(100-80)))))) -> 86.666667 | F9: =IF(ISBLANK(B9), "isi data dulu",IF(B9 < D9, "Dibawah target", IF(B9 <= C9, "Di dalam target", "Melebihi target"))) -> Di dalam target
A10: April | B10: 4.6 | C10: 4.8 | D10: 4.5 | E10: =IF(ISBLANK(B10), 0,IF(B10<D10, 0, IF(B10=D10, 80, IF(B10=C10, 100, IF(B10<C10, 80 + (B10-D10)/(C10-D10)*(100-80), 100 + (B10-C10)/(C10-D10)*(100-80)))))) -> 86.666667 | F10: =IF(ISBLANK(B10), "isi data dulu",IF(B10 < D10, "Dibawah target", IF(B10 <= C10, "Di dalam target", "Melebihi target"))) -> Di dalam target
A11: Mei | B11: 4.6 | C11: 4.8 | D11: 4.5 | E11: =IF(ISBLANK(B11), 0,IF(B11<D11, 0, IF(B11=D11, 80, IF(B11=C11, 100, IF(B11<C11, 80 + (B11-D11)/(C11-D11)*(100-80), 100 + (B11-C11)/(C11-D11)*(100-80)))))) -> 86.666667 | F11: =IF(ISBLANK(B11), "isi data dulu",IF(B11 < D11, "Dibawah target", IF(B11 <= C11, "Di dalam target", "Melebihi target"))) -> Di dalam target
A12: Juni | B12: 4.6 | C12: 4.8 | D12: 4.5 | E12: =IF(ISBLANK(B12), 0,IF(B12<D12, 0, IF(B12=D12, 80, IF(B12=C12, 100, IF(B12<C12, 80 + (B12-D12)/(C12-D12)*(100-80), 100 + (B12-C12)/(C12-D12)*(100-80)))))) -> 86.666667 | F12: =IF(ISBLANK(B12), "isi data dulu",IF(B12 < D12, "Dibawah target", IF(B12 <= C12, "Di dalam target", "Melebihi target"))) -> Di dalam target
A13: Juli | B13: 4.6 | C13: 4.8 | D13: 4.5 | E13: =IF(ISBLANK(B13), 0,IF(B13<D13, 0, IF(B13=D13, 80, IF(B13=C13, 100, IF(B13<C13, 80 + (B13-D13)/(C13-D13)*(100-80), 100 + (B13-C13)/(C13-D13)*(100-80)))))) -> 86.666667 | F13: =IF(ISBLANK(B13), "isi data dulu",IF(B13 < D13, "Dibawah target", IF(B13 <= C13, "Di dalam target", "Melebihi target"))) -> Di dalam target
A14: Agustus | B14: 4.6 | C14: 4.8 | D14: 4.5 | E14: =IF(ISBLANK(B14), 0,IF(B14<D14, 0, IF(B14=D14, 80, IF(B14=C14, 100, IF(B14<C14, 80 + (B14-D14)/(C14-D14)*(100-80), 100 + (B14-C14)/(C14-D14)*(100-80)))))) -> 86.666667 | F14: =IF(ISBLANK(B14), "isi data dulu",IF(B14 < D14, "Dibawah target", IF(B14 <= C14, "Di dalam target", "Melebihi target"))) -> Di dalam target
A15: September | B15: 4.7 | C15: 4.8 | D15: 4.5 | E15: =IF(ISBLANK(B15), 0,IF(B15<D15, 0, IF(B15=D15, 80, IF(B15=C15, 100, IF(B15<C15, 80 + (B15-D15)/(C15-D15)*(100-80), 100 + (B15-C15)/(C15-D15)*(100-80)))))) -> 93.333333 | F15: =IF(ISBLANK(B15), "isi data dulu",IF(B15 < D15, "Dibawah target", IF(B15 <= C15, "Di dalam target", "Melebihi target"))) -> Di dalam target
A16: Oktober | C16: 4.8 | D16: 4.5 | E16: =IF(ISBLANK(B16), 0,IF(B16<D16, 0, IF(B16=D16, 80, IF(B16=C16, 100, IF(B16<C16, 80 + (B16-D16)/(C16-D16)*(100-80), 100 + (B16-C16)/(C16-D16)*(100-80)))))) -> 0 | F16: =IF(ISBLANK(B16), "isi data dulu",IF(B16 < D16, "Dibawah target", IF(B16 <= C16, "Di dalam target", "Melebihi target"))) -> isi data dulu
A17: November | C17: 4.8 | D17: 4.5 | E17: =IF(ISBLANK(B17), 0,IF(B17<D17, 0, IF(B17=D17, 80, IF(B17=C17, 100, IF(B17<C17, 80 + (B17-D17)/(C17-D17)*(100-80), 100 + (B17-C17)/(C17-D17)*(100-80)))))) -> 0 | F17: =IF(ISBLANK(B17), "isi data dulu",IF(B17 < D17, "Dibawah target", IF(B17 <= C17, "Di dalam target", "Melebihi target"))) -> isi data dulu
A18: Desember | C18: 4.8 | D18: 4.5 | E18: =IF(ISBLANK(B18), 0,IF(B18<D18, 0, IF(B18=D18, 80, IF(B18=C18, 100, IF(B18<C18, 80 + (B18-D18)/(C18-D18)*(100-80), 100 + (B18-C18)/(C18-D18)*(100-80)))))) -> 0 | F18: =IF(ISBLANK(B18), "isi data dulu",IF(B18 < D18, "Dibawah target", IF(B18 <= C18, "Di dalam target", "Melebihi target"))) -> isi data dulu
B19: =AVERAGE(Table3_4[Realisasi]) -> 4.5888889 | C19: =AVERAGE(Table3_4[Target (100%)]) -> 4.8 | D19: =AVERAGE(Table3_4[Treshold Min]) -> 4.5 | E19: =SUBTOTAL(101,Table3_4[Skor]) -> 58.333333

Sheet C1d
A1: Nama KPI | B1: # | C1: Komplain | D1: (komplain yang masuk melalui Soc med, WA, Direct Complain, Google Review)
A2: Periode | B2: Bulanan
A3: Polarisasi | B3: Minimal
A6: Periode | B6: Realisasi | C6: Target (100%) | D6: Treshold Min | E6: Skor | F6: Status | G6: Column1
A7: Januari | B7: 24 | C7: 10 | D7: 15 | E7: =IF(ISBLANK(B7), 0,IF(B7<=C7, 100, IF(B7>=D7, IF(B7=D7, 80, 0), 100 - ((B7-C7)/(D7-C7) * 20)))) -> 0 | F7: =IF(ISBLANK(B7), "isi data dulu", IF(B7<=C7, "sesuai target", IF(AND(B7>C7,B7<=D7), "di dalam target", IF(B7>D7, "melebihi batas", "")))) -> melebihi batas
A8: Februari | B8: 23 | C8: 10 | D8: 15 | E8: =IF(ISBLANK(B8), 0,IF(B8<=C8, 100, IF(B8>=D8, IF(B8=D8, 80, 0), 100 - ((B8-C8)/(D8-C8) * 20)))) -> 0 | F8: =IF(ISBLANK(B8), "isi data dulu", IF(B8<=C8, "sesuai target", IF(AND(B8>C8,B8<=D8), "di dalam target", IF(B8>D8, "melebihi batas", "")))) -> melebihi batas
A9: Maret | B9: 30 | C9: 10 | D9: 15 | E9: =IF(ISBLANK(B9), 0,IF(B9<=C9, 100, IF(B9>=D9, IF(B9=D9, 80, 0), 100 - ((B9-C9)/(D9-C9) * 20)))) -> 0 | F9: =IF(ISBLANK(B9), "isi data dulu", IF(B9<=C9, "sesuai target", IF(AND(B9>C9,B9<=D9), "di dalam target", IF(B9>D9, "melebihi batas", "")))) -> melebihi batas
A10: April | B10: 26 | C10: 12 | D10: 17 | E10: =IF(ISBLANK(B10), 0,IF(B10<=C10, 100, IF(B10>=D10, IF(B10=D10, 80, 0), 100 - ((B10-C10)/(D10-C10) * 20)))) -> 0 | F10: =IF(ISBLANK(B10), "isi data dulu", IF(B10<=C10, "sesuai target", IF(AND(B10>C10,B10<=D10), "di dalam target", IF(B10>D10, "melebihi batas", "")))) -> melebihi batas
A11: Mei | B11: 4 | C11: 12 | D11: 17 | E11: =IF(ISBLANK(B11), 0,IF(B11<=C11, 100, IF(B11>=D11, IF(B11=D11, 80, 0), 100 - ((B11-C11)/(D11-C11) * 20)))) -> 100 | F11: =IF(ISBLANK(B11), "isi data dulu", IF(B11<=C11, "sesuai target", IF(AND(B11>C11,B11<=D11), "di dalam target", IF(B11>D11, "melebihi batas", "")))) -> sesuai target
A12: Juni | B12: 13 | C12: 12 | D12: 17 | E12: =IF(ISBLANK(B12), 0,IF(B12<=C12, 100, IF(B12>=D12, IF(B12=D12, 80, 0), 100 - ((B12-C12)/(D12-C12) * 20)))) -> 96 | F12: =IF(ISBLANK(B12), "isi data dulu", IF(B12<=C12, "sesuai target", IF(AND(B12>C12,B12<=D12), "di dalam target", IF(B12>D12, "melebihi batas", "")))) -> di dalam target
A13: Juli | B13: 33 | C13: 14 | D13: 19 | E13: =IF(ISBLANK(B13), 0,IF(B13<=C13, 100, IF(B13>=D13, IF(B13=D13, 80, 0), 100 - ((B13-C13)/(D13-C13) * 20)))) -> 0 | F13: =IF(ISBLANK(B13), "isi data dulu", IF(B13<=C13, "sesuai target", IF(AND(B13>C13,B13<=D13), "di dalam target", IF(B13>D13, "melebihi batas", "")))) -> melebihi batas
A14: Agustus | B14: 14 | C14: 14 | D14: 19 | E14: =IF(ISBLANK(B14), 0,IF(B14<=C14, 100, IF(B14>=D14, IF(B14=D14, 80, 0), 100 - ((B14-C14)/(D14-C14) * 20)))) -> 100 | F14: =IF(ISBLANK(B14), "isi data dulu", IF(B14<=C14, "sesuai target", IF(AND(B14>C14,B14<=D14), "di dalam target", IF(B14>D14, "melebihi batas", "")))) -> sesuai target
A15: September | C15: 14 | D15: 19 | E15: =IF(ISBLANK(B15), 0,IF(B15<=C15, 100, IF(B15>=D15, IF(B15=D15, 80, 0), 100 - ((B15-C15)/(D15-C15) * 20)))) -> 0 | F15: =IF(ISBLANK(B15), "isi data dulu", IF(B15<=C15, "sesuai target", IF(AND(B15>C15,B15<=D15), "di dalam target", IF(B15>D15, "melebihi batas", "")))) -> isi data dulu | G15: data belum update
A16: Oktober | C16: 16 | D16: 21 | E16: =IF(ISBLANK(B16), 0,IF(B16<=C16, 100, IF(B16>=D16, IF(B16=D16, 80, 0), 100 - ((B16-C16)/(D16-C16) * 20)))) -> 0 | F16: =IF(ISBLANK(B16), "isi data dulu", IF(B16<=C16, "sesuai target", IF(AND(B16>C16,B16<=D16), "di dalam target", IF(B16>D16, "melebihi batas", "")))) -> isi data dulu
A17: November | C17: 16 | D17: 21 | E17: =IF(ISBLANK(B17), 0,IF(B17<=C17, 100, IF(B17>=D17, IF(B17=D17, 80, 0), 100 - ((B17-C17)/(D17-C17) * 20)))) -> 0 | F17: =IF(ISBLANK(B17), "isi data dulu", IF(B17<=C17, "sesuai target", IF(AND(B17>C17,B17<=D17), "di dalam target", IF(B17>D17, "melebihi batas", "")))) -> isi data dulu
A18: Desember | C18: 16 | D18: 21 | E18: =IF(ISBLANK(B18), 0,IF(B18<=C18, 100, IF(B18>=D18, IF(B18=D18, 80, 0), 100 - ((B18-C18)/(D18-C18) * 20)))) -> 0 | F18: =IF(ISBLANK(B18), "isi data dulu", IF(B18<=C18, "sesuai target", IF(AND(B18>C18,B18<=D18), "di dalam target", IF(B18>D18, "melebihi batas", "")))) -> isi data dulu
A19: Total | B19: =SUM(B7:B18) -> 167 | C19: =SUM(C7:C18) -> 156 | D19: =SUM(D7:D18) -> 216 | E19: =IF(ISBLANK(B19), 0,IF(B19<=C19, 100, IF(B19>=D19, IF(B19=D19, 80, 0), 100 - ((B19-C19)/(D19-C19) * 20)))) -> 96.333333 | F19: =IF(ISBLANK(B19), "isi data dulu", IF(B19<=C19, "sesuai target", IF(AND(B19>C19,B19<=D19), "di dalam target", IF(B19>D19, "melebihi batas", "")))) -> di dalam target
C21: catatan: ini jumlah komplain meningkat karena seiring dengan penambahan outlet baru

Sheet C2a
A1: Nama KPI | B1: # | C1: Franchise Baru | D1: (acuan tanda tangan MoU)
A2: Periode | B2: Bulanan
A3: Polarisasi | B3: Maksimal
A6: Periode | B6: Realisasi | C6: Target (100%) | D6: Treshold Min | E6: Skor | F6: Status
A7: Januari | B7: 0 | C7: 3 | D7: 1 | E7: =B7/C7*100 -> 0 | F7: =IF(ISBLANK(B7), "isi data dulu",IF(B7>C7, "Melebihi target", IF(AND(B7>=D7, B7<=C7), "Di dalam target", "Dibawah target"))) -> Dibawah target
A8: Februari | B8: 0 | C8: 6 | D8: 2 | E8: =B8/C8*100 -> 0 | F8: =IF(ISBLANK(B8), "isi data dulu",IF(B8>C8, "Melebihi target", IF(AND(B8>=D8, B8<=C8), "Di dalam target", "Dibawah target"))) -> Dibawah target
A9: Maret | B9: 0 | C9: 9 | D9: 3 | E9: =B9/C9*100 -> 0 | F9: =IF(ISBLANK(B9), "isi data dulu",IF(B9>C9, "Melebihi target", IF(AND(B9>=D9, B9<=C9), "Di dalam target", "Dibawah target"))) -> Dibawah target
A10: April | B10: 0 | C10: 12 | D10: 4 | E10: =B10/C10*100 -> 0 | F10: =IF(ISBLANK(B10), "isi data dulu",IF(B10>C10, "Melebihi target", IF(AND(B10>=D10, B10<=C10), "Di dalam target", "Dibawah target"))) -> Dibawah target
A11: Mei | B11: 0 | C11: 15 | D11: 5 | E11: =B11/C11*100 -> 0 | F11: =IF(ISBLANK(B11), "isi data dulu",IF(B11>C11, "Melebihi target", IF(AND(B11>=D11, B11<=C11), "Di dalam target", "Dibawah target"))) -> Dibawah target
A12: Juni | B12: 1 | C12: 18 | D12: 6 | E12: =B12/C12*100 -> 5.5555556 | F12: =IF(ISBLANK(B12), "isi data dulu",IF(B12>C12, "Melebihi target", IF(AND(B12>=D12, B12<=C12), "Di dalam target", "Dibawah target"))) -> Dibawah target
A13: Juli | C13: 21 | D13: 7 | E13: =B13/C13*100 -> 0 | F13: =IF(ISBLANK(B13), "isi data dulu",IF(B13>C13, "Melebihi target", IF(AND(B13>=D13, B13<=C13), "Di dalam target", "Dibawah target"))) -> isi data dulu
A14: Agustus | C14: 24 | D14: 8 | E14: =B14/C14*100 -> 0 | F14: =IF(ISBLANK(B14), "isi data dulu",IF(B14>C14, "Melebihi target", IF(AND(B14>=D14, B14<=C14), "Di dalam target", "Dibawah target"))) -> isi data dulu
A15: September | C15: 27 | D15: 9 | E15: =B15/C15*100 -> 0 | F15: =IF(ISBLANK(B15), "isi data dulu",IF(B15>C15, "Melebihi target", IF(AND(B15>=D15, B15<=C15), "Di dalam target", "Dibawah target"))) -> isi data dulu
A16: Oktober | C16: 30 | D16: 10 | E16: =B16/C16*100 -> 0 | F16: =IF(ISBLANK(B16), "isi data dulu",IF(B16>C16, "Melebihi target", IF(AND(B16>=D16, B16<=C16), "Di dalam target", "Dibawah target"))) -> isi data dulu
A17: November | C17: 33 | D17: 11 | E17: =B17/C17*100 -> 0 | F17: =IF(ISBLANK(B17), "isi data dulu",IF(B17>C17, "Melebihi target", IF(AND(B17>=D17, B17<=C17), "Di dalam target", "Dibawah target"))) -> isi data dulu
A18: Desember | C18: 36 | D18: 12 | E18: =B18/C18*100 -> 0 | F18: =IF(ISBLANK(B18), "isi data dulu",IF(B18>C18, "Melebihi target", IF(AND(B18>=D18, B18<=C18), "Di dalam target", "Dibawah target"))) -> isi data dulu

Sheet C2b
A1: Nama KPI | B1: # | C1: Total Outlet
A2: Periode | B2: Quarter (3bln)
A3: Polarisasi | B3: Maksimal
C5: 3
A6: Periode | B6: Realisasi | C6: Target (100%) | D6: Treshold Min | E6: Skor | F6: Status | G6: Column 1
A7: Q1 | B7: 29 | C7: 32 | D7: 30 | E7: =B7/C7*100 -> 90.625 | F7: =IF(ISBLANK(B7), "isi data dulu",IF(B7>C7, "Melebihi target", IF(AND(B7>=D7, B7<=C7), "Di dalam target", "Dibawah target"))) -> Dibawah target
A8: Q2 | B8: 28 | C8: 40 | D8: 35 | E8: =B8/C8*100 -> 70 | F8: =IF(ISBLANK(B8), "isi data dulu",IF(B8>C8, "Melebihi target", IF(AND(B8>=D8, B8<=C8), "Di dalam target", "Dibawah target"))) -> Dibawah target | G8: tutup 1 outlet : Teuku Umar Bali
A9: Q3 | C9: 52 | D9: 45 | E9: =B9/C9*100 -> 0 | F9: =IF(ISBLANK(B9), "isi data dulu",IF(B9>C9, "Melebihi target", IF(AND(B9>=D9, B9<=C9), "Di dalam target", "Dibawah target"))) -> isi data dulu
A10: Q4 | C10: 61 | D10: 55 | E10: =B10/C10*100 -> 0 | F10: =IF(ISBLANK(B10), "isi data dulu",IF(B10>C10, "Melebihi target", IF(AND(B10>=D10, B10<=C10), "Di dalam target", "Dibawah target"))) -> isi data dulu
A12: Noted : | B12: Q1 (JAN-MAR) dari 26 outlet existing +3 outlet achieve (Supermall Karawaci +Aeon Deltamas +Puri Surya Jaya) = 28 Outlet
B13: Q2 (masih APRIL) belum ada outlet baru yg di opening shg jumlah masih sama dgn Q1

Sheet B1a
A1: Nama KPI | B1: # | C1: Temuan Audit Mutu & Finance
A2: Periode | B2: Semester
A3: Polarisasi | B3: Minimal
C5: Temuan Mayor | H5: Agustus
A6: Periode | B6: Realisasi | C6: Target (100%) | D6: Treshold Min | E6: Skor | F6: Status
A7: Kuarter 1 | C7: 0 | D7: 1 | E7: =IF(ISBLANK(B7), 0,IF(B7<=C7, 100, IF(B7>=D7, IF(B7=D7, 80, 0), 100 - ((B7-C7)/(D7-C7) * 20)))) -> 0 | F7: =IF(ISBLANK(B7), "isi data dulu", IF(B7<=C7, "sesuai target", IF(AND(B7>C7,B7<=D7), "di dalam target", IF(B7>D7, "melebihi batas", "")))) -> isi data dulu
A8: Kuarter 2 | C8: 0 | D8: 1 | E8: =IF(ISBLANK(B8), 0,IF(B8<=C8, 100, IF(B8>=D8, IF(B8=D8, 80, 0), 100 - ((B8-C8)/(D8-C8) * 20)))) -> 0 | F8: =IF(ISBLANK(B8), "isi data dulu", IF(B8<=C8, "sesuai target", IF(AND(B8>C8,B8<=D8), "di dalam target", IF(B8>D8, "melebihi batas", "")))) -> isi data dulu
A9: Kuarter 3 | B9: 17 | C9: 0 | D9: 1 | E9: =IF(ISBLANK(B9), 0,IF(B9<=C9, 100, IF(B9>=D9, IF(B9=D9, 80, 0), 100 - ((B9-C9)/(D9-C9) * 20)))) -> 0 | F9: =IF(ISBLANK(B9), "isi data dulu", IF(B9<=C9, "sesuai target", IF(AND(B9>C9,B9<=D9), "di dalam target", IF(B9>D9, "melebihi batas", "")))) -> melebihi batas
A10: Kuarter 4 | C10: 0 | D10: 1 | E10: =IF(ISBLANK(B10), 0,IF(B10<=C10, 100, IF(B10>=D10, IF(B10=D10, 80, 0), 100 - ((B10-C10)/(D10-C10) * 20)))) -> 0 | F10: =IF(ISBLANK(B10), "isi data dulu", IF(B10<=C10, "sesuai target", IF(AND(B10>C10,B10<=D10), "di dalam target", IF(B10>D10, "melebihi batas", "")))) -> isi data dulu
B11: =SUM(Table4_3[Realisasi]) -> 17 | C11: =SUM(Table4_3[Target (100%)]) -> 0 | D11: =SUM(Table4_3[Treshold Min]) -> 4 | E11: =SUBTOTAL(101,Table4_3[Skor]) -> 0

Sheet B1b
A1: Nama KPI | B1: # | C1: Sertifikasi Mutu | D1: Sertifikasi laik sehat
A2: Periode | B2: Quarter (3bln)
A3: Polarisasi | B3: Maksimal
C5: Skala 1-5
A6: Periode | B6: Realisasi | C6: Target (100%) | D6: Treshold Min | E6: Skor | F6: Status
A7: Q1 | B7: 3 | C7: 3 | D7: 3 | E7: =IF(ISBLANK(B7), 0,IF(B7<D7, 0, IF(B7=D7, 80, IF(B7=C7, 100, IF(B7<C7, 80 + (B7-D7)/(C7-D7)*(100-80), 100 + (B7-C7)/(C7-D7)*(100-80)))))) -> 80 | F7: =IF(ISBLANK(B7), "isi data dulu",IF(B7 < D7, "Dibawah target", IF(B7 <= C7, "Di dalam target", "Melebihi target"))) -> Di dalam target
A8: Q2 | B8: 3 | C8: 3 | D8: 3 | E8: =IF(ISBLANK(B8), 0,IF(B8<D8, 0, IF(B8=D8, 80, IF(B8=C8, 100, IF(B8<C8, 80 + (B8-D8)/(C8-D8)*(100-80), 100 + (B8-C8)/(C8-D8)*(100-80)))))) -> 80 | F8: =IF(ISBLANK(B8), "isi data dulu",IF(B8 < D8, "Dibawah target", IF(B8 <= C8, "Di dalam target", "Melebihi target"))) -> Di dalam target
A9: Q3 | B9: 3 | C9: 4 | D9: 3 | E9: =IF(ISBLANK(B9), 0,IF(B9<D9, 0, IF(B9=D9, 80, IF(B9=C9, 100, IF(B9<C9, 80 + (B9-D9)/(C9-D9)*(100-80), 100 + (B9-C9)/(C9-D9)*(100-80)))))) -> 80 | F9: =IF(ISBLANK(B9), "isi data dulu",IF(B9 < D9, "Dibawah target", IF(B9 <= C9, "Di dalam target", "Melebihi target"))) -> Di dalam target
A10: Q4 | C10: 4 | D10: 3 | E10: =IF(ISBLANK(B10), 0,IF(B10<D10, 0, IF(B10=D10, 80, IF(B10=C10, 100, IF(B10<C10, 80 + (B10-D10)/(C10-D10)*(100-80), 100 + (B10-C10)/(C10-D10)*(100-80)))))) -> 0 | F10: =IF(ISBLANK(B10), "isi data dulu",IF(B10 < D10, "Dibawah target", IF(B10 <= C10, "Di dalam target", "Melebihi target"))) -> isi data dulu
B12: 3 | C12: 4 | D12: 3 | E12: =IF(ISBLANK(B12), 0,IF(B12<D12, 0, IF(B12=D12, 80, IF(B12=C12, 100, IF(B12<C12, 80 + (B12-D12)/(C12-D12)*(100-80), 100 + (B12-C12)/(C12-D12)*(100-80)))))) -> 80

Sheet B2a
A1: Nama KPI | B1: # | C1: New Menu | D1: KPI ini Cancel per 6 May 2025 saat monthly meeting karena memperoleh KPI tambahan dari GMS
A2: Periode | B2: Quarter (3bln)
A3: Polarisasi | B3: Maksimal
A6: Periode | B6: Realisasi | C6: Target (100%) | D6: Treshold Min | E6: Skor | F6: Status
A7: Q1 | B7: 0 | C7: 2 | D7: 1 | E7: =IF(ISBLANK(B7), 0,IF(B7<D7, 0, IF(B7=D7, 80, IF(B7=C7, 100, IF(B7<C7, 80 + (B7-D7)/(C7-D7)*(100-80), 100 + (B7-C7)/(C7-D7)*(100-80)))))) -> 0 | F7: =IF(ISBLANK(B7), "isi data dulu",IF(B7 < D7, "Dibawah target", IF(B7 <= C7, "Di dalam target", "Melebihi target"))) -> Dibawah target
A8: Q2 | C8: 2 | D8: 1 | E8: =IF(ISBLANK(B8), 0,IF(B8<D8, 0, IF(B8=D8, 80, IF(B8=C8, 100, IF(B8<C8, 80 + (B8-D8)/(C8-D8)*(100-80), 100 + (B8-C8)/(C8-D8)*(100-80)))))) -> 0 | F8: =IF(ISBLANK(B8), "isi data dulu",IF(B8 < D8, "Dibawah target", IF(B8 <= C8, "Di dalam target", "Melebihi target"))) -> isi data dulu
A9: Q3 | C9: 2 | D9: 1 | E9: =IF(ISBLANK(B9), 0,IF(B9<D9, 0, IF(B9=D9, 80, IF(B9=C9, 100, IF(B9<C9, 80 + (B9-D9)/(C9-D9)*(100-80), 100 + (B9-C9)/(C9-D9)*(100-80)))))) -> 0 | F9: =IF(ISBLANK(B9), "isi data dulu",IF(B9 < D9, "Dibawah target", IF(B9 <= C9, "Di dalam target", "Melebihi target"))) -> isi data dulu
A10: Q4 | C10: 2 | D10: 1 | E10: =IF(ISBLANK(B10), 0,IF(B10<D10, 0, IF(B10=D10, 80, IF(B10=C10, 100, IF(B10<C10, 80 + (B10-D10)/(C10-D10)*(100-80), 100 + (B10-C10)/(C10-D10)*(100-80)))))) -> 0 | F10: =IF(ISBLANK(B10), "isi data dulu",IF(B10 < D10, "Dibawah target", IF(B10 <= C10, "Di dalam target", "Melebihi target"))) -> isi data dulu

Sheet L2a
A1: Nama KPI | B1: # | C1: Rata-rata Jam Learning Karyawan
A2: Periode | B2: Bulanan
A3: Polarisasi | B3: Maksimal
A6: Periode | B6: Realisasi | C6: Target (100%) | D6: Treshold Min | E6: Skor | F6: Status
A7: Januari | C7: 3 | D7: 2 | E7: =IF(ISBLANK(B7), 0,IF(B7<D7, 0, IF(B7=D7, 80, IF(B7=C7, 100, IF(B7<C7, 80 + (B7-D7)/(C7-D7)*(100-80), 100 + (B7-C7)/(C7-D7)*(100-80)))))) -> 0 | F7: Dibawah target
A8: Februari | C8: 3 | D8: 2 | E8: =IF(ISBLANK(B8), 0,IF(B8<D8, 0, IF(B8=D8, 80, IF(B8=C8, 100, IF(B8<C8, 80 + (B8-D8)/(C8-D8)*(100-80), 100 + (B8-C8)/(C8-D8)*(100-80)))))) -> 0 | F8: Dibawah target
A9: Maret | C9: 3 | D9: 2 | E9: =IF(ISBLANK(B9), 0,IF(B9<D9, 0, IF(B9=D9, 80, IF(B9=C9, 100, IF(B9<C9, 80 + (B9-D9)/(C9-D9)*(100-80), 100 + (B9-C9)/(C9-D9)*(100-80)))))) -> 0 | F9: Dibawah target
A10: April | B10: 8 | C10: 3 | D10: 2 | E10: =IF(ISBLANK(B10), 0,IF(B10<D10, 0, IF(B10=D10, 80, IF(B10=C10, 100, IF(B10<C10, 80 + (B10-D10)/(C10-D10)*(100-80), 100 + (B10-C10)/(C10-D10)*(100-80)))))) -> 200 | F10: =IF(ISBLANK(B10), "isi data dulu",IF(B10 < D10, "Dibawah target", IF(B10 <= C10, "Di dalam target", "Melebihi target"))) -> Melebihi target
A11: Mei | C11: 3 | D11: 2 | E11: =IF(ISBLANK(B11), 0,IF(B11<D11, 0, IF(B11=D11, 80, IF(B11=C11, 100, IF(B11<C11, 80 + (B11-D11)/(C11-D11)*(100-80), 100 + (B11-C11)/(C11-D11)*(100-80)))))) -> 0 | F11: Dibawah target
A12: Juni | C12: 3 | D12: 2 | E12: =IF(ISBLANK(B12), 0,IF(B12<D12, 0, IF(B12=D12, 80, IF(B12=C12, 100, IF(B12<C12, 80 + (B12-D12)/(C12-D12)*(100-80), 100 + (B12-C12)/(C12-D12)*(100-80)))))) -> 0 | F12: Dibawah target
A13: Juli | B13: 0.2 | C13: 3 | D13: 2 | E13: =IF(ISBLANK(B13), 0,IF(B13<D13, 0, IF(B13=D13, 80, IF(B13=C13, 100, IF(B13<C13, 80 + (B13-D13)/(C13-D13)*(100-80), 100 + (B13-C13)/(C13-D13)*(100-80)))))) -> 0 | F13: =IF(ISBLANK(B13), "isi data dulu",IF(B13 < D13, "Dibawah target", IF(B13 <= C13, "Di dalam target", "Melebihi target"))) -> Dibawah target
A14: Agustus | B14: 0.3 | C14: 3 | D14: 2 | E14: =IF(ISBLANK(B14), 0,IF(B14<D14, 0, IF(B14=D14, 80, IF(B14=C14, 100, IF(B14<C14, 80 + (B14-D14)/(C14-D14)*(100-80), 100 + (B14-C14)/(C14-D14)*(100-80)))))) -> 0 | F14: =IF(ISBLANK(B14), "isi data dulu",IF(B14 < D14, "Dibawah target", IF(B14 <= C14, "Di dalam target", "Melebihi target"))) -> Dibawah target
A15: September | B15: 0.55 | C15: 3 | D15: 2 | E15: =IF(ISBLANK(B15), 0,IF(B15<D15, 0, IF(B15=D15, 80, IF(B15=C15, 100, IF(B15<C15, 80 + (B15-D15)/(C15-D15)*(100-80), 100 + (B15-C15)/(C15-D15)*(100-80)))))) -> 0 | F15: =IF(ISBLANK(B15), "isi data dulu",IF(B15 < D15, "Dibawah target", IF(B15 <= C15, "Di dalam target", "Melebihi target"))) -> Dibawah target
