Workbook

Sheet KPI
B1: KEY PERFORMANCE INDICATOR
B2: Jabatan : Quality Manager
B4: Tanggal | D4: 45708 | K4: Departemen/Jabatan | M4: Quality/Manager
B5: Nama/Jabatan | D5: Riesthandie / Quality Manager | K5: Nama Atasan/Jabatan | M5: Jang Steven Sanjaya/Direktur Utama
B6: Tanggal Bergabung | D6: 43738 | K6: Periode Kinerja | M6: 2025
B8: NO | D8: Perspektif & Sasaran Strategis KPI | F8: Formula | G8: Periode | H8: Verifikasi | I8: Sumber Data | J8: Realisasi Tahun | K8: Target 2025 | M8: Polarisasi | N8: UoM | O8: Realisasi (YTD) | P8: Target (YTD) | Q8: Skor | R8: Bobot | S8: Total (Skor * Bobot)
C9: #, %, IDR | E9: Sumber KPI | J9: 2024 | K9: Target 100% | L9: Treshold Min | O9: 2025 | P9: 2025 | R9: (%)
B10: FINANCIAL PERSPECTIVE
B11: F1 | C11: Meningkatkan Valuasi Bisnis
B12: F1a | C12: IDR | D12: Omset MACRO | E12: VAM | F12: Valuasi omset macro setahun | G12: Tahunan | H12: FA | I12: Laporan FA | J12: Baru | K12: 600000000 | L12: 400000000 | M12: Maksimal | O12: =F1a!B19 -> 110000000 | P12: =F1a!C19 -> 600000000 | Q12: =F1a!E19 -> 18.333333 | R12: 0.2 | S12: =Q12*R12 -> 3.6666667
B13: F2 | C13: Cost Control
B14: F2a | C14: # | D14: Hari keterlambatan realisasi kasbon (koordinator) | E14: HAM | F14: Jumlah hari keterlambatan realisasi kasbon | G14: Bulanan | H14: FA | I14: Laporan FA | J14: Baru | K14: 3 | L14: 5 | M14: Minimal | O14: =F2a!B19 -> 78 | P14: =F2a!C19 -> 36 | Q14: =F2a!E19 -> 0 | R14: 0.05 | S14: =Q14*R14 -> 0
B15: F2b | C15: % | D15: Aset yang tidak sesuai (koordinator) | E15: HAM | F15: Jumlah aset yang tidak sesuai ketika perhitungan stok aset | G15: Semester | H15: GA | J15: Baru | K15: 3 | L15: 5 | M15: Minimal | O15: =F2b!B9 -> 0 | P15: =F2b!C9 -> 6 | Q15: =F2b!E9 -> 100 | R15: 0.03 | S15: =Q15*R15 -> 3
B16: CUSTOMER PERSPECTIVE
B17: C1 | C17: Menciptakan Satisfied Customer Experience
B18: C1a | C18: % | D18: Penyelesaian komplain terkait kualitas | E18: Job Desc | F18: Jumlah komplain yang sudah diselesaikan vs total komplain dalam satu bulan | G18: Bulanan | H18: Direktur | J18: Baru | K18: 90 | L18: 80 | M18: Maksimal | O18: =C1a!B19 -> 622.8 | P18: =C1a!C19 -> 1080 | Q18: =C1a!E19 -> 57.666667 | R18: 0.15 | S18: =Q18*R18 -> 8.65
B19: C2 | C19: Mengembangkan Kerjasama Bisnis
B20: INTERNAL BUSINESS PROCESS PERSPECTIVE
B21: B1 | C21: Meningkatkan kualitas
B22: B1c | C22: # | D22: Kecelakaan kerja | E22: HAM | F22: Jumlah kecelakaan kerja yang terjadi selama sebulan | G22: Bulanan | H22: HSE | J22: Baru | K22: 0 | L22: 1 | M22: Minimal | O22: =B1c!B19 -> 1 | P22: =B1c!C19 -> 0 | Q22: =B1c!E19 -> 98.333333 | R22: 0.05 | S22: =Q22*R22 -> 4.9166667
B23: B2 | C23: Inovasi
B24: B2a | C24: # | D24: Inovasi proses | E24: Initiative | F24: Jumlah inovasi proses yang dihasilkan selama setahun | G24: Tahunan | H24: Direktur | J24: Baru | K24: 4 | L24: 2 | M24: Maksimal | O24: =B2a!B19 -> 0 | P24: =B2a!C19 -> 48 | Q24: =B2a!E19 -> 0 | R24: 0.1 | S24: =Q24*R24 -> 0
B25: B3 | C25: System Development
B26: B3a | C26: # | D26: Management Pest Control | E26: Initiative | F26: Jumlah komplain karena hama | G26: Bulanan | J26: Baru | K26: 0 | L26: 3 | M26: Minimal | O26: =B3a!B19 -> 15 | P26: =B3a!C19 -> 0 | Q26: =B3a!E19 -> 91.666667 | R26: 0.15 | S26: =Q26*R26 -> 13.75
B27: B4a | C27: % | D27: Penyelesaian temuan audit eksternal | E27: Initiative | F27: Temuan audit eksternal yang sudah diselesaikan dalam kurun waktu 2 minggu | G27: Project/ Event | H27: Direktur | J27: Baru | K27: 100 | L27: 80 | M27: Maksimal | O27: =B4a!B19 -> 814 | P27: =B4a!C19 -> 1200 | Q27: =B4a!E19 -> 67.833333 | R27: 0.15 | S27: =Q27*R27 -> 10.175
B28: B5a | C28: # | D28: Temuan Audit Internal Kritis | E28: HAM | F28: Jumlah Temuan Audit Internal Kritis | G28: Tahunan | H28: AI | K28: 3 | L28: 5 | M28: Minimal | O28: =F1a!B36 -> 0 | P28: 3 | Q28: 100 | R28: 0.08 | S28: =Q28*R28 -> 8
B29: LEARNING & GROWTH PERSPECTIVE
B30: L1 | C30: Talent Management
B31: L1a | C31: % | D31: Tingkat retensi karyawan baru | E31: HAM | F31: Jumlah karyawan yang resign pada periode masa kerja bulan ke 4 sampai 6 dibandingkan dengan total karyawan baru dalam satu tahun | G31: Tahunan | H31: HR | J31: Baru | K31: 3 | L31: 5 | M31: Minimal | O31: =L1a!B19 -> 0 | P31: =L1a!C19 -> 36 | Q31: =L1a!E19 -> 100 | R31: 0.05 | S31: =Q31*R31 -> 5
B32: L1b | C32: % | D32: Tingkat talent readiness | E32: VAM | F32: % karyawan yang siap dipromosikan | G32: Quarter (3bln) | H32: HR | J32: Baru | K32: 10 | L32: 5 | M32: Maksimal | O32: =F1a!B40 -> 0 | P32: =F1a!C40 -> 0 | Q32: =F1a!E40 -> 0 | R32: 0.05 | S32: =Q32*R32 -> 0
B33: L2 | C33: People Development
B34: L2a | C34: # | D34: Rata-rata jam learning karyawan | E34: HAM | F34: Menghitung jam belajar karyawan 3 jam/orang/bulan (termasuk training, coaching, baca buku, dll) | G34: Bulanan | H34: HR | J34: Baru | K34: 3 | L34: 2 | M34: Maksimal | O34: =L2a!B19 -> 25.48 | P34: =L2a!C19 -> 36 | Q34: =L2a!E19 -> 70.777778 | R34: 0.05 | S34: =Q34*R34 -> 3.5388889
B35: Total % | Q35: =SUM(Q12:Q34) -> 704.61111 | R35: =SUM(R12:R34) -> 1.11 | S35: =SUM(S12:S34) -> 60.697222
D37: Saya telah mengerti dan berkomitmen selama setahun untuk mencapai tujuan kinerja di atas.
D38: Tanda tangan & Nama | H38: Diketahui, | N38: Disetujui,
D44: Riesthandie | H44: Jang Steven Sanjaya | N44: MR. Y
D45: Jabatan: Quality Manager | H45: Jabatan: Direktur | N45: Jabatan: General Manager

Sheet Achievement
B2: Kode BSC | C2: Indikator | D2: Achieve/Not Achieve | E2: Keterangan
B3: F1a | C3: Omset MACRO | D3: Not Achieve
B4: F2a | C4: Keterlambatan Realisasi Kasbon | D4: Not Achieve
B5: F2b | C5: Aset yg tidak sesuai | D5: Not Achieve | E5: Belum diisi/Belum ada data
B6: C1a | C6: Penyelesaian Komplain pelanggan terkait kualitas | D6: Achieve | E6: Belum diisi/Belum ada data
B7: B1c | C7: Kecelakaan Kerja | D7: Achieve
B8: B2a | C8: Inovasi proses | D8: Not Achieve
B9: B3a | C9: Management pest control (komplain karena hama) | D9: Achieve
B10: B4a | C10: Penyelesaian temuan audit eksternal (by Project audit eksternal) | D10: Achieve
B11: B5a | C11: Temuan Audit Internal Kritis | D11: Achieve | E11: Tidak ada audit internal
B12: L1a | C12: Tingkat retensi karyawan baru | D12: Achieve
B13: L2a | C13: Jam Learning | D13: Achieve
B14: L1b | C14: Tingkat talent readiness | D14: Achieve
B15: L2a | C15: Rata-rata jam learning | D15: Achieve

Sheet F1a
A1: Nama KPI | B1: IDR | C1: Omset MACRO
A2: Periode | B2: Tahunan
A3: Polarisasi | B3: Maksimal
A6: Periode | B6: Realisasi | C6: Target (100%) | D6: Treshold Min | E6: Skor | F6: Status
A7: Januari | B7: 110000000 | C7: 50000000 | D7: 40000000 | E7: =IF(ISBLANK(B7), 0,IF(B7<D7, 0, IF(B7=D7, 80, IF(B7=C7, 100, IF(B7<C7, 80 + (B7-D7)/(C7-D7)*(100-80), 100 + (B7-C7)/(C7-D7)*(100-80)))))) -> 220 | F7: =IF(ISBLANK(B7), "isi data dulu",IF(B7 < D7, "Dibawah target", IF(B7 <= C7, "Di dalam target", "Melebihi target"))) -> Melebihi target
A8: Februari | B8: 0 | C8: 50000000 | D8: 40000000 | E8: =IF(ISBLANK(B8), 0,IF(B8<D8, 0, IF(B8=D8, 80, IF(B8=C8, 100, IF(B8<C8, 80 + (B8-D8)/(C8-D8)*(100-80), 100 + (B8-C8)/(C8-D8)*(100-80)))))) -> 0 | F8: =IF(ISBLANK(B8), "isi data dulu",IF(B8 < D8, "Dibawah target", IF(B8 <= C8, "Di dalam target", "Melebihi target"))) -> Dibawah target
A9: Maret | B9: 0 | C9: 50000000 | D9: 40000000 | E9: =IF(ISBLANK(B9), 0,IF(B9<D9, 0, IF(B9=D9, 80, IF(B9=C9, 100, IF(B9<C9, 80 + (B9-D9)/(C9-D9)*(100-80), 100 + (B9-C9)/(C9-D9)*(100-80)))))) -> 0 | F9: =IF(ISBLANK(B9), "isi data dulu",IF(B9 < D9, "Dibawah target", IF(B9 <= C9, "Di dalam target", "Melebihi target"))) -> Dibawah target
A10: April | B10: 0 | C10: 50000000 | D10: 40000000 | E10: =IF(ISBLANK(B10), 0,IF(B10<D10, 0, IF(B10=D10, 80, IF(B10=C10, 100, IF(B10<C10, 80 + (B10-D10)/(C10-D10)*(100-80), 100 + (B10-C10)/(C10-D10)*(100-80)))))) -> 0 | F10: =IF(ISBLANK(B10), "isi data dulu",IF(B10 < D10, "Dibawah target", IF(B10 <= C10, "Di dalam target", "Melebihi target"))) -> Dibawah target
A11: Mei | B11: 0 | C11: 50000000 | D11: 40000000 | E11: =IF(ISBLANK(B11), 0,IF(B11<D11, 0, IF(B11=D11, 80, IF(B11=C11, 100, IF(B11<C11, 80 + (B11-D11)/(C11-D11)*(100-80), 100 + (B11-C11)/(C11-D11)*(100-80)))))) -> 0 | F11: =IF(ISBLANK(B11), "isi data dulu",IF(B11 < D11, "Dibawah target", IF(B11 <= C11, "Di dalam target", "Melebihi target"))) -> Dibawah target
A12: Juni | B12: 0 | C12: 50000000 | D12: 40000000 | E12: =IF(ISBLANK(B12), 0,IF(B12<D12, 0, IF(B12=D12, 80, IF(B12=C12, 100, IF(B12<C12, 80 + (B12-D12)/(C12-D12)*(100-80), 100 + (B12-C12)/(C12-D12)*(100-80)))))) -> 0 | F12: =IF(ISBLANK(B12), "isi data dulu",IF(B12 < D12, "Dibawah target", IF(B12 <= C12, "Di dalam target", "Melebihi target"))) -> Dibawah target
A13: Juli | B13: 0 | C13: 50000000 | D13: 40000000 | E13: =IF(ISBLANK(B13), 0,IF(B13<D13, 0, IF(B13=D13, 80, IF(B13=C13, 100, IF(B13<C13, 80 + (B13-D13)/(C13-D13)*(100-80), 100 + (B13-C13)/(C13-D13)*(100-80)))))) -> 0 | F13: =IF(ISBLANK(B13), "isi data dulu",IF(B13 < D13, "Dibawah target", IF(B13 <= C13, "Di dalam target", "Melebihi target"))) -> Dibawah target
A14: Agustus | B14: 0 | C14: 50000000 | D14: 40000000 | E14: =IF(ISBLANK(B14), 0,IF(B14<D14, 0, IF(B14=D14, 80, IF(B14=C14, 100, IF(B14<C14, 80 + (B14-D14)/(C14-D14)*(100-80), 100 + (B14-C14)/(C14-D14)*(100-80)))))) -> 0 | F14: =IF(ISBLANK(B14), "isi data dulu",IF(B14 < D14, "Dibawah target", IF(B14 <= C14, "Di dalam target", "Melebihi target"))) -> Dibawah target
A15: September | B15: 0 | C15: 50000000 | D15: 40000000 | E15: =IF(ISBLANK(B15), 0,IF(B15<D15, 0, IF(B15=D15, 80, IF(B15=C15, 100, IF(B15<C15, 80 + (B15-D15)/(C15-D15)*(100-80), 100 + (B15-C15)/(C15-D15)*(100-80)))))) -> 0 | F15: =IF(ISBLANK(B15), "isi data dulu",IF(B15 < D15, "Dibawah target", IF(B15 <= C15, "Di dalam target", "Melebihi target"))) -> Dibawah target
A16: Oktober | C16: 50000000 | D16: 40000000 | E16: =IF(ISBLANK(B16), 0,IF(B16<D16, 0, IF(B16=D16, 80, IF(B16=C16, 100, IF(B16<C16, 80 + (B16-D16)/(C16-D16)*(100-80), 100 + (B16-C16)/(C16-D16)*(100-80)))))) -> 0 | F16: =IF(ISBLANK(B16), "isi data dulu",IF(B16 < D16, "Dibawah target", IF(B16 <= C16, "Di dalam target", "Melebihi target"))) -> isi data dulu
A17: November | C17: 50000000 | D17: 40000000 | E17: =IF(ISBLANK(B17), 0,IF(B17<D17, 0, IF(B17=D17, 80, IF(B17=C17, 100, IF(B17<C17, 80 + (B17-D17)/(C17-D17)*(100-80), 100 + (B17-C17)/(C17-D17)*(100-80)))))) -> 0 | F17: =IF(ISBLANK(B17), "isi data dulu",IF(B17 < D17, "Dibawah target", IF(B17 <= C17, "Di dalam target", "Melebihi target"))) -> isi data dulu
A18: Desember | C18: 50000000 | D18: 40000000 | E18: =IF(ISBLANK(B18), 0,IF(B18<D18, 0, IF(B18=D18, 80, IF(B18=C18, 100, IF(B18<C18, 80 + (B18-D18)/(C18-D18)*(100-80), 100 + (B18-C18)/(C18-D18)*(100-80)))))) -> 0 | F18: =IF(ISBLANK(B18), "isi data dulu",IF(B18 < D18, "Dibawah target", IF(B18 <= C18, "Di dalam target", "Melebihi target"))) -> isi data dulu
A19: Total | B19: =SUM(B7:B18) -> 110000000 | C19: =SUM(C7:C18) -> 600000000 | D19: =SUM(D7:D18) -> 480000000 | E19: =(B19/C19)*100 -> 18.333333 | F19: =IF(B19 < D19, "Dibawah target", IF(B19 <= C19, "Di dalam target", "Melebihi target")) -> Dibawah target

Sheet F2a
A1: Nama KPI | B1: # | C1: Keterlambatan Realisasi Kasbon
A2: Periode | B2: Bulanan
A3: Polarisasi | B3: Minimal
A6: Periode | B6: Realisasi | C6: Target (100%) | D6: Treshold Min | E6: Skor | F6: Status
A7: Januari | B7: 0 | C7: 3 | D7: 5 | E7: =IF(ISBLANK(B7), 0,IF(B7<=C7, 100, IF(B7>=D7, IF(B7=D7, 80, 0), 100 - ((B7-C7)/(D7-C7) * 20)))) -> 100 | F7: =IF(ISBLANK(B7), "isi data dulu", IF(B7<=C7, "sesuai target", IF(AND(B7>C7,B7<=D7), "di dalam target", IF(B7>D7, "melebihi batas", "")))) -> sesuai target
A8: Februari | B8: 0 | C8: 3 | D8: 5 | E8: =IF(ISBLANK(B8), 0,IF(B8<=C8, 100, IF(B8>=D8, IF(B8=D8, 80, 0), 100 - ((B8-C8)/(D8-C8) * 20)))) -> 100 | F8: =IF(ISBLANK(B8), "isi data dulu", IF(B8<=C8, "sesuai target", IF(AND(B8>C8,B8<=D8), "di dalam target", IF(B8>D8, "melebihi batas", "")))) -> sesuai target
A9: Maret | B9: 22 | C9: 3 | D9: 5 | E9: =IF(ISBLANK(B9), 0,IF(B9<=C9, 100, IF(B9>=D9, IF(B9=D9, 80, 0), 100 - ((B9-C9)/(D9-C9) * 20)))) -> 0 | F9: =IF(ISBLANK(B9), "isi data dulu", IF(B9<=C9, "sesuai target", IF(AND(B9>C9,B9<=D9), "di dalam target", IF(B9>D9, "melebihi batas", "")))) -> melebihi batas
A10: April | B10: 5 | C10: 3 | D10: 5 | E10: =IF(ISBLANK(B10), 0,IF(B10<=C10, 100, IF(B10>=D10, IF(B10=D10, 80, 0), 100 - ((B10-C10)/(D10-C10) * 20)))) -> 80 | F10: =IF(ISBLANK(B10), "isi data dulu", IF(B10<=C10, "sesuai target", IF(AND(B10>C10,B10<=D10), "di dalam target", IF(B10>D10, "melebihi batas", "")))) -> di dalam target
A11: Mei | B11: 5 | C11: 3 | D11: 5 | E11: =IF(ISBLANK(B11), 0,IF(B11<=C11, 100, IF(B11>=D11, IF(B11=D11, 80, 0), 100 - ((B11-C11)/(D11-C11) * 20)))) -> 80 | F11: =IF(ISBLANK(B11), "isi data dulu", IF(B11<=C11, "sesuai target", IF(AND(B11>C11,B11<=D11), "di dalam target", IF(B11>D11, "melebihi batas", "")))) -> di dalam target
A12: Juni | B12: 7 | C12: 3 | D12: 5 | E12: =IF(ISBLANK(B12), 0,IF(B12<=C12, 100, IF(B12>=D12, IF(B12=D12, 80, 0), 100 - ((B12-C12)/(D12-C12) * 20)))) -> 0 | F12: =IF(ISBLANK(B12), "isi data dulu", IF(B12<=C12, "sesuai target", IF(AND(B12>C12,B12<=D12), "di dalam target", IF(B12>D12, "melebihi batas", "")))) -> melebihi batas
A13: Juli | B13: 8 | C13: 3 | D13: 5 | E13: =IF(ISBLANK(B13), 0,IF(B13<=C13, 100, IF(B13>=D13, IF(B13=D13, 80, 0), 100 - ((B13-C13)/(D13-C13) * 20)))) -> 0 | F13: =IF(ISBLANK(B13), "isi data dulu", IF(B13<=C13, "sesuai target", IF(AND(B13>C13,B13<=D13), "di dalam target", IF(B13>D13, "melebihi batas", "")))) -> melebihi batas
A14: Agustus | B14: 11 | C14: 3 | D14: 5 | E14: =IF(ISBLANK(B14), 0,IF(B14<=C14, 100, IF(B14>=D14, IF(B14=D14, 80, 0), 100 - ((B14-C14)/(D14-C14) * 20)))) -> 0 | F14: =IF(ISBLANK(B14), "isi data dulu", IF(B14<=C14, "sesuai target", IF(AND(B14>C14,B14<=D14), "di dalam target", IF(B14>D14, "melebihi batas", "")))) -> melebihi batas
A15: September | B15: 20 | C15: 3 | D15: 5 | E15: =IF(ISBLANK(B15), 0,IF(B15<=C15, 100, IF(B15>=D15, IF(B15=D15, 80, 0), 100 - ((B15-C15)/(D15-C15) * 20)))) -> 0 | F15: =IF(ISBLANK(B15), "isi data dulu", IF(B15<=C15, "sesuai target", IF(AND(B15>C15,B15<=D15), "di dalam target", IF(B15>D15, "melebihi batas", "")))) -> melebihi batas
A16: Oktober | C16: 3 | D16: 5 | E16: =IF(ISBLANK(B16), 0,IF(B16<=C16, 100, IF(B16>=D16, IF(B16=D16, 80, 0), 100 - ((B16-C16)/(D16-C16) * 20)))) -> 0 | F16: =IF(ISBLANK(B16), "isi data dulu", IF(B16<=C16, "sesuai target", IF(AND(B16>C16,B16<=D16), "di dalam target", IF(B16>D16, "melebihi batas", "")))) -> isi data dulu
A17: November | C17: 3 | D17: 5 | E17: =IF(ISBLANK(B17), 0,IF(B17<=C17, 100, IF(B17>=D17, IF(B17=D17, 80, 0), 100 - ((B17-C17)/(D17-C17) * 20)))) -> 0 | F17: =IF(ISBLANK(B17), "isi data dulu", IF(B17<=C17, "sesuai target", IF(AND(B17>C17,B17<=D17), "di dalam target", IF(B17>D17, "melebihi batas", "")))) -> isi data dulu
A18: Desember | C18: 3 | D18: 5 | E18: =IF(ISBLANK(B18), 0,IF(B18<=C18, 100, IF(B18>=D18, IF(B18=D18, 80, 0), 100 - ((B18-C18)/(D18-C18) * 20)))) -> 0 | F18: =IF(ISBLANK(B18), "isi data dulu", IF(B18<=C18, "sesuai target", IF(AND(B18>C18,B18<=D18), "di dalam target", IF(B18>D18, "melebihi batas", "")))) -> isi data dulu
A19: Total | B19: =SUM(B7:B18) -> 78 | C19: =SUM(C7:C18) -> 36 | D19: =SUM(D7:D18) -> 60 | E19: =IF(ISBLANK(B19), 0,IF(B19<=C19, 100, IF(B19>=D19, IF(B19=D19, 80, 0), 100 - ((B19-C19)/(D19-C19) * 20)))) -> 0 | F19: =IF(B19<=C19, "sesuai target", IF(AND(B19>C19, B19<=D19), "di dalam target", IF(B19>D19, "melebihi batas", ""))) -> melebihi batas

Sheet F2b
A1: Nama KPI | B1: % | C1: Aset yang tidak sesuai
A2: Periode | B2: Semester
A3: Polarisasi | B3: Minimal
A6: Periode | B6: Realisasi | C6: Target (100%) | D6: Treshold Min | E6: Skor | F6: Status
A7: Semester 1 | B7: 0 | C7: 3 | D7: 5 | E7: =IF(ISBLANK(B7), 0,IF(B7<=C7, 100, IF(B7>=D7, IF(B7=D7, 80, 0), 100 - ((B7-C7)/(D7-C7) * 20)))) -> 100 | F7: =IF(ISBLANK(B7), "isi data dulu", IF(B7<=C7, "sesuai target", IF(AND(B7>C7,B7<=D7), "di dalam target", IF(B7>D7, "melebihi batas", "")))) -> sesuai target
A8: Semester 2 | C8: 3 | D8: 5 | E8: =IF(ISBLANK(B8), 0,IF(B8<=C8, 100, IF(B8>=D8, IF(B8=D8, 80, 0), 100 - ((B8-C8)/(D8-C8) * 20)))) -> 0 | F8: =IF(ISBLANK(B8), "isi data dulu", IF(B8<=C8, "sesuai target", IF(AND(B8>C8,B8<=D8), "di dalam target", IF(B8>D8, "melebihi batas", "")))) -> isi data dulu
A9: Total | B9: =SUM(B7:B8) -> 0 | C9: =SUM(C7:C8) -> 6 | D9: =SUM(D7:D8) -> 10 | E9: =IF(B9<=C9, 100, IF(B9>=D9, IF(B9=D9, 80, 0), 100 - ((B9-C9)/(D9-C9) * 20))) -> 100 | F9: =IF(B9<=C9, "sesuai target", IF(AND(B9>C9, B9<=D9), "di dalam target", IF(B9>D9, "melebihi batas", ""))) -> sesuai target

Sheet C1a
A1: Nama KPI | B1: % | C1: Penyelesaian Komplain pelanggan terkait kualitas
A2: Periode | B2: Bulanan
A3: Polarisasi | B3: Maksimal
A6: Periode | B6: Realisasi | C6: Target (100%) | D6: Treshold Min | E6: Skor | F6: Status
A7: Januari | C7: 90 | D7: 80 | E7: =IF(ISBLANK(B7), 0,IF(B7<D7, 0, IF(B7=D7, 80, IF(B7=C7, 100, IF(B7<C7, 80 + (B7-D7)/(C7-D7)*(100-80), 100 + (B7-C7)/(C7-D7)*(100-80)))))) -> 0 | F7: =IF(ISBLANK(B7), "isi data dulu",IF(B7 < D7, "Dibawah target", IF(B7 <= C7, "Di dalam target", "Melebihi target"))) -> isi data dulu
A8: Februari | C8: 90 | D8: 80 | E8: =IF(ISBLANK(B8), 0,IF(B8<D8, 0, IF(B8=D8, 80, IF(B8=C8, 100, IF(B8<C8, 80 + (B8-D8)/(C8-D8)*(100-80), 100 + (B8-C8)/(C8-D8)*(100-80)))))) -> 0 | F8: =IF(ISBLANK(B8), "isi data dulu",IF(B8 < D8, "Dibawah target", IF(B8 <= C8, "Di dalam target", "Melebihi target"))) -> isi data dulu
A9: Maret | B9: 85 | C9: 90 | D9: 80 | E9: =IF(ISBLANK(B9), 0,IF(B9<D9, 0, IF(B9=D9, 80, IF(B9=C9, 100, IF(B9<C9, 80 + (B9-D9)/(C9-D9)*(100-80), 100 + (B9-C9)/(C9-D9)*(100-80)))))) -> 90 | F9: =IF(ISBLANK(B9), "isi data dulu",IF(B9 < D9, "Dibawah target", IF(B9 <= C9, "Di dalam target", "Melebihi target"))) -> Di dalam target
A10: April | B10: 81.8 | C10: 90 | D10: 80 | E10: =IF(ISBLANK(B10), 0,IF(B10<D10, 0, IF(B10=D10, 80, IF(B10=C10, 100, IF(B10<C10, 80 + (B10-D10)/(C10-D10)*(100-80), 100 + (B10-C10)/(C10-D10)*(100-80)))))) -> 83.6 | F10: =IF(ISBLANK(B10), "isi data dulu",IF(B10 < D10, "Dibawah target", IF(B10 <= C10, "Di dalam target", "Melebihi target"))) -> Di dalam target
A11: Mei | B11: 81 | C11: 90 | D11: 80 | E11: =IF(ISBLANK(B11), 0,IF(B11<D11, 0, IF(B11=D11, 80, IF(B11=C11, 100, IF(B11<C11, 80 + (B11-D11)/(C11-D11)*(100-80), 100 + (B11-C11)/(C11-D11)*(100-80)))))) -> 82 | F11: =IF(ISBLANK(B11), "isi data dulu",IF(B11 < D11, "Dibawah target", IF(B11 <= C11, "Di dalam target", "Melebihi target"))) -> Di dalam target
A12: Juni | B12: 86 | C12: 90 | D12: 80 | E12: =IF(ISBLANK(B12), 0,IF(B12<D12, 0, IF(B12=D12, 80, IF(B12=C12, 100, IF(B12<C12, 80 + (B12-D12)/(C12-D12)*(100-80), 100 + (B12-C12)/(C12-D12)*(100-80)))))) -> 92 | F12: =IF(ISBLANK(B12), "isi data dulu",IF(B12 < D12, "Dibawah target", IF(B12 <= C12, "Di dalam target", "Melebihi target"))) -> Di dalam target
A13: Juli | B13: 89 | C13: 90 | D13: 80 | E13: =IF(ISBLANK(B13), 0,IF(B13<D13, 0, IF(B13=D13, 80, IF(B13=C13, 100, IF(B13<C13, 80 + (B13-D13)/(C13-D13)*(100-80), 100 + (B13-C13)/(C13-D13)*(100-80)))))) -> 98 | F13: =IF(ISBLANK(B13), "isi data dulu",IF(B13 < D13, "Dibawah target", IF(B13 <= C13, "Di dalam target", "Melebihi target"))) -> Di dalam target
A14: Agustus | B14: 100 | C14: 90 | D14: 80 | E14: =IF(ISBLANK(B14), 0,IF(B14<D14, 0, IF(B14=D14, 80, IF(B14=C14, 100, IF(B14<C14, 80 + (B14-D14)/(C14-D14)*(100-80), 100 + (B14-C14)/(C14-D14)*(100-80)))))) -> 120 | F14: =IF(ISBLANK(B14), "isi data dulu",IF(B14 < D14, "Dibawah target", IF(B14 <= C14, "Di dalam target", "Melebihi target"))) -> Melebihi target
A15: September | B15: 100 | C15: 90 | D15: 80 | E15: =IF(ISBLANK(B15), 0,IF(B15<D15, 0, IF(B15=D15, 80, IF(B15=C15, 100, IF(B15<C15, 80 + (B15-D15)/(C15-D15)*(100-80), 100 + (B15-C15)/(C15-D15)*(100-80)))))) -> 120 | F15: =IF(ISBLANK(B15), "isi data dulu",IF(B15 < D15, "Dibawah target", IF(B15 <= C15, "Di dalam target", "Melebihi target"))) -> Melebihi target
A16: Oktober | C16: 90 | D16: 80 | E16: =IF(ISBLANK(B16), 0,IF(B16<D16, 0, IF(B16=D16, 80, IF(B16=C16, 100, IF(B16<C16, 80 + (B16-D16)/(C16-D16)*(100-80), 100 + (B16-C16)/(C16-D16)*(100-80)))))) -> 0 | F16: =IF(ISBLANK(B16), "isi data dulu",IF(B16 < D16, "Dibawah target", IF(B16 <= C16, "Di dalam target", "Melebihi target"))) -> isi data dulu
A17: November | C17: 90 | D17: 80 | E17: =IF(ISBLANK(B17), 0,IF(B17<D17, 0, IF(B17=D17, 80, IF(B17=C17, 100, IF(B17<C17, 80 + (B17-D17)/(C17-D17)*(100-80), 100 + (B17-C17)/(C17-D17)*(100-80)))))) -> 0 | F17: =IF(ISBLANK(B17), "isi data dulu",IF(B17 < D17, "Dibawah target", IF(B17 <= C17, "Di dalam target", "Melebihi target"))) -> isi data dulu
A18: Desember | C18: 90 | D18: 80 | E18: =IF(ISBLANK(B18), 0,IF(B18<D18, 0, IF(B18=D18, 80, IF(B18=C18, 100, IF(B18<C18, 80 + (B18-D18)/(C18-D18)*(100-80), 100 + (B18-C18)/(C18-D18)*(100-80)))))) -> 0 | F18: =IF(ISBLANK(B18), "isi data dulu",IF(B18 < D18, "Dibawah target", IF(B18 <= C18, "Di dalam target", "Melebihi target"))) -> isi data dulu
A19: Total | B19: =SUM(B7:B18) -> 622.8 | C19: =SUM(C7:C18) -> 1080 | D19: =SUM(D7:D18) -> 960 | E19: =(B19/C19)*100 -> 57.666667 | F19: =IF(B19 < D19, "Dibawah target", IF(B19 <= C19, "Di dalam target", "Melebihi target")) -> Dibawah target

Sheet B1a
A1: Nama KPI | B1: % | C1: Penyelesaian Temuan Audit Eksternal
A2: Periode | B2: Project/ Event
A3: Polarisasi | B3: Maksimal
A6: Periode | B6: Realisasi | C6: Target (100%) | D6: Treshold Min | E6: Skor | F6: Status
A7: Januari | B7: 100 | C7: 100 | D7: 80 | E7: =IF(ISBLANK(B7), 0,IF(B7<D7, 0, IF(B7=D7, 80, IF(B7=C7, 100, IF(B7<C7, 80 + (B7-D7)/(C7-D7)*(100-80), 100 + (B7-C7)/(C7-D7)*(100-80)))))) -> 100 | F7: =IF(ISBLANK(B7), "isi data dulu",IF(B7 < D7, "Dibawah target", IF(B7 <= C7, "Di dalam target", "Melebihi target"))) -> Di dalam target
A8: Februari | B8: 100 | C8: 100 | D8: 80 | E8: =IF(ISBLANK(B8), 0,IF(B8<D8, 0, IF(B8=D8, 80, IF(B8=C8, 100, IF(B8<C8, 80 + (B8-D8)/(C8-D8)*(100-80), 100 + (B8-C8)/(C8-D8)*(100-80)))))) -> 100 | F8: =IF(ISBLANK(B8), "isi data dulu",IF(B8 < D8, "Dibawah target", IF(B8 <= C8, "Di dalam target", "Melebihi target"))) -> Di dalam target
A9: Maret | C9: 100 | D9: 80 | E9: =IF(ISBLANK(B9), 0,IF(B9<D9, 0, IF(B9=D9, 80, IF(B9=C9, 100, IF(B9<C9, 80 + (B9-D9)/(C9-D9)*(100-80), 100 + (B9-C9)/(C9-D9)*(100-80)))))) -> 0 | F9: =IF(ISBLANK(B9), "isi data dulu",IF(B9 < D9, "Dibawah target", IF(B9 <= C9, "Di dalam target", "Melebihi target"))) -> isi data dulu
A10: April | C10: 100 | D10: 80 | E10: =IF(ISBLANK(B10), 0,IF(B10<D10, 0, IF(B10=D10, 80, IF(B10=C10, 100, IF(B10<C10, 80 + (B10-D10)/(C10-D10)*(100-80), 100 + (B10-C10)/(C10-D10)*(100-80)))))) -> 0 | F10: =IF(ISBLANK(B10), "isi data dulu",IF(B10 < D10, "Dibawah target", IF(B10 <= C10, "Di dalam target", "Melebihi target"))) -> isi data dulu
A11: Mei | C11: 100 | D11: 80 | E11: =IF(ISBLANK(B11), 0,IF(B11<D11, 0, IF(B11=D11, 80, IF(B11=C11, 100, IF(B11<C11, 80 + (B11-D11)/(C11-D11)*(100-80), 100 + (B11-C11)/(C11-D11)*(100-80)))))) -> 0 | F11: =IF(ISBLANK(B11), "isi data dulu",IF(B11 < D11, "Dibawah target", IF(B11 <= C11, "Di dalam target", "Melebihi target"))) -> isi data dulu
A12: Juni | C12: 100 | D12: 80 | E12: =IF(ISBLANK(B12), 0,IF(B12<D12, 0, IF(B12=D12, 80, IF(B12=C12, 100, IF(B12<C12, 80 + (B12-D12)/(C12-D12)*(100-80), 100 + (B12-C12)/(C12-D12)*(100-80)))))) -> 0 | F12: =IF(ISBLANK(B12), "isi data dulu",IF(B12 < D12, "Dibawah target", IF(B12 <= C12, "Di dalam target", "Melebihi target"))) -> isi data dulu
A13: Juli | C13: 100 | D13: 80 | E13: =IF(ISBLANK(B13), 0,IF(B13<D13, 0, IF(B13=D13, 80, IF(B13=C13, 100, IF(B13<C13, 80 + (B13-D13)/(C13-D13)*(100-80), 100 + (B13-C13)/(C13-D13)*(100-80)))))) -> 0 | F13: =IF(ISBLANK(B13), "isi data dulu",IF(B13 < D13, "Dibawah target", IF(B13 <= C13, "Di dalam target", "Melebihi target"))) -> isi data dulu
A14: Agustus | C14: 100 | D14: 80 | E14: =IF(ISBLANK(B14), 0,IF(B14<D14, 0, IF(B14=D14, 80, IF(B14=C14, 100, IF(B14<C14, 80 + (B14-D14)/(C14-D14)*(100-80), 100 + (B14-C14)/(C14-D14)*(100-80)))))) -> 0 | F14: =IF(ISBLANK(B14), "isi data dulu",IF(B14 < D14, "Dibawah target", IF(B14 <= C14, "Di dalam target", "Melebihi target"))) -> isi data dulu
A15: September | C15: 100 | D15: 80 | E15: =IF(ISBLANK(B15), 0,IF(B15<D15, 0, IF(B15=D15, 80, IF(B15=C15, 100, IF(B15<C15, 80 + (B15-D15)/(C15-D15)*(100-80), 100 + (B15-C15)/(C15-D15)*(100-80)))))) -> 0 | F15: =IF(ISBLANK(B15), "isi data dulu",IF(B15 < D15, "Dibawah target", IF(B15 <= C15, "Di dalam target", "Melebihi target"))) -> isi data dulu
A16: Oktober | C16: 100 | D16: 80 | E16: =IF(ISBLANK(B16), 0,IF(B16<D16, 0, IF(B16=D16, 80, IF(B16=C16, 100, IF(B16<C16, 80 + (B16-D16)/(C16-D16)*(100-80), 100 + (B16-C16)/(C16-D16)*(100-80)))))) -> 0 | F16: =IF(ISBLANK(B16), "isi data dulu",IF(B16 < D16, "Dibawah target", IF(B16 <= C16, "Di dalam target", "Melebihi target"))) -> isi data dulu
A17: November | C17: 100 | D17: 80 | E17: =IF(ISBLANK(B17), 0,IF(B17<D17, 0, IF(B17=D17, 80, IF(B17=C17, 100, IF(B17<C17, 80 + (B17-D17)/(C17-D17)*(100-80), 100 + (B17-C17)/(C17-D17)*(100-80)))))) -> 0 | F17: =IF(ISBLANK(B17), "isi data dulu",IF(B17 < D17, "Dibawah target", IF(B17 <= C17, "Di dalam target", "Melebihi target"))) -> isi data dulu
A18: Desember | C18: 100 | D18: 80 | E18: =IF(ISBLANK(B18), 0,IF(B18<D18, 0, IF(B18=D18, 80, IF(B18=C18, 100, IF(B18<C18, 80 + (B18-D18)/(C18-D18)*(100-80), 100 + (B18-C18)/(C18-D18)*(100-80)))))) -> 0 | F18: =IF(ISBLANK(B18), "isi data dulu",IF(B18 < D18, "Dibawah target", IF(B18 <= C18, "Di dalam target", "Melebihi target"))) -> isi data dulu
A19: Total | B19: =SUM(B7:B18) -> 200 | C19: =SUM(C7:C18) -> 1200 | D19: =SUM(D7:D18) -> 960 | E19: =(B19/C19)*100 -> 16.666667 | F19: =IF(B19 < D19, "Dibawah target", IF(B19 <= C19, "Di dalam target", "Melebihi target")) -> Dibawah target

Sheet B1b
A1: Nama KPI | B1: % | C1: Penyelesaian Lab QC
A2: Periode | B2: Project/ Event
A3: Polarisasi | B3: MIn-Max
A6: Periode | B6: Realisasi | C6: Target (100%) | D6: Treshold Min | E6: Skor | F6: Status
A7: Januari | B7: 0 | C7: 5 | D7: 7 | E7: =(B7/C7)*100 -> 0 | F7: =IF(B7 < D7, "Dibawah target", IF(B7 <= C7, "Di dalam target", "Melebihi target")) -> Dibawah target
A8: Februari | B8: 0 | C8: 5 | D8: 7 | E8: =(B8/C8)*100 -> 0 | F8: =IF(B8 < D8, "Dibawah target", IF(B8 <= C8, "Di dalam target", "Melebihi target")) -> Dibawah target
A9: Maret | C9: 5 | D9: 7 | E9: =(B9/C9)*100 -> 0 | F9: =IF(B9 < D9, "Dibawah target", IF(B9 <= C9, "Di dalam target", "Melebihi target")) -> Dibawah target
A10: April | C10: 5 | D10: 7 | E10: =(B10/C10)*100 -> 0 | F10: =IF(B10 < D10, "Dibawah target", IF(B10 <= C10, "Di dalam target", "Melebihi target")) -> Dibawah target
A11: Mei | C11: 5 | D11: 7 | E11: =(B11/C11)*100 -> 0 | F11: =IF(B11 < D11, "Dibawah target", IF(B11 <= C11, "Di dalam target", "Melebihi target")) -> Dibawah target
A12: Juni | C12: 5 | D12: 7 | E12: =(B12/C12)*100 -> 0 | F12: =IF(B12 < D12, "Dibawah target", IF(B12 <= C12, "Di dalam target", "Melebihi target")) -> Dibawah target
A13: Juli | C13: 5 | D13: 7 | E13: =(B13/C13)*100 -> 0 | F13: =IF(B13 < D13, "Dibawah target", IF(B13 <= C13, "Di dalam target", "Melebihi target")) -> Dibawah target
A14: Agustus | C14: 5 | D14: 7 | E14: =(B14/C14)*100 -> 0 | F14: =IF(B14 < D14, "Dibawah target", IF(B14 <= C14, "Di dalam target", "Melebihi target")) -> Dibawah target
A15: September | C15: 5 | D15: 7 | E15: =(B15/C15)*100 -> 0 | F15: =IF(B15 < D15, "Dibawah target", IF(B15 <= C15, "Di dalam target", "Melebihi target")) -> Dibawah target
A16: Oktober | C16: 5 | D16: 7 | E16: =(B16/C16)*100 -> 0 | F16: =IF(B16 < D16, "Dibawah target", IF(B16 <= C16, "Di dalam target", "Melebihi target")) -> Dibawah target
A17: November | C17: 5 | D17: 7 | E17: =(B17/C17)*100 -> 0 | F17: =IF(B17 < D17, "Dibawah target", IF(B17 <= C17, "Di dalam target", "Melebihi target")) -> Dibawah target
A18: Desember | C18: 5 | D18: 7 | E18: =(B18/C18)*100 -> 0 | F18: =IF(B18 < D18, "Dibawah target", IF(B18 <= C18, "Di dalam target", "Melebihi target")) -> Dibawah target
A19: Total | B19: =SUM(B7:B18) -> 0 | C19: =SUM(C7:C18) -> 60 | D19: =SUM(D7:D18) -> 84 | E19: =(B19/C19)*100 -> 0 | F19: =IF(B19 < D19, "Dibawah target", IF(B19 <= C19, "Di dalam target", "Melebihi target")) -> Dibawah target

Sheet B1c
A1: Nama KPI | B1: # | C1: Kecelakaan Kerja
A2: Periode | B2: Bulanan
A3: Polarisasi | B3: Minimal
A6: Periode | B6: Realisasi | C6: Target (100%) | D6: Treshold Min | E6: Skor | F6: Status
A7: Januari | B7: 0 | C7: 0 | D7: 1 | E7: =IF(ISBLANK(B7), 0,IF(B7<=C7, 100, IF(B7>=D7, IF(B7=D7, 80, 0), 100 - ((B7-C7)/(D7-C7) * 20)))) -> 100 | F7: =IF(ISBLANK(B7), "isi data dulu", IF(B7<=C7, "sesuai target", IF(AND(B7>C7,B7<=D7), "di dalam target", IF(B7>D7, "melebihi batas", "")))) -> sesuai target
A8: Februari | B8: 0 | C8: 0 | D8: 1 | E8: =IF(ISBLANK(B8), 0,IF(B8<=C8, 100, IF(B8>=D8, IF(B8=D8, 80, 0), 100 - ((B8-C8)/(D8-C8) * 20)))) -> 100 | F8: =IF(ISBLANK(B8), "isi data dulu", IF(B8<=C8, "sesuai target", IF(AND(B8>C8,B8<=D8), "di dalam target", IF(B8>D8, "melebihi batas", "")))) -> sesuai target
A9: Maret | B9: 0 | C9: 0 | D9: 1 | E9: =IF(ISBLANK(B9), 0,IF(B9<=C9, 100, IF(B9>=D9, IF(B9=D9, 80, 0), 100 - ((B9-C9)/(D9-C9) * 20)))) -> 100 | F9: =IF(ISBLANK(B9), "isi data dulu", IF(B9<=C9, "sesuai target", IF(AND(B9>C9,B9<=D9), "di dalam target", IF(B9>D9, "melebihi batas", "")))) -> sesuai target
A10: April | B10: 1 | C10: 0 | D10: 1 | E10: =IF(ISBLANK(B10), 0,IF(B10<=C10, 100, IF(B10>=D10, IF(B10=D10, 80, 0), 100 - ((B10-C10)/(D10-C10) * 20)))) -> 80 | F10: =IF(ISBLANK(B10), "isi data dulu", IF(B10<=C10, "sesuai target", IF(AND(B10>C10,B10<=D10), "di dalam target", IF(B10>D10, "melebihi batas", "")))) -> di dalam target
A11: Mei | B11: 0 | C11: 0 | D11: 1 | E11: =IF(ISBLANK(B11), 0,IF(B11<=C11, 100, IF(B11>=D11, IF(B11=D11, 80, 0), 100 - ((B11-C11)/(D11-C11) * 20)))) -> 100 | F11: =IF(ISBLANK(B11), "isi data dulu", IF(B11<=C11, "sesuai target", IF(AND(B11>C11,B11<=D11), "di dalam target", IF(B11>D11, "melebihi batas", "")))) -> sesuai target
A12: Juni | B12: 0 | C12: 0 | D12: 1 | E12: =IF(ISBLANK(B12), 0,IF(B12<=C12, 100, IF(B12>=D12, IF(B12=D12, 80, 0), 100 - ((B12-C12)/(D12-C12) * 20)))) -> 100 | F12: =IF(ISBLANK(B12), "isi data dulu", IF(B12<=C12, "sesuai target", IF(AND(B12>C12,B12<=D12), "di dalam target", IF(B12>D12, "melebihi batas", "")))) -> sesuai target
A13: Juli | B13: 0 | C13: 0 | D13: 1 | E13: =IF(ISBLANK(B13), 0,IF(B13<=C13, 100, IF(B13>=D13, IF(B13=D13, 80, 0), 100 - ((B13-C13)/(D13-C13) * 20)))) -> 100 | F13: =IF(ISBLANK(B13), "isi data dulu", IF(B13<=C13, "sesuai target", IF(AND(B13>C13,B13<=D13), "di dalam target", IF(B13>D13, "melebihi batas", "")))) -> sesuai target
A14: Agustus | B14: 0 | C14: 0 | D14: 1 | E14: =IF(ISBLANK(B14), 0,IF(B14<=C14, 100, IF(B14>=D14, IF(B14=D14, 80, 0), 100 - ((B14-C14)/(D14-C14) * 20)))) -> 100 | F14: =IF(ISBLANK(B14), "isi data dulu", IF(B14<=C14, "sesuai target", IF(AND(B14>C14,B14<=D14), "di dalam target", IF(B14>D14, "melebihi batas", "")))) -> sesuai target
A15: September | B15: 0 | C15: 0 | D15: 1 | E15: =IF(ISBLANK(B15), 0,IF(B15<=C15, 100, IF(B15>=D15, IF(B15=D15, 80, 0), 100 - ((B15-C15)/(D15-C15) * 20)))) -> 100 | F15: =IF(ISBLANK(B15), "isi data dulu", IF(B15<=C15, "sesuai target", IF(AND(B15>C15,B15<=D15), "di dalam target", IF(B15>D15, "melebihi batas", "")))) -> sesuai target
A16: Oktober | C16: 0 | D16: 1 | E16: =IF(ISBLANK(B16), 0,IF(B16<=C16, 100, IF(B16>=D16, IF(B16=D16, 80, 0), 100 - ((B16-C16)/(D16-C16) * 20)))) -> 0 | F16: =IF(ISBLANK(B16), "isi data dulu", IF(B16<=C16, "sesuai target", IF(AND(B16>C16,B16<=D16), "di dalam target", IF(B16>D16, "melebihi batas", "")))) -> isi data dulu
A17: November | C17: 0 | D17: 1 | E17: =IF(ISBLANK(B17), 0,IF(B17<=C17, 100, IF(B17>=D17, IF(B17=D17, 80, 0), 100 - ((B17-C17)/(D17-C17) * 20)))) -> 0 | F17: =IF(ISBLANK(B17), "isi data dulu", IF(B17<=C17, "sesuai target", IF(AND(B17>C17,B17<=D17), "di dalam target", IF(B17>D17, "melebihi batas", "")))) -> isi data dulu
A18: Desember | C18: 0 | D18: 1 | E18: =IF(ISBLANK(B18), 0,IF(B18<=C18, 100, IF(B18>=D18, IF(B18=D18, 80, 0), 100 - ((B18-C18)/(D18-C18) * 20)))) -> 0 | F18: =IF(ISBLANK(B18), "isi data dulu", IF(B18<=C18, "sesuai target", IF(AND(B18>C18,B18<=D18), "di dalam target", IF(B18>D18, "melebihi batas", "")))) -> isi data dulu
A19: Total | B19: =SUM(B7:B18) -> 1 | C19: =SUM(C7:C18) -> 0 | D19: =SUM(D7:D18) -> 12 | E19: =IF(B19<=C19, 100, IF(B19>=D19, IF(B19=D19, 80, 0), 100 - ((B19-C19)/(D19-C19) * 20))) -> 98.333333 | F19: =IF(B19<=C19, "sesuai target", IF(AND(B19>C19, B19<=D19), "di dalam target", IF(B19>D19, "melebihi batas", ""))) -> di dalam target

Sheet B2a
A1: Nama KPI | B1: # | C1: Inovasi proses
A2: Periode | B2: Tahunan
A3: Polarisasi | B3: Maksimal
A6: Periode | B6: Realisasi | C6: Target (100%) | D6: Treshold Min | E6: Skor | F6: Status
A7: Januari | B7: 0 | C7: 4 | D7: 2 | E7: =IF(ISBLANK(B7), 0,IF(B7<D7, 0, IF(B7=D7, 80, IF(B7=C7, 100, IF(B7<C7, 80 + (B7-D7)/(C7-D7)*(100-80), 100 + (B7-C7)/(C7-D7)*(100-80)))))) -> 0 | F7: =IF(ISBLANK(B7), "isi data dulu",IF(B7 < D7, "Dibawah target", IF(B7 <= C7, "Di dalam target", "Melebihi target"))) -> Dibawah target
A8: Februari | B8: 0 | C8: 4 | D8: 2 | E8: =IF(ISBLANK(B8), 0,IF(B8<D8, 0, IF(B8=D8, 80, IF(B8=C8, 100, IF(B8<C8, 80 + (B8-D8)/(C8-D8)*(100-80), 100 + (B8-C8)/(C8-D8)*(100-80)))))) -> 0 | F8: =IF(ISBLANK(B8), "isi data dulu",IF(B8 < D8, "Dibawah target", IF(B8 <= C8, "Di dalam target", "Melebihi target"))) -> Dibawah target
A9: Maret | B9: 0 | C9: 4 | D9: 2 | E9: =IF(ISBLANK(B9), 0,IF(B9<D9, 0, IF(B9=D9, 80, IF(B9=C9, 100, IF(B9<C9, 80 + (B9-D9)/(C9-D9)*(100-80), 100 + (B9-C9)/(C9-D9)*(100-80)))))) -> 0 | F9: =IF(ISBLANK(B9), "isi data dulu",IF(B9 < D9, "Dibawah target", IF(B9 <= C9, "Di dalam target", "Melebihi target"))) -> Dibawah target
A10: April | B10: 0 | C10: 4 | D10: 2 | E10: =IF(ISBLANK(B10), 0,IF(B10<D10, 0, IF(B10=D10, 80, IF(B10=C10, 100, IF(B10<C10, 80 + (B10-D10)/(C10-D10)*(100-80), 100 + (B10-C10)/(C10-D10)*(100-80)))))) -> 0 | F10: =IF(ISBLANK(B10), "isi data dulu",IF(B10 < D10, "Dibawah target", IF(B10 <= C10, "Di dalam target", "Melebihi target"))) -> Dibawah target
A11: Mei | B11: 0 | C11: 4 | D11: 2 | E11: =IF(ISBLANK(B11), 0,IF(B11<D11, 0, IF(B11=D11, 80, IF(B11=C11, 100, IF(B11<C11, 80 + (B11-D11)/(C11-D11)*(100-80), 100 + (B11-C11)/(C11-D11)*(100-80)))))) -> 0 | F11: =IF(ISBLANK(B11), "isi data dulu",IF(B11 < D11, "Dibawah target", IF(B11 <= C11, "Di dalam target", "Melebihi target"))) -> Dibawah target
A12: Juni | B12: 0 | C12: 4 | D12: 2 | E12: =IF(ISBLANK(B12), 0,IF(B12<D12, 0, IF(B12=D12, 80, IF(B12=C12, 100, IF(B12<C12, 80 + (B12-D12)/(C12-D12)*(100-80), 100 + (B12-C12)/(C12-D12)*(100-80)))))) -> 0 | F12: =IF(ISBLANK(B12), "isi data dulu",IF(B12 < D12, "Dibawah target", IF(B12 <= C12, "Di dalam target", "Melebihi target"))) -> Dibawah target
A13: Juli | B13: 0 | C13: 4 | D13: 2 | E13: =IF(ISBLANK(B13), 0,IF(B13<D13, 0, IF(B13=D13, 80, IF(B13=C13, 100, IF(B13<C13, 80 + (B13-D13)/(C13-D13)*(100-80), 100 + (B13-C13)/(C13-D13)*(100-80)))))) -> 0 | F13: =IF(ISBLANK(B13), "isi data dulu",IF(B13 < D13, "Dibawah target", IF(B13 <= C13, "Di dalam target", "Melebihi target"))) -> Dibawah target
A14: Agustus | B14: 0 | C14: 4 | D14: 2 | E14: =IF(ISBLANK(B14), 0,IF(B14<D14, 0, IF(B14=D14, 80, IF(B14=C14, 100, IF(B14<C14, 80 + (B14-D14)/(C14-D14)*(100-80), 100 + (B14-C14)/(C14-D14)*(100-80)))))) -> 0 | F14: =IF(ISBLANK(B14), "isi data dulu",IF(B14 < D14, "Dibawah target", IF(B14 <= C14, "Di dalam target", "Melebihi target"))) -> Dibawah target
A15: September | B15: 0 | C15: 4 | D15: 2 | E15: =IF(ISBLANK(B15), 0,IF(B15<D15, 0, IF(B15=D15, 80, IF(B15=C15, 100, IF(B15<C15, 80 + (B15-D15)/(C15-D15)*(100-80), 100 + (B15-C15)/(C15-D15)*(100-80)))))) -> 0 | F15: =IF(ISBLANK(B15), "isi data dulu",IF(B15 < D15, "Dibawah target", IF(B15 <= C15, "Di dalam target", "Melebihi target"))) -> Dibawah target
A16: Oktober | C16: 4 | D16: 2 | E16: =IF(ISBLANK(B16), 0,IF(B16<D16, 0, IF(B16=D16, 80, IF(B16=C16, 100, IF(B16<C16, 80 + (B16-D16)/(C16-D16)*(100-80), 100 + (B16-C16)/(C16-D16)*(100-80)))))) -> 0 | F16: =IF(ISBLANK(B16), "isi data dulu",IF(B16 < D16, "Dibawah target", IF(B16 <= C16, "Di dalam target", "Melebihi target"))) -> isi data dulu
A17: November | C17: 4 | D17: 2 | E17: =IF(ISBLANK(B17), 0,IF(B17<D17, 0, IF(B17=D17, 80, IF(B17=C17, 100, IF(B17<C17, 80 + (B17-D17)/(C17-D17)*(100-80), 100 + (B17-C17)/(C17-D17)*(100-80)))))) -> 0 | F17: =IF(ISBLANK(B17), "isi data dulu",IF(B17 < D17, "Dibawah target", IF(B17 <= C17, "Di dalam target", "Melebihi target"))) -> isi data dulu
A18: Desember | C18: 4 | D18: 2 | E18: =IF(ISBLANK(B18), 0,IF(B18<D18, 0, IF(B18=D18, 80, IF(B18=C18, 100, IF(B18<C18, 80 + (B18-D18)/(C18-D18)*(100-80), 100 + (B18-C18)/(C18-D18)*(100-80)))))) -> 0 | F18: =IF(ISBLANK(B18), "isi data dulu",IF(B18 < D18, "Dibawah target", IF(B18 <= C18, "Di dalam target", "Melebihi target"))) -> isi data dulu
A19: Total | B19: =SUM(B7:B18) -> 0 | C19: =SUM(C7:C18) -> 48 | D19: =SUM(D7:D18) -> 24 | E19: =(B19/C19)*100 -> 0 | F19: =IF(B19 < D19, "Dibawah target", IF(B19 <= C19, "Di dalam target", "Melebihi target")) -> Dibawah target

Sheet B3a
A1: Nama KPI | B1: # | C1: Management pest control (komplain karena hama)
A2: Periode | B2: Bulanan
A3: Polarisasi | B3: Minimal
A6: Periode | B6: Realisasi | C6: Target (100%) | D6: Treshold Min | E6: Skor | F6: Status | G6: Column 1
A7: Januari | B7: 0 | C7: 0 | D7: 3 | E7: =IF(ISBLANK(B7), 0,IF(B7<=C7, 100, IF(B7>=D7, IF(B7=D7, 80, 0), 100 - ((B7-C7)/(D7-C7) * 20)))) -> 100 | F7: =IF(ISBLANK(B7), "isi data dulu", IF(B7<=C7, "sesuai target", IF(AND(B7>C7,B7<=D7), "di dalam target", IF(B7>D7, "melebihi batas", "")))) -> sesuai target
A8: Februari | B8: 0 | C8: 0 | D8: 3 | E8: =IF(ISBLANK(B8), 0,IF(B8<=C8, 100, IF(B8>=D8, IF(B8=D8, 80, 0), 100 - ((B8-C8)/(D8-C8) * 20)))) -> 100 | F8: =IF(ISBLANK(B8), "isi data dulu", IF(B8<=C8, "sesuai target", IF(AND(B8>C8,B8<=D8), "di dalam target", IF(B8>D8, "melebihi batas", "")))) -> sesuai target
A9: Maret | B9: 0 | C9: 0 | D9: 3 | E9: =IF(ISBLANK(B9), 0,IF(B9<=C9, 100, IF(B9>=D9, IF(B9=D9, 80, 0), 100 - ((B9-C9)/(D9-C9) * 20)))) -> 100 | F9: =IF(ISBLANK(B9), "isi data dulu", IF(B9<=C9, "sesuai target", IF(AND(B9>C9,B9<=D9), "di dalam target", IF(B9>D9, "melebihi batas", "")))) -> sesuai target
A10: April | B10: 2 | C10: 0 | D10: 3 | E10: =IF(ISBLANK(B10), 0,IF(B10<=C10, 100, IF(B10>=D10, IF(B10=D10, 80, 0), 100 - ((B10-C10)/(D10-C10) * 20)))) -> 86.666667 | F10: =IF(ISBLANK(B10), "isi data dulu", IF(B10<=C10, "sesuai target", IF(AND(B10>C10,B10<=D10), "di dalam target", IF(B10>D10, "melebihi batas", "")))) -> di dalam target | G10: Ponti: tikus Gwalk: lampu insect trap mati
A11: Mei | B11: 3 | C11: 0 | D11: 3 | E11: =IF(ISBLANK(B11), 0,IF(B11<=C11, 100, IF(B11>=D11, IF(B11=D11, 80, 0), 100 - ((B11-C11)/(D11-C11) * 20)))) -> 80 | F11: =IF(ISBLANK(B11), "isi data dulu", IF(B11<=C11, "sesuai target", IF(AND(B11>C11,B11<=D11), "di dalam target", IF(B11>D11, "melebihi batas", "")))) -> di dalam target | G11: DLT, MMB, RDP
A12: Juni | B12: 3 | C12: 0 | D12: 3 | E12: =IF(ISBLANK(B12), 0,IF(B12<=C12, 100, IF(B12>=D12, IF(B12=D12, 80, 0), 100 - ((B12-C12)/(D12-C12) * 20)))) -> 80 | F12: =IF(ISBLANK(B12), "isi data dulu", IF(B12<=C12, "sesuai target", IF(AND(B12>C12,B12<=D12), "di dalam target", IF(B12>D12, "melebihi batas", "")))) -> di dalam target | G12: Trap di Pepelegi & PCM, Lubang di IB
A13: Juli | B13: 2 | C13: 0 | D13: 3 | E13: =IF(ISBLANK(B13), 0,IF(B13<=C13, 100, IF(B13>=D13, IF(B13=D13, 80, 0), 100 - ((B13-C13)/(D13-C13) * 20)))) -> 86.666667 | F13: =IF(ISBLANK(B13), "isi data dulu", IF(B13<=C13, "sesuai target", IF(AND(B13>C13,B13<=D13), "di dalam target", IF(B13>D13, "melebihi batas", "")))) -> di dalam target
A14: Agustus | B14: 2 | C14: 0 | D14: 3 | E14: =IF(ISBLANK(B14), 0,IF(B14<=C14, 100, IF(B14>=D14, IF(B14=D14, 80, 0), 100 - ((B14-C14)/(D14-C14) * 20)))) -> 86.666667 | F14: =IF(ISBLANK(B14), "isi data dulu", IF(B14<=C14, "sesuai target", IF(AND(B14>C14,B14<=D14), "di dalam target", IF(B14>D14, "melebihi batas", "")))) -> di dalam target
A15: September | B15: 3 | C15: 0 | D15: 3 | E15: =IF(ISBLANK(B15), 0,IF(B15<=C15, 100, IF(B15>=D15, IF(B15=D15, 80, 0), 100 - ((B15-C15)/(D15-C15) * 20)))) -> 80 | F15: =IF(ISBLANK(B15), "isi data dulu", IF(B15<=C15, "sesuai target", IF(AND(B15>C15,B15<=D15), "di dalam target", IF(B15>D15, "melebihi batas", "")))) -> di dalam target | G15: fly catcher tidak tertancap listrik, perangkap kecoa pecah, peletakkan perangkap tidak sesuai
A16: Oktober | C16: 0 | D16: 3 | E16: =IF(ISBLANK(B16), 0,IF(B16<=C16, 100, IF(B16>=D16, IF(B16=D16, 80, 0), 100 - ((B16-C16)/(D16-C16) * 20)))) -> 0 | F16: =IF(ISBLANK(B16), "isi data dulu", IF(B16<=C16, "sesuai target", IF(AND(B16>C16,B16<=D16), "di dalam target", IF(B16>D16, "melebihi batas", "")))) -> isi data dulu
A17: November | C17: 0 | D17: 3 | E17: =IF(ISBLANK(B17), 0,IF(B17<=C17, 100, IF(B17>=D17, IF(B17=D17, 80, 0), 100 - ((B17-C17)/(D17-C17) * 20)))) -> 0 | F17: =IF(ISBLANK(B17), "isi data dulu", IF(B17<=C17, "sesuai target", IF(AND(B17>C17,B17<=D17), "di dalam target", IF(B17>D17, "melebihi batas", "")))) -> isi data dulu
A18: Desember | C18: 0 | D18: 3 | E18: =IF(ISBLANK(B18), 0,IF(B18<=C18, 100, IF(B18>=D18, IF(B18=D18, 80, 0), 100 - ((B18-C18)/(D18-C18) * 20)))) -> 0 | F18: =IF(ISBLANK(B18), "isi data dulu", IF(B18<=C18, "sesuai target", IF(AND(B18>C18,B18<=D18), "di dalam target", IF(B18>D18, "melebihi batas", "")))) -> isi data dulu
A19: Total | B19: =SUM(B7:B18) -> 15 | C19: =SUM(C7:C18) -> 0 | D19: =SUM(D7:D18) -> 36 | E19: =IF(B19<=C19, 100, IF(B19>=D19, IF(B19=D19, 80, 0), 100 - ((B19-C19)/(D19-C19) * 20))) -> 91.666667 | F19: =IF(B19<=C19, "sesuai target", IF(AND(B19>C19, B19<=D19), "di dalam target", IF(B19>D19, "melebihi batas", ""))) -> di dalam target

Sheet B4a
A1: Nama KPI | B1: % | C1: Penyelesaian temuan audit eksternal (by Project audit eksternal)
A2: Periode | B2: Project/ Event
A3: Polarisasi | B3: Maksimal
A6: Periode | B6: Realisasi | C6: Target (100%) | D6: Treshold Min | E6: Skor | F6: Status
A7: Januari | B7: 100 | C7: 100 | D7: 80 | E7: =IF(ISBLANK(B7), 0,IF(B7<D7, 0, IF(B7=D7, 80, IF(B7=C7, 100, IF(B7<C7, 80 + (B7-D7)/(C7-D7)*(100-80), 100 + (B7-C7)/(C7-D7)*(100-80)))))) -> 100 | F7: =IF(ISBLANK(B7), "isi data dulu",IF(B7 < D7, "Dibawah target", IF(B7 <= C7, "Di dalam target", "Melebihi target"))) -> Di dalam target | H7: tidak ada audit
A8: Februari | B8: 100 | C8: 100 | D8: 80 | E8: =IF(ISBLANK(B8), 0,IF(B8<D8, 0, IF(B8=D8, 80, IF(B8=C8, 100, IF(B8<C8, 80 + (B8-D8)/(C8-D8)*(100-80), 100 + (B8-C8)/(C8-D8)*(100-80)))))) -> 100 | F8: =IF(ISBLANK(B8), "isi data dulu",IF(B8 < D8, "Dibawah target", IF(B8 <= C8, "Di dalam target", "Melebihi target"))) -> Di dalam target | H8: Audit halal PIRT dan audit SLS (Ponti & Pepelegi)
A9: Maret | B9: 100 | C9: 100 | D9: 80 | E9: =IF(ISBLANK(B9), 0,IF(B9<D9, 0, IF(B9=D9, 80, IF(B9=C9, 100, IF(B9<C9, 80 + (B9-D9)/(C9-D9)*(100-80), 100 + (B9-C9)/(C9-D9)*(100-80)))))) -> 100 | F9: =IF(ISBLANK(B9), "isi data dulu",IF(B9 < D9, "Dibawah target", IF(B9 <= C9, "Di dalam target", "Melebihi target"))) -> Di dalam target | H9: tidak ada audit
A10: April | B10: 100 | C10: 100 | D10: 80 | E10: =IF(ISBLANK(B10), 0,IF(B10<D10, 0, IF(B10=D10, 80, IF(B10=C10, 100, IF(B10<C10, 80 + (B10-D10)/(C10-D10)*(100-80), 100 + (B10-C10)/(C10-D10)*(100-80)))))) -> 100 | F10: =IF(ISBLANK(B10), "isi data dulu",IF(B10 < D10, "Dibawah target", IF(B10 <= C10, "Di dalam target", "Melebihi target"))) -> Di dalam target | H10: Audit sepanjang
A11: Mei | B11: 100 | C11: 100 | D11: 80 | E11: =IF(ISBLANK(B11), 0,IF(B11<D11, 0, IF(B11=D11, 80, IF(B11=C11, 100, IF(B11<C11, 80 + (B11-D11)/(C11-D11)*(100-80), 100 + (B11-C11)/(C11-D11)*(100-80)))))) -> 100 | F11: =IF(ISBLANK(B11), "isi data dulu",IF(B11 < D11, "Dibawah target", IF(B11 <= C11, "Di dalam target", "Melebihi target"))) -> Di dalam target
A12: Juni | B12: 29 | C12: 100 | D12: 80 | E12: =IF(ISBLANK(B12), 0,IF(B12<D12, 0, IF(B12=D12, 80, IF(B12=C12, 100, IF(B12<C12, 80 + (B12-D12)/(C12-D12)*(100-80), 100 + (B12-C12)/(C12-D12)*(100-80)))))) -> 0 | F12: =IF(ISBLANK(B12), "isi data dulu",IF(B12 < D12, "Dibawah target", IF(B12 <= C12, "Di dalam target", "Melebihi target"))) -> Dibawah target | H12: Audit CPPOB, tgl 18 Juni 2025
A13: Juli | B13: 90 | C13: 100 | D13: 80 | E13: =IF(ISBLANK(B13), 0,IF(B13<D13, 0, IF(B13=D13, 80, IF(B13=C13, 100, IF(B13<C13, 80 + (B13-D13)/(C13-D13)*(100-80), 100 + (B13-C13)/(C13-D13)*(100-80)))))) -> 90 | F13: =IF(ISBLANK(B13), "isi data dulu",IF(B13 < D13, "Dibawah target", IF(B13 <= C13, "Di dalam target", "Melebihi target"))) -> Di dalam target
A14: Agustus | B14: 95 | C14: 100 | D14: 80 | E14: =IF(ISBLANK(B14), 0,IF(B14<D14, 0, IF(B14=D14, 80, IF(B14=C14, 100, IF(B14<C14, 80 + (B14-D14)/(C14-D14)*(100-80), 100 + (B14-C14)/(C14-D14)*(100-80)))))) -> 95 | F14: =IF(ISBLANK(B14), "isi data dulu",IF(B14 < D14, "Dibawah target", IF(B14 <= C14, "Di dalam target", "Melebihi target"))) -> Di dalam target
A15: September | B15: 100 | C15: 100 | D15: 80 | E15: =IF(ISBLANK(B15), 0,IF(B15<D15, 0, IF(B15=D15, 80, IF(B15=C15, 100, IF(B15<C15, 80 + (B15-D15)/(C15-D15)*(100-80), 100 + (B15-C15)/(C15-D15)*(100-80)))))) -> 100 | F15: =IF(ISBLANK(B15), "isi data dulu",IF(B15 < D15, "Dibawah target", IF(B15 <= C15, "Di dalam target", "Melebihi target"))) -> Di dalam target | H15: Tidak ada audit eksternal
A16: Oktober | C16: 100 | D16: 80 | E16: =IF(ISBLANK(B16), 0,IF(B16<D16, 0, IF(B16=D16, 80, IF(B16=C16, 100, IF(B16<C16, 80 + (B16-D16)/(C16-D16)*(100-80), 100 + (B16-C16)/(C16-D16)*(100-80)))))) -> 0 | F16: =IF(ISBLANK(B16), "isi data dulu",IF(B16 < D16, "Dibawah target", IF(B16 <= C16, "Di dalam target", "Melebihi target"))) -> isi data dulu
A17: November | C17: 100 | D17: 80 | E17: =IF(ISBLANK(B17), 0,IF(B17<D17, 0, IF(B17=D17, 80, IF(B17=C17, 100, IF(B17<C17, 80 + (B17-D17)/(C17-D17)*(100-80), 100 + (B17-C17)/(C17-D17)*(100-80)))))) -> 0 | F17: =IF(ISBLANK(B17), "isi data dulu",IF(B17 < D17, "Dibawah target", IF(B17 <= C17, "Di dalam target", "Melebihi target"))) -> isi data dulu
A18: Desember | C18: 100 | D18: 80 | E18: =IF(ISBLANK(B18), 0,IF(B18<D18, 0, IF(B18=D18, 80, IF(B18=C18, 100, IF(B18<C18, 80 + (B18-D18)/(C18-D18)*(100-80), 100 + (B18-C18)/(C18-D18)*(100-80)))))) -> 0 | F18: =IF(ISBLANK(B18), "isi data dulu",IF(B18 < D18, "Dibawah target", IF(B18 <= C18, "Di dalam target", "Melebihi target"))) -> isi data dulu
A19: Total | B19: =SUM(B7:B18) -> 814 | C19: =SUM(C7:C18) -> 1200 | D19: =SUM(D7:D18) -> 960 | E19: =(B19/C19)*100 -> 67.833333 | F19: =IF(B19 < D19, "Dibawah target", IF(B19 <= C19, "Di dalam target", "Melebihi target")) -> Dibawah target

Sheet B3b
A1: Nama KPI | B1: # | C1: Penyelesaian sertifikasi halal Kedai Kipas 58 & PIRT
A2: Periode | B2: Project/ Event
A3: Polarisasi | B3: Maksimal
A6: Periode | B6: Realisasi | C6: Target (100%) | D6: Treshold Min | E6: Skor | F6: Status
A7: Januari | B7: 0 | C7: 6 | D7: 12 | E7: =IF(ISBLANK(B7), 0,IF(B7<D7, 0, IF(B7=D7, 80, IF(B7=C7, 100, IF(B7<C7, 80 + (B7-D7)/(C7-D7)*(100-80), 100 + (B7-C7)/(C7-D7)*(100-80)))))) -> 0 | F7: =IF(ISBLANK(B7), "isi data dulu",IF(B7 < D7, "Dibawah target", IF(B7 <= C7, "Di dalam target", "Melebihi target"))) -> Dibawah target
A8: Februari | B8: 1 | C8: 6 | D8: 12 | E8: =IF(ISBLANK(B8), 0,IF(B8<D8, 0, IF(B8=D8, 80, IF(B8=C8, 100, IF(B8<C8, 80 + (B8-D8)/(C8-D8)*(100-80), 100 + (B8-C8)/(C8-D8)*(100-80)))))) -> 0 | F8: =IF(ISBLANK(B8), "isi data dulu",IF(B8 < D8, "Dibawah target", IF(B8 <= C8, "Di dalam target", "Melebihi target"))) -> Dibawah target | H8: Halal PIRT sudah dilakukan per Februari 25
A9: Maret | C9: 6 | D9: 12 | E9: =IF(ISBLANK(B9), 0,IF(B9<D9, 0, IF(B9=D9, 80, IF(B9=C9, 100, IF(B9<C9, 80 + (B9-D9)/(C9-D9)*(100-80), 100 + (B9-C9)/(C9-D9)*(100-80)))))) -> 0 | F9: =IF(ISBLANK(B9), "isi data dulu",IF(B9 < D9, "Dibawah target", IF(B9 <= C9, "Di dalam target", "Melebihi target"))) -> isi data dulu
A10: April | C10: 6 | D10: 12 | E10: =IF(ISBLANK(B10), 0,IF(B10<D10, 0, IF(B10=D10, 80, IF(B10=C10, 100, IF(B10<C10, 80 + (B10-D10)/(C10-D10)*(100-80), 100 + (B10-C10)/(C10-D10)*(100-80)))))) -> 0 | F10: =IF(ISBLANK(B10), "isi data dulu",IF(B10 < D10, "Dibawah target", IF(B10 <= C10, "Di dalam target", "Melebihi target"))) -> isi data dulu
A11: Mei | C11: 6 | D11: 12 | E11: =IF(ISBLANK(B11), 0,IF(B11<D11, 0, IF(B11=D11, 80, IF(B11=C11, 100, IF(B11<C11, 80 + (B11-D11)/(C11-D11)*(100-80), 100 + (B11-C11)/(C11-D11)*(100-80)))))) -> 0 | F11: =IF(ISBLANK(B11), "isi data dulu",IF(B11 < D11, "Dibawah target", IF(B11 <= C11, "Di dalam target", "Melebihi target"))) -> isi data dulu
A12: Juni | C12: 6 | D12: 12 | E12: =IF(ISBLANK(B12), 0,IF(B12<D12, 0, IF(B12=D12, 80, IF(B12=C12, 100, IF(B12<C12, 80 + (B12-D12)/(C12-D12)*(100-80), 100 + (B12-C12)/(C12-D12)*(100-80)))))) -> 0 | F12: =IF(ISBLANK(B12), "isi data dulu",IF(B12 < D12, "Dibawah target", IF(B12 <= C12, "Di dalam target", "Melebihi target"))) -> isi data dulu
A13: Juli | C13: 6 | D13: 12 | E13: =IF(ISBLANK(B13), 0,IF(B13<D13, 0, IF(B13=D13, 80, IF(B13=C13, 100, IF(B13<C13, 80 + (B13-D13)/(C13-D13)*(100-80), 100 + (B13-C13)/(C13-D13)*(100-80)))))) -> 0 | F13: =IF(ISBLANK(B13), "isi data dulu",IF(B13 < D13, "Dibawah target", IF(B13 <= C13, "Di dalam target", "Melebihi target"))) -> isi data dulu
A14: Agustus | C14: 6 | D14: 12 | E14: =IF(ISBLANK(B14), 0,IF(B14<D14, 0, IF(B14=D14, 80, IF(B14=C14, 100, IF(B14<C14, 80 + (B14-D14)/(C14-D14)*(100-80), 100 + (B14-C14)/(C14-D14)*(100-80)))))) -> 0 | F14: =IF(ISBLANK(B14), "isi data dulu",IF(B14 < D14, "Dibawah target", IF(B14 <= C14, "Di dalam target", "Melebihi target"))) -> isi data dulu
A15: September | C15: 6 | D15: 12 | E15: =IF(ISBLANK(B15), 0,IF(B15<D15, 0, IF(B15=D15, 80, IF(B15=C15, 100, IF(B15<C15, 80 + (B15-D15)/(C15-D15)*(100-80), 100 + (B15-C15)/(C15-D15)*(100-80)))))) -> 0 | F15: =IF(ISBLANK(B15), "isi data dulu",IF(B15 < D15, "Dibawah target", IF(B15 <= C15, "Di dalam target", "Melebihi target"))) -> isi data dulu
A16: Oktober | C16: 6 | D16: 12 | E16: =IF(ISBLANK(B16), 0,IF(B16<D16, 0, IF(B16=D16, 80, IF(B16=C16, 100, IF(B16<C16, 80 + (B16-D16)/(C16-D16)*(100-80), 100 + (B16-C16)/(C16-D16)*(100-80)))))) -> 0 | F16: =IF(ISBLANK(B16), "isi data dulu",IF(B16 < D16, "Dibawah target", IF(B16 <= C16, "Di dalam target", "Melebihi target"))) -> isi data dulu
A17: November | C17: 6 | D17: 12 | E17: =IF(ISBLANK(B17), 0,IF(B17<D17, 0, IF(B17=D17, 80, IF(B17=C17, 100, IF(B17<C17, 80 + (B17-D17)/(C17-D17)*(100-80), 100 + (B17-C17)/(C17-D17)*(100-80)))))) -> 0 | F17: =IF(ISBLANK(B17), "isi data dulu",IF(B17 < D17, "Dibawah target", IF(B17 <= C17, "Di dalam target", "Melebihi target"))) -> isi data dulu
A18: Desember | C18: 6 | D18: 12 | E18: =IF(ISBLANK(B18), 0,IF(B18<D18, 0, IF(B18=D18, 80, IF(B18=C18, 100, IF(B18<C18, 80 + (B18-D18)/(C18-D18)*(100-80), 100 + (B18-C18)/(C18-D18)*(100-80)))))) -> 0 | F18: =IF(ISBLANK(B18), "isi data dulu",IF(B18 < D18, "Dibawah target", IF(B18 <= C18, "Di dalam target", "Melebihi target"))) -> isi data dulu
A19: Total | B19: =SUM(B7:B18) -> 1 | C19: =SUM(C7:C18) -> 72 | D19: =SUM(D7:D18) -> 144 | E19: =(B19/C19)*100 -> 1.3888889 | F19: =IF(B19 < D19, "Dibawah target", IF(B19 <= C19, "Di dalam target", "Melebihi target")) -> Dibawah target

Sheet B3c
A1: Nama KPI | B1: # | C1: Penyelesaian Ijin Edar BPOM
A2: Periode | B2: Project/ Event
A3: Polarisasi | B3: Maksimal
A6: Periode | B6: Realisasi | C6: Target (100%) | D6: Treshold Min | E6: Skor | F6: Status
A7: Januari | B7: 0 | C7: 6 | D7: 12 | E7: =IF(ISBLANK(B7), 0,IF(B7<D7, 0, IF(B7=D7, 80, IF(B7=C7, 100, IF(B7<C7, 80 + (B7-D7)/(C7-D7)*(100-80), 100 + (B7-C7)/(C7-D7)*(100-80)))))) -> 0 | F7: =IF(ISBLANK(B7), "isi data dulu",IF(B7 < D7, "Dibawah target", IF(B7 <= C7, "Di dalam target", "Melebihi target"))) -> Dibawah target
A8: Februari | B8: 0 | C8: 6 | D8: 12 | E8: =IF(ISBLANK(B8), 0,IF(B8<D8, 0, IF(B8=D8, 80, IF(B8=C8, 100, IF(B8<C8, 80 + (B8-D8)/(C8-D8)*(100-80), 100 + (B8-C8)/(C8-D8)*(100-80)))))) -> 0 | F8: =IF(ISBLANK(B8), "isi data dulu",IF(B8 < D8, "Dibawah target", IF(B8 <= C8, "Di dalam target", "Melebihi target"))) -> Dibawah target
A9: Maret | C9: 6 | D9: 12 | E9: =IF(ISBLANK(B9), 0,IF(B9<D9, 0, IF(B9=D9, 80, IF(B9=C9, 100, IF(B9<C9, 80 + (B9-D9)/(C9-D9)*(100-80), 100 + (B9-C9)/(C9-D9)*(100-80)))))) -> 0 | F9: =IF(ISBLANK(B9), "isi data dulu",IF(B9 < D9, "Dibawah target", IF(B9 <= C9, "Di dalam target", "Melebihi target"))) -> isi data dulu
A10: April | C10: 6 | D10: 12 | E10: =IF(ISBLANK(B10), 0,IF(B10<D10, 0, IF(B10=D10, 80, IF(B10=C10, 100, IF(B10<C10, 80 + (B10-D10)/(C10-D10)*(100-80), 100 + (B10-C10)/(C10-D10)*(100-80)))))) -> 0 | F10: =IF(ISBLANK(B10), "isi data dulu",IF(B10 < D10, "Dibawah target", IF(B10 <= C10, "Di dalam target", "Melebihi target"))) -> isi data dulu
A11: Mei | C11: 6 | D11: 12 | E11: =IF(ISBLANK(B11), 0,IF(B11<D11, 0, IF(B11=D11, 80, IF(B11=C11, 100, IF(B11<C11, 80 + (B11-D11)/(C11-D11)*(100-80), 100 + (B11-C11)/(C11-D11)*(100-80)))))) -> 0 | F11: =IF(ISBLANK(B11), "isi data dulu",IF(B11 < D11, "Dibawah target", IF(B11 <= C11, "Di dalam target", "Melebihi target"))) -> isi data dulu
A12: Juni | C12: 6 | D12: 12 | E12: =IF(ISBLANK(B12), 0,IF(B12<D12, 0, IF(B12=D12, 80, IF(B12=C12, 100, IF(B12<C12, 80 + (B12-D12)/(C12-D12)*(100-80), 100 + (B12-C12)/(C12-D12)*(100-80)))))) -> 0 | F12: =IF(ISBLANK(B12), "isi data dulu",IF(B12 < D12, "Dibawah target", IF(B12 <= C12, "Di dalam target", "Melebihi target"))) -> isi data dulu
A13: Juli | C13: 6 | D13: 12 | E13: =IF(ISBLANK(B13), 0,IF(B13<D13, 0, IF(B13=D13, 80, IF(B13=C13, 100, IF(B13<C13, 80 + (B13-D13)/(C13-D13)*(100-80), 100 + (B13-C13)/(C13-D13)*(100-80)))))) -> 0 | F13: =IF(ISBLANK(B13), "isi data dulu",IF(B13 < D13, "Dibawah target", IF(B13 <= C13, "Di dalam target", "Melebihi target"))) -> isi data dulu
A14: Agustus | C14: 6 | D14: 12 | E14: =IF(ISBLANK(B14), 0,IF(B14<D14, 0, IF(B14=D14, 80, IF(B14=C14, 100, IF(B14<C14, 80 + (B14-D14)/(C14-D14)*(100-80), 100 + (B14-C14)/(C14-D14)*(100-80)))))) -> 0 | F14: =IF(ISBLANK(B14), "isi data dulu",IF(B14 < D14, "Dibawah target", IF(B14 <= C14, "Di dalam target", "Melebihi target"))) -> isi data dulu
A15: September | C15: 6 | D15: 12 | E15: =IF(ISBLANK(B15), 0,IF(B15<D15, 0, IF(B15=D15, 80, IF(B15=C15, 100, IF(B15<C15, 80 + (B15-D15)/(C15-D15)*(100-80), 100 + (B15-C15)/(C15-D15)*(100-80)))))) -> 0 | F15: =IF(ISBLANK(B15), "isi data dulu",IF(B15 < D15, "Dibawah target", IF(B15 <= C15, "Di dalam target", "Melebihi target"))) -> isi data dulu
A16: Oktober | C16: 6 | D16: 12 | E16: =IF(ISBLANK(B16), 0,IF(B16<D16, 0, IF(B16=D16, 80, IF(B16=C16, 100, IF(B16<C16, 80 + (B16-D16)/(C16-D16)*(100-80), 100 + (B16-C16)/(C16-D16)*(100-80)))))) -> 0 | F16: =IF(ISBLANK(B16), "isi data dulu",IF(B16 < D16, "Dibawah target", IF(B16 <= C16, "Di dalam target", "Melebihi target"))) -> isi data dulu
A17: November | C17: 6 | D17: 12 | E17: =IF(ISBLANK(B17), 0,IF(B17<D17, 0, IF(B17=D17, 80, IF(B17=C17, 100, IF(B17<C17, 80 + (B17-D17)/(C17-D17)*(100-80), 100 + (B17-C17)/(C17-D17)*(100-80)))))) -> 0 | F17: =IF(ISBLANK(B17), "isi data dulu",IF(B17 < D17, "Dibawah target", IF(B17 <= C17, "Di dalam target", "Melebihi target"))) -> isi data dulu
A18: Desember | C18: 6 | D18: 12 | E18: =IF(ISBLANK(B18), 0,IF(B18<D18, 0, IF(B18=D18, 80, IF(B18=C18, 100, IF(B18<C18, 80 + (B18-D18)/(C18-D18)*(100-80), 100 + (B18-C18)/(C18-D18)*(100-80)))))) -> 0 | F18: =IF(ISBLANK(B18), "isi data dulu",IF(B18 < D18, "Dibawah target", IF(B18 <= C18, "Di dalam target", "Melebihi target"))) -> isi data dulu
A19: Total | B19: =SUM(B7:B18) -> 0 | C19: =SUM(C7:C18) -> 72 | D19: =SUM(D7:D18) -> 144 | E19: =(B19/C19)*100 -> 0 | F19: =IF(B19 < D19, "Dibawah target", IF(B19 <= C19, "Di dalam target", "Melebihi target")) -> Dibawah target

Sheet L1a
A1: Nama KPI | B1: % | C1: Tingkat retensi karyawan baru
A2: Periode | B2: Tahunan
A3: Polarisasi | B3: Minimal
A6: Periode | B6: Realisasi | C6: Target (100%) | D6: Treshold Min | E6: Skor | F6: Status
A7: Januari | B7: 0 | C7: 3 | D7: 5 | E7: =IF(ISBLANK(B7), 0,IF(B7<=C7, 100, IF(B7>=D7, IF(B7=D7, 80, 0), 100 - ((B7-C7)/(D7-C7) * 20)))) -> 100 | F7: =IF(ISBLANK(B7), "isi data dulu", IF(B7<=C7, "sesuai target", IF(AND(B7>C7,B7<=D7), "di dalam target", IF(B7>D7, "melebihi batas", "")))) -> sesuai target
A8: Februari | B8: 0 | C8: 3 | D8: 5 | E8: =IF(ISBLANK(B8), 0,IF(B8<=C8, 100, IF(B8>=D8, IF(B8=D8, 80, 0), 100 - ((B8-C8)/(D8-C8) * 20)))) -> 100 | F8: =IF(ISBLANK(B8), "isi data dulu", IF(B8<=C8, "sesuai target", IF(AND(B8>C8,B8<=D8), "di dalam target", IF(B8>D8, "melebihi batas", "")))) -> sesuai target
A9: Maret | B9: 0 | C9: 3 | D9: 5 | E9: =IF(ISBLANK(B9), 0,IF(B9<=C9, 100, IF(B9>=D9, IF(B9=D9, 80, 0), 100 - ((B9-C9)/(D9-C9) * 20)))) -> 100 | F9: =IF(ISBLANK(B9), "isi data dulu", IF(B9<=C9, "sesuai target", IF(AND(B9>C9,B9<=D9), "di dalam target", IF(B9>D9, "melebihi batas", "")))) -> sesuai target
A10: April | B10: 0 | C10: 3 | D10: 5 | E10: =IF(ISBLANK(B10), 0,IF(B10<=C10, 100, IF(B10>=D10, IF(B10=D10, 80, 0), 100 - ((B10-C10)/(D10-C10) * 20)))) -> 100 | F10: =IF(ISBLANK(B10), "isi data dulu", IF(B10<=C10, "sesuai target", IF(AND(B10>C10,B10<=D10), "di dalam target", IF(B10>D10, "melebihi batas", "")))) -> sesuai target
A11: Mei | B11: 0 | C11: 3 | D11: 5 | E11: =IF(ISBLANK(B11), 0,IF(B11<=C11, 100, IF(B11>=D11, IF(B11=D11, 80, 0), 100 - ((B11-C11)/(D11-C11) * 20)))) -> 100 | F11: =IF(ISBLANK(B11), "isi data dulu", IF(B11<=C11, "sesuai target", IF(AND(B11>C11,B11<=D11), "di dalam target", IF(B11>D11, "melebihi batas", "")))) -> sesuai target
A12: Juni | B12: 0 | C12: 3 | D12: 5 | E12: =IF(ISBLANK(B12), 0,IF(B12<=C12, 100, IF(B12>=D12, IF(B12=D12, 80, 0), 100 - ((B12-C12)/(D12-C12) * 20)))) -> 100 | F12: =IF(ISBLANK(B12), "isi data dulu", IF(B12<=C12, "sesuai target", IF(AND(B12>C12,B12<=D12), "di dalam target", IF(B12>D12, "melebihi batas", "")))) -> sesuai target
A13: Juli | B13: 0 | C13: 3 | D13: 5 | E13: =IF(ISBLANK(B13), 0,IF(B13<=C13, 100, IF(B13>=D13, IF(B13=D13, 80, 0), 100 - ((B13-C13)/(D13-C13) * 20)))) -> 100 | F13: =IF(ISBLANK(B13), "isi data dulu", IF(B13<=C13, "sesuai target", IF(AND(B13>C13,B13<=D13), "di dalam target", IF(B13>D13, "melebihi batas", "")))) -> sesuai target
A14: Agustus | B14: 0 | C14: 3 | D14: 5 | E14: =IF(ISBLANK(B14), 0,IF(B14<=C14, 100, IF(B14>=D14, IF(B14=D14, 80, 0), 100 - ((B14-C14)/(D14-C14) * 20)))) -> 100 | F14: =IF(ISBLANK(B14), "isi data dulu", IF(B14<=C14, "sesuai target", IF(AND(B14>C14,B14<=D14), "di dalam target", IF(B14>D14, "melebihi batas", "")))) -> sesuai target
A15: September | B15: 0 | C15: 3 | D15: 5 | E15: =IF(ISBLANK(B15), 0,IF(B15<=C15, 100, IF(B15>=D15, IF(B15=D15, 80, 0), 100 - ((B15-C15)/(D15-C15) * 20)))) -> 100 | F15: =IF(ISBLANK(B15), "isi data dulu", IF(B15<=C15, "sesuai target", IF(AND(B15>C15,B15<=D15), "di dalam target", IF(B15>D15, "melebihi batas", "")))) -> sesuai target
A16: Oktober | C16: 3 | D16: 5 | E16: =IF(ISBLANK(B16), 0,IF(B16<=C16, 100, IF(B16>=D16, IF(B16=D16, 80, 0), 100 - ((B16-C16)/(D16-C16) * 20)))) -> 0 | F16: =IF(ISBLANK(B16), "isi data dulu", IF(B16<=C16, "sesuai target", IF(AND(B16>C16,B16<=D16), "di dalam target", IF(B16>D16, "melebihi batas", "")))) -> isi data dulu
A17: November | C17: 3 | D17: 5 | E17: =IF(ISBLANK(B17), 0,IF(B17<=C17, 100, IF(B17>=D17, IF(B17=D17, 80, 0), 100 - ((B17-C17)/(D17-C17) * 20)))) -> 0 | F17: =IF(ISBLANK(B17), "isi data dulu", IF(B17<=C17, "sesuai target", IF(AND(B17>C17,B17<=D17), "di dalam target", IF(B17>D17, "melebihi batas", "")))) -> isi data dulu
A18: Desember | C18: 3 | D18: 5 | E18: =IF(ISBLANK(B18), 0,IF(B18<=C18, 100, IF(B18>=D18, IF(B18=D18, 80, 0), 100 - ((B18-C18)/(D18-C18) * 20)))) -> 0 | F18: =IF(ISBLANK(B18), "isi data dulu", IF(B18<=C18, "sesuai target", IF(AND(B18>C18,B18<=D18), "di dalam target", IF(B18>D18, "melebihi batas", "")))) -> isi data dulu
A19: Total | B19: =SUM(B7:B18) -> 0 | C19: =SUM(C7:C18) -> 36 | D19: =SUM(D7:D18) -> 60 | E19: =IF(B19<=C19, 100, IF(B19>=D19, IF(B19=D19, 80, 0), 100 - ((B19-C19)/(D19-C19) * 20))) -> 100 | F19: =IF(B19<=C19, "sesuai target", IF(AND(B19>C19, B19<=D19), "di dalam target", IF(B19>D19, "melebihi batas", ""))) -> sesuai target

Sheet L1b
A1: Nama KPI | B1: # | C1: Tingkat talent readiness
A2: Periode | B2: Quarter (3bln)
A3: Polarisasi | B3: Maksimal | D3: Note: Ridho: Talemt Readiness diubah menjadi #
A6: Periode | B6: Realisasi | C6: Target (100%) | D6: Treshold Min | E6: Skor | F6: Status
A7: Q1 | B7: 2 | C7: 4 | D7: 2 | E7: =IF(ISBLANK(B7), 0,IF(B7<D7, 0, IF(B7=D7, 80, IF(B7=C7, 100, IF(B7<C7, 80 + (B7-D7)/(C7-D7)*(100-80), 100 + (B7-C7)/(C7-D7)*(100-80)))))) -> 80 | F7: =IF(ISBLANK(B7), "isi data dulu",IF(B7 < D7, "Dibawah target", IF(B7 <= C7, "Di dalam target", "Melebihi target"))) -> Di dalam target
A8: Q2 | B8: 2 | C8: 4 | D8: 2 | E8: =IF(ISBLANK(B8), 0,IF(B8<D8, 0, IF(B8=D8, 80, IF(B8=C8, 100, IF(B8<C8, 80 + (B8-D8)/(C8-D8)*(100-80), 100 + (B8-C8)/(C8-D8)*(100-80)))))) -> 80 | F8: =IF(ISBLANK(B8), "isi data dulu",IF(B8 < D8, "Dibawah target", IF(B8 <= C8, "Di dalam target", "Melebihi target"))) -> Di dalam target
A9: Q3 | B9: 2 | C9: 4 | D9: 2 | E9: =IF(ISBLANK(B9), 0,IF(B9<D9, 0, IF(B9=D9, 80, IF(B9=C9, 100, IF(B9<C9, 80 + (B9-D9)/(C9-D9)*(100-80), 100 + (B9-C9)/(C9-D9)*(100-80)))))) -> 80 | F9: =IF(ISBLANK(B9), "isi data dulu",IF(B9 < D9, "Dibawah target", IF(B9 <= C9, "Di dalam target", "Melebihi target"))) -> Di dalam target
A10: Q4 | C10: 4 | D10: 2 | E10: =IF(ISBLANK(B10), 0,IF(B10<D10, 0, IF(B10=D10, 80, IF(B10=C10, 100, IF(B10<C10, 80 + (B10-D10)/(C10-D10)*(100-80), 100 + (B10-C10)/(C10-D10)*(100-80)))))) -> 0 | F10: =IF(ISBLANK(B10), "isi data dulu",IF(B10 < D10, "Dibawah target", IF(B10 <= C10, "Di dalam target", "Melebihi target"))) -> isi data dulu
A11: Total | B11: =SUM(B7:B10) -> 6 | C11: =SUM(C7:C10) -> 16 | D11: =SUM(D7:D10) -> 8 | E11: =(B11/C11)*100 -> 37.5 | F11: =IF(B11 < D11, "Dibawah target", IF(B11 <= C11, "Di dalam target", "Melebihi target")) -> Dibawah target
B13: Adis | C13: Sr Staf to Jr SPV | D13: Total Karyawan | E13: 10 | F13: 1 orang
B14: Isti | C14: Sr Staf to Jr SPV | D14: Talent Readiness | E14: 3 | F14: 1 orang
B15: Amalia | C15: Staf to Sr. Staf | D15: % | E15: =E14/10 -> 0.3 | F15: Staf → Spv dari Job Grading
F16: 2 orang total

Sheet L2a
A1: Nama KPI | B1: # | C1: Rata-rata jam learning karyawan
A2: Periode | B2: Bulanan
A3: Polarisasi | B3: Maksimal
A6: Periode | B6: Realisasi | C6: Target (100%) | D6: Treshold Min | E6: Skor | F6: Status
A7: Januari | B7: 4 | C7: 3 | D7: 2 | E7: =IF(ISBLANK(B7), 0,IF(B7<D7, 0, IF(B7=D7, 80, IF(B7=C7, 100, IF(B7<C7, 80 + (B7-D7)/(C7-D7)*(100-80), 100 + (B7-C7)/(C7-D7)*(100-80)))))) -> 120 | F7: =IF(ISBLANK(B7), "isi data dulu",IF(B7 < D7, "Dibawah target", IF(B7 <= C7, "Di dalam target", "Melebihi target"))) -> Melebihi target
A8: Februari | B8: 4 | C8: 3 | D8: 2 | E8: =IF(ISBLANK(B8), 0,IF(B8<D8, 0, IF(B8=D8, 80, IF(B8=C8, 100, IF(B8<C8, 80 + (B8-D8)/(C8-D8)*(100-80), 100 + (B8-C8)/(C8-D8)*(100-80)))))) -> 120 | F8: =IF(ISBLANK(B8), "isi data dulu",IF(B8 < D8, "Dibawah target", IF(B8 <= C8, "Di dalam target", "Melebihi target"))) -> Melebihi target
A9: Maret | B9: 4 | C9: 3 | D9: 2 | E9: =IF(ISBLANK(B9), 0,IF(B9<D9, 0, IF(B9=D9, 80, IF(B9=C9, 100, IF(B9<C9, 80 + (B9-D9)/(C9-D9)*(100-80), 100 + (B9-C9)/(C9-D9)*(100-80)))))) -> 120 | F9: =IF(ISBLANK(B9), "isi data dulu",IF(B9 < D9, "Dibawah target", IF(B9 <= C9, "Di dalam target", "Melebihi target"))) -> Melebihi target
A10: April | B10: 0.33 | C10: 3 | D10: 2 | E10: =IF(ISBLANK(B10), 0,IF(B10<D10, 0, IF(B10=D10, 80, IF(B10=C10, 100, IF(B10<C10, 80 + (B10-D10)/(C10-D10)*(100-80), 100 + (B10-C10)/(C10-D10)*(100-80)))))) -> 0 | F10: =IF(ISBLANK(B10), "isi data dulu",IF(B10 < D10, "Dibawah target", IF(B10 <= C10, "Di dalam target", "Melebihi target"))) -> Dibawah target
A11: Mei | B11: 1.25 | C11: 3 | D11: 2 | E11: =IF(ISBLANK(B11), 0,IF(B11<D11, 0, IF(B11=D11, 80, IF(B11=C11, 100, IF(B11<C11, 80 + (B11-D11)/(C11-D11)*(100-80), 100 + (B11-C11)/(C11-D11)*(100-80)))))) -> 0 | F11: =IF(ISBLANK(B11), "isi data dulu",IF(B11 < D11, "Dibawah target", IF(B11 <= C11, "Di dalam target", "Melebihi target"))) -> Dibawah target
A12: Juni | B12: 0.9 | C12: 3 | D12: 2 | E12: =IF(ISBLANK(B12), 0,IF(B12<D12, 0, IF(B12=D12, 80, IF(B12=C12, 100, IF(B12<C12, 80 + (B12-D12)/(C12-D12)*(100-80), 100 + (B12-C12)/(C12-D12)*(100-80)))))) -> 0 | F12: =IF(ISBLANK(B12), "isi data dulu",IF(B12 < D12, "Dibawah target", IF(B12 <= C12, "Di dalam target", "Melebihi target"))) -> Dibawah target
A13: Juli | B13: 2.5 | C13: 3 | D13: 2 | E13: =IF(ISBLANK(B13), 0,IF(B13<D13, 0, IF(B13=D13, 80, IF(B13=C13, 100, IF(B13<C13, 80 + (B13-D13)/(C13-D13)*(100-80), 100 + (B13-C13)/(C13-D13)*(100-80)))))) -> 90 | F13: =IF(ISBLANK(B13), "isi data dulu",IF(B13 < D13, "Dibawah target", IF(B13 <= C13, "Di dalam target", "Melebihi target"))) -> Di dalam target
A14: Agustus | B14: 5 | C14: 3 | D14: 2 | E14: =IF(ISBLANK(B14), 0,IF(B14<D14, 0, IF(B14=D14, 80, IF(B14=C14, 100, IF(B14<C14, 80 + (B14-D14)/(C14-D14)*(100-80), 100 + (B14-C14)/(C14-D14)*(100-80)))))) -> 140 | F14: =IF(ISBLANK(B14), "isi data dulu",IF(B14 < D14, "Dibawah target", IF(B14 <= C14, "Di dalam target", "Melebihi target"))) -> Melebihi target
A15: September | B15: 3.5 | C15: 3 | D15: 2 | E15: =IF(ISBLANK(B15), 0,IF(B15<D15, 0, IF(B15=D15, 80, IF(B15=C15, 100, IF(B15<C15, 80 + (B15-D15)/(C15-D15)*(100-80), 100 + (B15-C15)/(C15-D15)*(100-80)))))) -> 110 | F15: =IF(ISBLANK(B15), "isi data dulu",IF(B15 < D15, "Dibawah target", IF(B15 <= C15, "Di dalam target", "Melebihi target"))) -> Melebihi target
A16: Oktober | C16: 3 | D16: 2 | E16: =IF(ISBLANK(B16), 0,IF(B16<D16, 0, IF(B16=D16, 80, IF(B16=C16, 100, IF(B16<C16, 80 + (B16-D16)/(C16-D16)*(100-80), 100 + (B16-C16)/(C16-D16)*(100-80)))))) -> 0 | F16: =IF(ISBLANK(B16), "isi data dulu",IF(B16 < D16, "Dibawah target", IF(B16 <= C16, "Di dalam target", "Melebihi target"))) -> isi data dulu
A17: November | C17: 3 | D17: 2 | E17: =IF(ISBLANK(B17), 0,IF(B17<D17, 0, IF(B17=D17, 80, IF(B17=C17, 100, IF(B17<C17, 80 + (B17-D17)/(C17-D17)*(100-80), 100 + (B17-C17)/(C17-D17)*(100-80)))))) -> 0 | F17: =IF(ISBLANK(B17), "isi data dulu",IF(B17 < D17, "Dibawah target", IF(B17 <= C17, "Di dalam target", "Melebihi target"))) -> isi data dulu
A18: Desember | C18: 3 | D18: 2 | E18: =IF(ISBLANK(B18), 0,IF(B18<D18, 0, IF(B18=D18, 80, IF(B18=C18, 100, IF(B18<C18, 80 + (B18-D18)/(C18-D18)*(100-80), 100 + (B18-C18)/(C18-D18)*(100-80)))))) -> 0 | F18: =IF(ISBLANK(B18), "isi data dulu",IF(B18 < D18, "Dibawah target", IF(B18 <= C18, "Di dalam target", "Melebihi target"))) -> isi data dulu
A19: Total | B19: =SUM(B7:B18) -> 25.48 | C19: =SUM(C7:C18) -> 36 | D19: =SUM(D7:D18) -> 24 | E19: =(B19/C19)*100 -> 70.777778 | F19: =IF(B19 < D19, "Dibawah target", IF(B19 <= C19, "Di dalam target", "Melebihi target")) -> Di dalam target

Sheet PIRT
A1: Nama KPI | B1: # | C1: Penyelesaian sertifikasi halal PIRT
A2: Periode | B2: Project/ Event
A3: Polarisasi | B3: MIn-Max
A6: Periode | B6: Realisasi | C6: Target (100%) | D6: Treshold Min | E6: Skor | F6: Status
A7: Januari | C7: 6 | D7: 12 | E7: =(B7/C7)*100 -> 0 | F7: =IF(B7 < D7, "Dibawah target", IF(B7 <= C7, "Di dalam target", "Melebihi target")) -> Dibawah target
A8: Februari | C8: 6 | D8: 12 | E8: =(B8/C8)*100 -> 0 | F8: =IF(B8 < D8, "Dibawah target", IF(B8 <= C8, "Di dalam target", "Melebihi target")) -> Dibawah target
A9: Maret | C9: 6 | D9: 12 | E9: =(B9/C9)*100 -> 0 | F9: =IF(B9 < D9, "Dibawah target", IF(B9 <= C9, "Di dalam target", "Melebihi target")) -> Dibawah target
A10: April | C10: 6 | D10: 12 | E10: =(B10/C10)*100 -> 0 | F10: =IF(B10 < D10, "Dibawah target", IF(B10 <= C10, "Di dalam target", "Melebihi target")) -> Dibawah target
A11: Mei | C11: 6 | D11: 12 | E11: =(B11/C11)*100 -> 0 | F11: =IF(B11 < D11, "Dibawah target", IF(B11 <= C11, "Di dalam target", "Melebihi target")) -> Dibawah target
A12: Juni | C12: 6 | D12: 12 | E12: =(B12/C12)*100 -> 0 | F12: =IF(B12 < D12, "Dibawah target", IF(B12 <= C12, "Di dalam target", "Melebihi target")) -> Dibawah target
A13: Juli | C13: 6 | D13: 12 | E13: =(B13/C13)*100 -> 0 | F13: =IF(B13 < D13, "Dibawah target", IF(B13 <= C13, "Di dalam target", "Melebihi target")) -> Dibawah target
A14: Agustus | C14: 6 | D14: 12 | E14: =(B14/C14)*100 -> 0 | F14: =IF(B14 < D14, "Dibawah target", IF(B14 <= C14, "Di dalam target", "Melebihi target")) -> Dibawah target
A15: September | C15: 6 | D15: 12 | E15: =(B15/C15)*100 -> 0 | F15: =IF(B15 < D15, "Dibawah target", IF(B15 <= C15, "Di dalam target", "Melebihi target")) -> Dibawah target
A16: Oktober | C16: 6 | D16: 12 | E16: =(B16/C16)*100 -> 0 | F16: =IF(B16 < D16, "Dibawah target", IF(B16 <= C16, "Di dalam target", "Melebihi target")) -> Dibawah target
A17: November | C17: 6 | D17: 12 | E17: =(B17/C17)*100 -> 0 | F17: =IF(B17 < D17, "Dibawah target", IF(B17 <= C17, "Di dalam target", "Melebihi target")) -> Dibawah target
A18: Desember | C18: 6 | D18: 12 | E18: =(B18/C18)*100 -> 0 | F18: =IF(B18 < D18, "Dibawah target", IF(B18 <= C18, "Di dalam target", "Melebihi target")) -> Dibawah target
A19: Total | B19: =SUM(B7:B18) -> 0 | C19: =SUM(C7:C18) -> 72 | D19: =SUM(D7:D18) -> 144 | E19: =(B19/C19)*100 -> 0 | F19: =IF(B19 < D19, "Dibawah target", IF(B19 <= C19, "Di dalam target", "Melebihi target")) -> Dibawah target

Sheet CPPOB
A1: Nama KPI | B1: # | C1: Penyelesaian sertifikasi CPPOB
A2: Periode | B2: Project/ Event
A3: Polarisasi | B3: MIn-Max
A6: Periode | B6: Realisasi | C6: Target (100%) | D6: Treshold Min | E6: Skor | F6: Status
A7: Januari | C7: 6 | D7: 12 | E7: =(B7/C7)*100 -> 0 | F7: =IF(B7 < D7, "Dibawah target", IF(B7 <= C7, "Di dalam target", "Melebihi target")) -> Dibawah target
A8: Februari | C8: 6 | D8: 12 | E8: =(B8/C8)*100 -> 0 | F8: =IF(B8 < D8, "Dibawah target", IF(B8 <= C8, "Di dalam target", "Melebihi target")) -> Dibawah target
A9: Maret | C9: 6 | D9: 12 | E9: =(B9/C9)*100 -> 0 | F9: =IF(B9 < D9, "Dibawah target", IF(B9 <= C9, "Di dalam target", "Melebihi target")) -> Dibawah target
A10: April | C10: 6 | D10: 12 | E10: =(B10/C10)*100 -> 0 | F10: =IF(B10 < D10, "Dibawah target", IF(B10 <= C10, "Di dalam target", "Melebihi target")) -> Dibawah target
A11: Mei | C11: 6 | D11: 12 | E11: =(B11/C11)*100 -> 0 | F11: =IF(B11 < D11, "Dibawah target", IF(B11 <= C11, "Di dalam target", "Melebihi target")) -> Dibawah target
A12: Juni | C12: 6 | D12: 12 | E12: =(B12/C12)*100 -> 0 | F12: =IF(B12 < D12, "Dibawah target", IF(B12 <= C12, "Di dalam target", "Melebihi target")) -> Dibawah target
A13: Juli | C13: 6 | D13: 12 | E13: =(B13/C13)*100 -> 0 | F13: =IF(B13 < D13, "Dibawah target", IF(B13 <= C13, "Di dalam target", "Melebihi target")) -> Dibawah target
A14: Agustus | C14: 6 | D14: 12 | E14: =(B14/C14)*100 -> 0 | F14: =IF(B14 < D14, "Dibawah target", IF(B14 <= C14, "Di dalam target", "Melebihi target")) -> Dibawah target
A15: September | C15: 6 | D15: 12 | E15: =(B15/C15)*100 -> 0 | F15: =IF(B15 < D15, "Dibawah target", IF(B15 <= C15, "Di dalam target", "Melebihi target")) -> Dibawah target
A16: Oktober | C16: 6 | D16: 12 | E16: =(B16/C16)*100 -> 0 | F16: =IF(B16 < D16, "Dibawah target", IF(B16 <= C16, "Di dalam target", "Melebihi target")) -> Dibawah target
A17: November | C17: 6 | D17: 12 | E17: =(B17/C17)*100 -> 0 | F17: =IF(B17 < D17, "Dibawah target", IF(B17 <= C17, "Di dalam target", "Melebihi target")) -> Dibawah target
A18: Desember | C18: 6 | D18: 12 | E18: =(B18/C18)*100 -> 0 | F18: =IF(B18 < D18, "Dibawah target", IF(B18 <= C18, "Di dalam target", "Melebihi target")) -> Dibawah target
A19: Total | B19: =SUM(B7:B18) -> 0 | C19: =SUM(C7:C18) -> 72 | D19: =SUM(D7:D18) -> 144 | E19: =(B19/C19)*100 -> 0 | F19: =IF(B19 < D19, "Dibawah target", IF(B19 <= C19, "Di dalam target", "Melebihi target")) -> Dibawah target

Sheet defect rate
A1: Nama KPI | B1: % | C1: Defect Rate
A2: Periode | B2: Bulanan
A3: Polarisasi | B3: Minimal
A6: Periode | B6: Realisasi | C6: Target (100%) | D6: Treshold Min | E6: Skor | F6: Status
A7: Januari | C7: 3 | D7: 5 | E7: =IF(B7<=C7, 100, IF(B7>=D7, IF(B7=D7, 80, 0), 100 - ((B7-C7)/(D7-C7) * 20))) -> 100 | F7: =IF(B7<=C7, "sesuai target", IF(AND(B7>C7, B7<=D7), "di dalam target", IF(B7>D7, "melebihi batas", ""))) -> sesuai target
A8: Februari | C8: 3 | D8: 5 | E8: =IF(B8<=C8, 100, IF(B8>=D8, IF(B8=D8, 80, 0), 100 - ((B8-C8)/(D8-C8) * 20))) -> 100 | F8: =IF(B8<=C8, "sesuai target", IF(AND(B8>C8, B8<=D8), "di dalam target", IF(B8>D8, "melebihi batas", ""))) -> sesuai target
A9: Maret | C9: 3 | D9: 5 | E9: =IF(B9<=C9, 100, IF(B9>=D9, IF(B9=D9, 80, 0), 100 - ((B9-C9)/(D9-C9) * 20))) -> 100 | F9: =IF(B9<=C9, "sesuai target", IF(AND(B9>C9, B9<=D9), "di dalam target", IF(B9>D9, "melebihi batas", ""))) -> sesuai target
A10: April | C10: 3 | D10: 5 | E10: =IF(B10<=C10, 100, IF(B10>=D10, IF(B10=D10, 80, 0), 100 - ((B10-C10)/(D10-C10) * 20))) -> 100 | F10: =IF(B10<=C10, "sesuai target", IF(AND(B10>C10, B10<=D10), "di dalam target", IF(B10>D10, "melebihi batas", ""))) -> sesuai target
A11: Mei | C11: 3 | D11: 5 | E11: =IF(B11<=C11, 100, IF(B11>=D11, IF(B11=D11, 80, 0), 100 - ((B11-C11)/(D11-C11) * 20))) -> 100 | F11: =IF(B11<=C11, "sesuai target", IF(AND(B11>C11, B11<=D11), "di dalam target", IF(B11>D11, "melebihi batas", ""))) -> sesuai target
A12: Juni | C12: 3 | D12: 5 | E12: =IF(B12<=C12, 100, IF(B12>=D12, IF(B12=D12, 80, 0), 100 - ((B12-C12)/(D12-C12) * 20))) -> 100 | F12: =IF(B12<=C12, "sesuai target", IF(AND(B12>C12, B12<=D12), "di dalam target", IF(B12>D12, "melebihi batas", ""))) -> sesuai target
A13: Juli | C13: 3 | D13: 5 | E13: =IF(B13<=C13, 100, IF(B13>=D13, IF(B13=D13, 80, 0), 100 - ((B13-C13)/(D13-C13) * 20))) -> 100 | F13: =IF(B13<=C13, "sesuai target", IF(AND(B13>C13, B13<=D13), "di dalam target", IF(B13>D13, "melebihi batas", ""))) -> sesuai target
A14: Agustus | C14: 3 | D14: 5 | E14: =IF(B14<=C14, 100, IF(B14>=D14, IF(B14=D14, 80, 0), 100 - ((B14-C14)/(D14-C14) * 20))) -> 100 | F14: =IF(B14<=C14, "sesuai target", IF(AND(B14>C14, B14<=D14), "di dalam target", IF(B14>D14, "melebihi batas", ""))) -> sesuai target
A15: September | C15: 3 | D15: 5 | E15: =IF(B15<=C15, 100, IF(B15>=D15, IF(B15=D15, 80, 0), 100 - ((B15-C15)/(D15-C15) * 20))) -> 100 | F15: =IF(B15<=C15, "sesuai target", IF(AND(B15>C15, B15<=D15), "di dalam target", IF(B15>D15, "melebihi batas", ""))) -> sesuai target
A16: Oktober | C16: 3 | D16: 5 | E16: =IF(B16<=C16, 100, IF(B16>=D16, IF(B16=D16, 80, 0), 100 - ((B16-C16)/(D16-C16) * 20))) -> 100 | F16: =IF(B16<=C16, "sesuai target", IF(AND(B16>C16, B16<=D16), "di dalam target", IF(B16>D16, "melebihi batas", ""))) -> sesuai target
A17: November | C17: 3 | D17: 5 | E17: =IF(B17<=C17, 100, IF(B17>=D17, IF(B17=D17, 80, 0), 100 - ((B17-C17)/(D17-C17) * 20))) -> 100 | F17: =IF(B17<=C17, "sesuai target", IF(AND(B17>C17, B17<=D17), "di dalam target", IF(B17>D17, "melebihi batas", ""))) -> sesuai target
A18: Desember | C18: 3 | D18: 5 | E18: =IF(B18<=C18, 100, IF(B18>=D18, IF(B18=D18, 80, 0), 100 - ((B18-C18)/(D18-C18) * 20))) -> 100 | F18: =IF(B18<=C18, "sesuai target", IF(AND(B18>C18, B18<=D18), "di dalam target", IF(B18>D18, "melebihi batas", ""))) -> sesuai target
A19: Total | B19: =SUM(B7:B18) -> 0 | C19: =SUM(C7:C18) -> 36 | D19: =SUM(D7:D18) -> 60 | E19: =IF(B19<=C19, 100, IF(B19>=D19, IF(B19=D19, 80, 0), 100 - ((B19-C19)/(D19-C19) * 20))) -> 100 | F19: =IF(B19<=C19, "sesuai target", IF(AND(B19>C19, B19<=D19), "di dalam target", IF(B19>D19, "melebihi batas", ""))) -> sesuai target

Sheet Komplain hasil uji lab
A1: Nama KPI | B1: # | C1: Komplain hasil uji lab
A2: Periode | B2: Bulanan
A3: Polarisasi | B3: Minimal
A6: Periode | B6: Realisasi | C6: Target (100%) | D6: Treshold Min | E6: Skor | F6: Status
A7: Januari | C7: 5 | D7: 10 | E7: =IF(B7<=C7, 100, IF(B7>=D7, IF(B7=D7, 80, 0), 100 - ((B7-C7)/(D7-C7) * 20))) -> 100 | F7: =IF(B7<=C7, "sesuai target", IF(AND(B7>C7, B7<=D7), "di dalam target", IF(B7>D7, "melebihi batas", ""))) -> sesuai target
A8: Februari | C8: 5 | D8: 10 | E8: =IF(B8<=C8, 100, IF(B8>=D8, IF(B8=D8, 80, 0), 100 - ((B8-C8)/(D8-C8) * 20))) -> 100 | F8: =IF(B8<=C8, "sesuai target", IF(AND(B8>C8, B8<=D8), "di dalam target", IF(B8>D8, "melebihi batas", ""))) -> sesuai target
A9: Maret | C9: 5 | D9: 10 | E9: =IF(B9<=C9, 100, IF(B9>=D9, IF(B9=D9, 80, 0), 100 - ((B9-C9)/(D9-C9) * 20))) -> 100 | F9: =IF(B9<=C9, "sesuai target", IF(AND(B9>C9, B9<=D9), "di dalam target", IF(B9>D9, "melebihi batas", ""))) -> sesuai target
A10: April | C10: 5 | D10: 10 | E10: =IF(B10<=C10, 100, IF(B10>=D10, IF(B10=D10, 80, 0), 100 - ((B10-C10)/(D10-C10) * 20))) -> 100 | F10: =IF(B10<=C10, "sesuai target", IF(AND(B10>C10, B10<=D10), "di dalam target", IF(B10>D10, "melebihi batas", ""))) -> sesuai target
A11: Mei | C11: 5 | D11: 10 | E11: =IF(B11<=C11, 100, IF(B11>=D11, IF(B11=D11, 80, 0), 100 - ((B11-C11)/(D11-C11) * 20))) -> 100 | F11: =IF(B11<=C11, "sesuai target", IF(AND(B11>C11, B11<=D11), "di dalam target", IF(B11>D11, "melebihi batas", ""))) -> sesuai target
A12: Juni | C12: 5 | D12: 10 | E12: =IF(B12<=C12, 100, IF(B12>=D12, IF(B12=D12, 80, 0), 100 - ((B12-C12)/(D12-C12) * 20))) -> 100 | F12: =IF(B12<=C12, "sesuai target", IF(AND(B12>C12, B12<=D12), "di dalam target", IF(B12>D12, "melebihi batas", ""))) -> sesuai target
A13: Juli | C13: 5 | D13: 10 | E13: =IF(B13<=C13, 100, IF(B13>=D13, IF(B13=D13, 80, 0), 100 - ((B13-C13)/(D13-C13) * 20))) -> 100 | F13: =IF(B13<=C13, "sesuai target", IF(AND(B13>C13, B13<=D13), "di dalam target", IF(B13>D13, "melebihi batas", ""))) -> sesuai target
A14: Agustus | C14: 5 | D14: 10 | E14: =IF(B14<=C14, 100, IF(B14>=D14, IF(B14=D14, 80, 0), 100 - ((B14-C14)/(D14-C14) * 20))) -> 100 | F14: =IF(B14<=C14, "sesuai target", IF(AND(B14>C14, B14<=D14), "di dalam target", IF(B14>D14, "melebihi batas", ""))) -> sesuai target
A15: September | C15: 5 | D15: 10 | E15: =IF(B15<=C15, 100, IF(B15>=D15, IF(B15=D15, 80, 0), 100 - ((B15-C15)/(D15-C15) * 20))) -> 100 | F15: =IF(B15<=C15, "sesuai target", IF(AND(B15>C15, B15<=D15), "di dalam target", IF(B15>D15, "melebihi batas", ""))) -> sesuai target
A16: Oktober | C16: 5 | D16: 10 | E16: =IF(B16<=C16, 100, IF(B16>=D16, IF(B16=D16, 80, 0), 100 - ((B16-C16)/(D16-C16) * 20))) -> 100 | F16: =IF(B16<=C16, "sesuai target", IF(AND(B16>C16, B16<=D16), "di dalam target", IF(B16>D16, "melebihi batas", ""))) -> sesuai target
A17: November | C17: 5 | D17: 10 | E17: =IF(B17<=C17, 100, IF(B17>=D17, IF(B17=D17, 80, 0), 100 - ((B17-C17)/(D17-C17) * 20))) -> 100 | F17: =IF(B17<=C17, "sesuai target", IF(AND(B17>C17, B17<=D17), "di dalam target", IF(B17>D17, "melebihi batas", ""))) -> sesuai target
A18: Desember | C18: 5 | D18: 10 | E18: =IF(B18<=C18, 100, IF(B18>=D18, IF(B18=D18, 80, 0), 100 - ((B18-C18)/(D18-C18) * 20))) -> 100 | F18: =IF(B18<=C18, "sesuai target", IF(AND(B18>C18, B18<=D18), "di dalam target", IF(B18>D18, "melebihi batas", ""))) -> sesuai target
A19: Total | B19: =SUM(B7:B18) -> 0 | C19: =SUM(C7:C18) -> 60 | D19: =SUM(D7:D18) -> 120 | E19: =IF(B19<=C19, 100, IF(B19>=D19, IF(B19=D19, 80, 0), 100 - ((B19-C19)/(D19-C19) * 20))) -> 100 | F19: =IF(B19<=C19, "sesuai target", IF(AND(B19>C19, B19<=D19), "di dalam target", IF(B19>D19, "melebihi batas", ""))) -> sesuai target

Sheet Dokumen tidak valid
A1: Nama KPI | B1: # | C1: Dokumen yang tidak valid
A2: Periode | B2: Quarter (3bln)
A3: Polarisasi | B3: Minimal
A6: Periode | B6: Realisasi | C6: Target (100%) | D6: Treshold Min | E6: Skor | F6: Status
A7: Januari | C7: 10 | D7: 30 | E7: =IF(B7<=C7, 100, IF(B7>=D7, IF(B7=D7, 80, 0), 100 - ((B7-C7)/(D7-C7) * 20))) -> 100 | F7: =IF(B7<=C7, "sesuai target", IF(AND(B7>C7, B7<=D7), "di dalam target", IF(B7>D7, "melebihi batas", ""))) -> sesuai target
A8: Februari | C8: 10 | D8: 30 | E8: =IF(B8<=C8, 100, IF(B8>=D8, IF(B8=D8, 80, 0), 100 - ((B8-C8)/(D8-C8) * 20))) -> 100 | F8: =IF(B8<=C8, "sesuai target", IF(AND(B8>C8, B8<=D8), "di dalam target", IF(B8>D8, "melebihi batas", ""))) -> sesuai target
A9: Maret | C9: 10 | D9: 30 | E9: =IF(B9<=C9, 100, IF(B9>=D9, IF(B9=D9, 80, 0), 100 - ((B9-C9)/(D9-C9) * 20))) -> 100 | F9: =IF(B9<=C9, "sesuai target", IF(AND(B9>C9, B9<=D9), "di dalam target", IF(B9>D9, "melebihi batas", ""))) -> sesuai target
A10: April | C10: 10 | D10: 30 | E10: =IF(B10<=C10, 100, IF(B10>=D10, IF(B10=D10, 80, 0), 100 - ((B10-C10)/(D10-C10) * 20))) -> 100 | F10: =IF(B10<=C10, "sesuai target", IF(AND(B10>C10, B10<=D10), "di dalam target", IF(B10>D10, "melebihi batas", ""))) -> sesuai target
A11: Mei | C11: 10 | D11: 30 | E11: =IF(B11<=C11, 100, IF(B11>=D11, IF(B11=D11, 80, 0), 100 - ((B11-C11)/(D11-C11) * 20))) -> 100 | F11: =IF(B11<=C11, "sesuai target", IF(AND(B11>C11, B11<=D11), "di dalam target", IF(B11>D11, "melebihi batas", ""))) -> sesuai target
A12: Juni | C12: 10 | D12: 30 | E12: =IF(B12<=C12, 100, IF(B12>=D12, IF(B12=D12, 80, 0), 100 - ((B12-C12)/(D12-C12) * 20))) -> 100 | F12: =IF(B12<=C12, "sesuai target", IF(AND(B12>C12, B12<=D12), "di dalam target", IF(B12>D12, "melebihi batas", ""))) -> sesuai target
A13: Juli | C13: 10 | D13: 30 | E13: =IF(B13<=C13, 100, IF(B13>=D13, IF(B13=D13, 80, 0), 100 - ((B13-C13)/(D13-C13) * 20))) -> 100 | F13: =IF(B13<=C13, "sesuai target", IF(AND(B13>C13, B13<=D13), "di dalam target", IF(B13>D13, "melebihi batas", ""))) -> sesuai target
A14: Agustus | C14: 10 | D14: 30 | E14: =IF(B14<=C14, 100, IF(B14>=D14, IF(B14=D14, 80, 0), 100 - ((B14-C14)/(D14-C14) * 20))) -> 100 | F14: =IF(B14<=C14, "sesuai target", IF(AND(B14>C14, B14<=D14), "di dalam target", IF(B14>D14, "melebihi batas", ""))) -> sesuai target
A15: September | C15: 10 | D15: 30 | E15: =IF(B15<=C15, 100, IF(B15>=D15, IF(B15=D15, 80, 0), 100 - ((B15-C15)/(D15-C15) * 20))) -> 100 | F15: =IF(B15<=C15, "sesuai target", IF(AND(B15>C15, B15<=D15), "di dalam target", IF(B15>D15, "melebihi batas", ""))) -> sesuai target
A16: Oktober | C16: 10 | D16: 30 | E16: =IF(B16<=C16, 100, IF(B16>=D16, IF(B16=D16, 80, 0), 100 - ((B16-C16)/(D16-C16) * 20))) -> 100 | F16: =IF(B16<=C16, "sesuai target", IF(AND(B16>C16, B16<=D16), "di dalam target", IF(B16>D16, "melebihi batas", ""))) -> sesuai target
A17: November | C17: 10 | D17: 30 | E17: =IF(B17<=C17, 100, IF(B17>=D17, IF(B17=D17, 80, 0), 100 - ((B17-C17)/(D17-C17) * 20))) -> 100 | F17: =IF(B17<=C17, "sesuai target", IF(AND(B17>C17, B17<=D17), "di dalam target", IF(B17>D17, "melebihi batas", ""))) -> sesuai target
A18: Desember | C18: 10 | D18: 30 | E18: =IF(B18<=C18, 100, IF(B18>=D18, IF(B18=D18, 80, 0), 100 - ((B18-C18)/(D18-C18) * 20))) -> 100 | F18: =IF(B18<=C18, "sesuai target", IF(AND(B18>C18, B18<=D18), "di dalam target", IF(B18>D18, "melebihi batas", ""))) -> sesuai target
A19: Total | B19: =SUM(B7:B18) -> 0 | C19: =SUM(C7:C18) -> 120 | D19: =SUM(D7:D18) -> 360 | E19: =IF(B19<=C19, 100, IF(B19>=D19, IF(B19=D19, 80, 0), 100 - ((B19-C19)/(D19-C19) * 20))) -> 100 | F19: =IF(B19<=C19, "sesuai target", IF(AND(B19>C19, B19<=D19), "di dalam target", IF(B19>D19, "melebihi batas", ""))) -> sesuai target

Sheet Kalibrasi alat ukur
A1: Nama KPI | B1: # | C1: Alat ukur yang terlambat kalibrasi
A2: Periode | B2: Tahunan
A3: Polarisasi | B3: Minimal
A6: Periode | B6: Realisasi | C6: Target (100%) | D6: Treshold Min | E6: Skor | F6: Status
A7: Januari | C7: 5 | D7: 8 | E7: =IF(B7<=C7, 100, IF(B7>=D7, IF(B7=D7, 80, 0), 100 - ((B7-C7)/(D7-C7) * 20))) -> 100 | F7: =IF(B7<=C7, "sesuai target", IF(AND(B7>C7, B7<=D7), "di dalam target", IF(B7>D7, "melebihi batas", ""))) -> sesuai target
A8: Februari | C8: 5 | D8: 8 | E8: =IF(B8<=C8, 100, IF(B8>=D8, IF(B8=D8, 80, 0), 100 - ((B8-C8)/(D8-C8) * 20))) -> 100 | F8: =IF(B8<=C8, "sesuai target", IF(AND(B8>C8, B8<=D8), "di dalam target", IF(B8>D8, "melebihi batas", ""))) -> sesuai target
A9: Maret | C9: 5 | D9: 8 | E9: =IF(B9<=C9, 100, IF(B9>=D9, IF(B9=D9, 80, 0), 100 - ((B9-C9)/(D9-C9) * 20))) -> 100 | F9: =IF(B9<=C9, "sesuai target", IF(AND(B9>C9, B9<=D9), "di dalam target", IF(B9>D9, "melebihi batas", ""))) -> sesuai target
A10: April | C10: 5 | D10: 8 | E10: =IF(B10<=C10, 100, IF(B10>=D10, IF(B10=D10, 80, 0), 100 - ((B10-C10)/(D10-C10) * 20))) -> 100 | F10: =IF(B10<=C10, "sesuai target", IF(AND(B10>C10, B10<=D10), "di dalam target", IF(B10>D10, "melebihi batas", ""))) -> sesuai target
A11: Mei | C11: 5 | D11: 8 | E11: =IF(B11<=C11, 100, IF(B11>=D11, IF(B11=D11, 80, 0), 100 - ((B11-C11)/(D11-C11) * 20))) -> 100 | F11: =IF(B11<=C11, "sesuai target", IF(AND(B11>C11, B11<=D11), "di dalam target", IF(B11>D11, "melebihi batas", ""))) -> sesuai target
A12: Juni | C12: 5 | D12: 8 | E12: =IF(B12<=C12, 100, IF(B12>=D12, IF(B12=D12, 80, 0), 100 - ((B12-C12)/(D12-C12) * 20))) -> 100 | F12: =IF(B12<=C12, "sesuai target", IF(AND(B12>C12, B12<=D12), "di dalam target", IF(B12>D12, "melebihi batas", ""))) -> sesuai target
A13: Juli | C13: 5 | D13: 8 | E13: =IF(B13<=C13, 100, IF(B13>=D13, IF(B13=D13, 80, 0), 100 - ((B13-C13)/(D13-C13) * 20))) -> 100 | F13: =IF(B13<=C13, "sesuai target", IF(AND(B13>C13, B13<=D13), "di dalam target", IF(B13>D13, "melebihi batas", ""))) -> sesuai target
A14: Agustus | C14: 5 | D14: 8 | E14: =IF(B14<=C14, 100, IF(B14>=D14, IF(B14=D14, 80, 0), 100 - ((B14-C14)/(D14-C14) * 20))) -> 100 | F14: =IF(B14<=C14, "sesuai target", IF(AND(B14>C14, B14<=D14), "di dalam target", IF(B14>D14, "melebihi batas", ""))) -> sesuai target
A15: September | C15: 5 | D15: 8 | E15: =IF(B15<=C15, 100, IF(B15>=D15, IF(B15=D15, 80, 0), 100 - ((B15-C15)/(D15-C15) * 20))) -> 100 | F15: =IF(B15<=C15, "sesuai target", IF(AND(B15>C15, B15<=D15), "di dalam target", IF(B15>D15, "melebihi batas", ""))) -> sesuai target
A16: Oktober | C16: 5 | D16: 8 | E16: =IF(B16<=C16, 100, IF(B16>=D16, IF(B16=D16, 80, 0), 100 - ((B16-C16)/(D16-C16) * 20))) -> 100 | F16: =IF(B16<=C16, "sesuai target", IF(AND(B16>C16, B16<=D16), "di dalam target", IF(B16>D16, "melebihi batas", ""))) -> sesuai target
A17: November | C17: 5 | D17: 8 | E17: =IF(B17<=C17, 100, IF(B17>=D17, IF(B17=D17, 80, 0), 100 - ((B17-C17)/(D17-C17) * 20))) -> 100 | F17: =IF(B17<=C17, "sesuai target", IF(AND(B17>C17, B17<=D17), "di dalam target", IF(B17>D17, "melebihi batas", ""))) -> sesuai target
A18: Desember | C18: 5 | D18: 8 | E18: =IF(B18<=C18, 100, IF(B18>=D18, IF(B18=D18, 80, 0), 100 - ((B18-C18)/(D18-C18) * 20))) -> 100 | F18: =IF(B18<=C18, "sesuai target", IF(AND(B18>C18, B18<=D18), "di dalam target", IF(B18>D18, "melebihi batas", ""))) -> sesuai target
A19: Total | B19: =SUM(B7:B18) -> 0 | C19: =SUM(C7:C18) -> 60 | D19: =SUM(D7:D18) -> 96 | E19: =IF(B19<=C19, 100, IF(B19>=D19, IF(B19=D19, 80, 0), 100 - ((B19-C19)/(D19-C19) * 20))) -> 100 | F19: =IF(B19<=C19, "sesuai target", IF(AND(B19>C19, B19<=D19), "di dalam target", IF(B19>D19, "melebihi batas", ""))) -> sesuai target
