Workbook

Sheet KPI
B1: KEY PERFORMANCE INDICATOR
B2: Jabatan : Construction, Maintenance, & Safety Manager
B4: Tanggal | K4: Departemen/Jabatan | M4: Construction, Maintenance, & Safety Manager / Manager
B5: Nama/Jabatan | D5: William Christian Tedjo / Projcet & Maintenance Manager | K5: Nama Atasan/Jabatan | M5: Direktur Utama
B6: Tanggal Bergabung | D6: 1 Desember 2020 | K6: Periode Kinerja | M6: 2025
B8: NO | D8: Perspektif & Sasaran Strategis KPI | F8: Formula | G8: Periode | H8: Verifikasi | I8: Sumber Data | J8: Realisasi Tahun | K8: Target 2025 | M8: Polarisasi | N8: UoM | O8: Realisasi (YTD) | P8: Target (YTD) | R8: Skor | S8: Bobot | T8: Total (Skor * Bobot)
C9: #, %, IDR | E9: Sumber KPI | J9: 2024 | K9: Target 100% | L9: Treshold Min | O9: 2025 | P9: 2025 | S9: (%)
B10: FINANCIAL PERSPECTIVE | S10: 10
B11: F1 | C11: Meningkatkan Valuasi Bisnis
B12: F2 | C12: Cost Control
B13: F2a | C13: % | D13: Cost Variance | E13: VAM | F13: (nilai proyek/estimasi dari Location)*100 | G13: Project/ Event | H13: Direktur | I13: Laporan Evaluasi Proyek | K13: 0.1 | L13: 0.15 | M13: Minimal | N13: persentase | O13: =F2a!D19 -> -0.24027455 | P13: =F2a!E19 -> 0.1 | Q13: =F2a!F19 -> 0.15 | R13: =F2a!G19 -> 93.077035
B14: F2b | C14: # | D14: Hari Keterlambatan Realisasi Kasbon | E14: HAM | F14: H+7 dari pembayaran | G14: Project/ Event | H14: Finance | I14: Laporan FA | K14: 3 | L14: 5 | M14: Minimal | N14: Hari | O14: =F2b!B19 -> 261 | P14: =F2b!C19 -> 36 | Q14: =F2b!D19 -> 60 | R14: =F2b!E19 -> 8.3333333
B15: F2c | C15: % | D15: Data aset tidak sesuai | E15: HAM | G15: Semester | H15: GA | I15: Laporan GA | K15: 0.03 | L15: 0.05 | M15: Minimal | N15: persentase | O15: =F2c!B19 -> 0 | P15: =F2c!C19 -> 0.36 | Q15: =F2c!D19 -> 0.6 | R15: =F2c!E19 -> 100
B16: CUSTOMER PERSPECTIVE
B17: C1 | C17: Menciptakan Satisfied Customer Experience
B18: C1a | C18: % | D18: Keterlambatan penyelesaiasan kerusakan | E18: Job Desc | F18: (jumlah perbaikan yang terlambat / jumlah pekerjaan perbaikan)*100 | G18: Bulanan | H18: Direktur | I18: Online Form Maintenance | K18: 0.15 | L18: 0.25 | M18: Minimal | N18: persentase | O18: =C1a!D19 -> 0.22108484 | P18: =C1a!E19 -> 0.15 | Q18: =C1a!F19 -> 0.25 | R18: =C1a!G19 -> 85.783033
B19: C1b | C19: % | D19: Indeks kepuasan perbaikan | E19: Job Desc | F19: jumlah ketidak puasan / jumlah pekerjaan perbaikan | G19: Bulanan | H19: Direktur | I19: Online Form Maintenance | K19: 0.048 | L19: 0.1 | M19: Minimal | N19: indeks | O19: =Table4_6[[#This Row],[Realisasi]] -> 0.0098280098 | P19: =Table4_6[[#This Row],[Target (100%)]] -> 0.05 | Q19: =Table4_6[[#This Row],[Treshold Min]] -> 0.1 | R19: =Table4_6[[#This Row],[Skor]] -> 100
B20: C2 | C20: Mengembangkan Kerjasama Bisnis
B21: C2a | C21: # | D21: Project MACRO | E21: VAM | F21: Jumlah proyek deal | G21: Quarter (3bln) | H21: Direktur | K21: 5 | L21: 4 | M21: Maksimal | N21: Project | R21: 100
B22: INTERNAL BUSINESS PROCESS PERSPECTIVE
B23: B1 | C23: Meningkatkan kualitas
B24: B1a | C24: # | D24: Temuan Audit Internal Kritis | E24: HAM | F24: Jumlah Temuan Audit Internal Kritis | G24: Semester | H24: Direktur | I24: Audit Internal | K24: 2 | L24: 4 | M24: Minimal | N24: temuan | O24: =B1a!B11 -> 14 | P24: =B1a!C11 -> 0 | Q24: =B1a!D11 -> 4 | R24: =B1a!E11 -> 0
B25: B1b | C25: # | D25: Outlet terlambat buka | E25: Job Desc | F25: Proyek terlambat | G25: Project/ Event | H25: Direktur | I25: Open Project | K25: 0.05 | L25: 0.1 | M25: Minimal | N25: persentase | O25: =B1b!E24 -> 0.71428571 | P25: =B1b!F24 -> 0.05 | Q25: =B1b!G24 -> 0.1 | R25: =B1b!H24 -> 0
B26: B1c | C26: # | D26: Kecelakaan Kerja | E26: Job Desc | F26: jumlah kecelakaan kerja | G26: Bulanan | H26: Direktur | I26: HSE | K26: 0 | L26: 1 | M26: Minimal | N26: Kecelakaan | O26: =B1c!B19 -> 2 | P26: =B1c!C19 -> 0 | Q26: =B1c!D19 -> 12 | R26: =B1c!E19 -> 96.666667
C27: # | D27: Temuan Audit Mutu & Compliance | E27: HAM | F27: Jumlah Temuan Audit Mutu & Compliance
B28: B1d | C28: # | D28: Temuan Mayor Audit Eksternal | E28: HAM | F28: Jumlah Temuan Audit Eksternal | G28: Project/ Event | H28: QMS | I28: QMS | K28: 3 | L28: 5 | M28: Minimal | O28: 0 | P28: 3 | R28: 100
B29: B1e | C29: # | D29: Revisi Project | E29: Job Desc | F29: Jumlah revisi setelah proyek diserahterimakan dalam waktu rentang waktu masa retensi (6 bulan) | G29: Project/ Event | H29: Direktur | U29: saat skala bisnis semakin besar, KPI ini akan diturunkan ke level SPV dan berubah menjadi indeks kepuasan proyek dari user
B30: B2 | C30: Revisi Projecty
B31: B2a | C31: % | D31: Progress implementasi SMK3 tingkat awal | E31: Job Desc | F31: (jumlah pemenuhan kriteria / 64)*100 | G31: Tahunan | H31: Direktur | I31: Open Project | K31: 1 | L31: 0.8 | M31: Maksimal | N31: persentase | O31: =B2a!C11 -> 0.71875 | P31: =B2a!D11 -> 1 | Q31: =B2a!E11 -> 0.8 | R31: =B2a!F11 -> 0
B32: B3 | C32: System Development
B33: B3a | C33: % | D33: Downtime alat/mesin | E33: Job Desc | F33: (total downtime / total waktu operasional) * 100; downtime dihitung dari selesainya waktu SLA | G33: Bulanan | H33: Direktur | I33: Online Form | K33: 0.02 | L33: 0.03 | M33: Maksimal | N33: persentase | O33: =B3a!D19 -> 0.12297625 | P33: =B3a!E19 -> 0.02 | Q33: =B3a!F19 -> 0.03 | R33: =B3a!G19 -> 0
B34: LEARNING & GROWTH PERSPECTIVE
B35: L1 | C35: Talent Management
B36: L1a | C36: % | D36: Retensi karyawan | E36: HAM | F36: 4-6 bulan dari karyawan start join | G36: Project/ Event | H36: HRD | I36: HRD | K36: 0.03 | L36: 0.05 | M36: Minimal | N36: persentase | O36: =L1a!B19 -> 0 | P36: =L1a!C19 -> 0.03 | Q36: =L1a!D19 -> 0.05 | R36: =L1a!E19 -> 100
B37: L2 | C37: People Development
B38: L2a | C38: % | D38: Candidate readiness | E38: VAM | G38: Quarter (3bln) | H38: Direktur | I38: LD | K38: 0.1 | L38: 0.05 | M38: Maksimal
B39: L2b | C39: # | D39: Rata-rata jam Learning per karyawan | E39: HAM | G39: Bulanan | H39: Direktur | I39: LD | K39: 3 | L39: 2 | M39: Maksimal | O39: =L2b!B19 -> 11.05 | P39: =L2b!C19 -> 18 | Q39: =L2b!D19 -> 12 | R39: =L2b!E19 -> 61.388889
B40: Total % | S40: =SUM(S12:S38) -> 0 | T40: 0
D42: Saya telah mengerti dan berkomitmen selama setahun untuk mencapai tujuan kinerja di atas.
D43: Tanda tangan & Nama | N43: Disetujui,
...

Sheet Achievement
B2: Kode BSC | C2: Indikator | D2: Achieve/Not Achieve | E2: Keterangan
B3: F2b | C3: Hari Keterlambatan Kasbon | D3: Not Achieve | E3: Belum diisi/Belum ada data
B4: F2c | C4: Data Aset Tidak Sesuai | D4: Not Achieve | E4: Belum diisi/Belum ada data
B5: C1a | C5: Keterlambatan penyelesaian kerusakan | D5: Not Achieve | E5: Belum diisi/Belum ada data
B6: C1b | C6: Indeks Ketidak-puasan perbaikan | D6: Not Achieve | E6: Belum diisi/Belum ada data
B7: B1c | C7: Kecelakaan Kerja | D7: Not Achieve | E7: Belum diisi/Belum ada data
B8: B2a | C8: Progress SMK3 | D8: Achieve
B9: B3a | C9: Downtime Alat/Mesin | D9: Not Achieve | E9: Belum diisi/Belum ada data
B10: L1a | C10: Retensi Karyawan | D10: Not Achieve | E10: Belum diisi/Belum ada data
B11: L2a | C11: Candidate | D11: Not Achieve | E11: Belum diisi/Belum ada data
B12: L2b | C12: Jam Learning | D12: Achieve

Sheet F2a
A1: Nama KPI | B1: % | C1: Cost Variance | D1: perbandingan antara total nilai proyek dengan estimasi biaya proyek yang di buat oleh BD
A2: Periode | B2: Project/ Event | D2: data menggunakan data dari FA agar semua sync
A3: Polarisasi | B3: Maksimal
A6: Project | B6: Budget (BD) | C6: Realisasi Nilai Proyek | D6: Cost Variance | E6: Target (100%) | F6: Treshold Min | G6: Skor | H6: Status | I6: Keterangan
A7: AEON Deltamas | B7: 733530000 | C7: 473878222 | D7: =C7/B7-1 -> -0.35397568 | E7: 0.1 | F7: 0.15 | G7: =IF(ISBLANK(D7), 0,IF(D7<F7, 100, IF(D7=F7, 80, IF(D7=E7, 100, IF(D7<E7, 80 + (D7-F7)/(E7-F7)*(100-80), 100 + (D7-E7)/(E7-F7)*(100-80)))))) -> 100 | H7: =IF(ISBLANK(D7), "isi data dulu",IF(D7 < F7, "Dibawah target", IF(D7 <= E7, "Di dalam target", "Melebihi target"))) -> Dibawah target
A8: Supermall Karawaci | B8: 250600000 | C8: 306020661 | D8: =C8/B8-1 -> 0.22115188 | E8: 0.1 | F8: 0.15 | G8: =IF(ISBLANK(D8), 0,IF(D8<F8, 0, IF(D8=F8, 80, IF(D8=E8, 100, IF(D8<E8, 80 + (D8-F8)/(E8-F8)*(100-80), 100 + (D8-E8)/(E8-F8)*(100-80)))))) -> 51.539248 | H8: =IF(ISBLANK(D8), "isi data dulu",IF(D8 < F8, "Dibawah target", IF(D8 <= E8, "Di dalam target", "Melebihi target"))) -> Melebihi target
A9: BG Junction | B9: 414800000 | C9: 125968368 | D9: =C9/B9-1 -> -0.69631541 | E9: 0.1 | F9: 0.15 | G9: =IF(ISBLANK(D9), 0,IF(D9<F9, 100, IF(D9=F9, 80, IF(D9=E9, 100, IF(D9<E9, 80 + (D9-F9)/(E9-F9)*(100-80), 100 + (D9-E9)/(E9-F9)*(100-80)))))) -> 100 | H9: =IF(ISBLANK(D9), "isi data dulu",IF(D9 < F9, "Dibawah target", IF(D9 <= E9, "Di dalam target", "Melebihi target"))) -> Dibawah target
A10: Puri Surya Jaya | B10: 980671500 | C10: 733140166 | D10: =C10/B10-1 -> -0.25241004 | E10: 0.1 | F10: 0.15 | G10: =IF(ISBLANK(D10), 0,IF(D10<F10, 100, IF(D10=F10, 80, IF(D10=E10, 100, IF(D10<E10, 80 + (D10-F10)/(E10-F10)*(100-80), 100 + (D10-E10)/(E10-F10)*(100-80)))))) -> 100 | H10: =IF(ISBLANK(D10), "isi data dulu",IF(D10 < F10, "Dibawah target", IF(D10 <= E10, "Di dalam target", "Melebihi target"))) -> Dibawah target
A11: Royal Plaza | B11: 347880000 | C11: 285183952 | D11: =C11/B11-1 -> -0.1802232 | E11: 0.1 | F11: 0.15 | G11: =IF(ISBLANK(D11), 0,IF(D11<F11, 100, IF(D11=F11, 80, IF(D11=E11, 100, IF(D11<E11, 80 + (D11-F11)/(E11-F11)*(100-80), 100 + (D11-E11)/(E11-F11)*(100-80)))))) -> 100 | H11: =IF(ISBLANK(D11), "isi data dulu",IF(D11 < F11, "Dibawah target", IF(D11 <= E11, "Di dalam target", "Melebihi target"))) -> Dibawah target
A12: Pepelegi | B12: 457400000 | E12: 0.1 | F12: 0.15 | H12: =IF(ISBLANK(D12), "isi data dulu",IF(D12 < F12, "Dibawah target", IF(D12 <= E12, "Di dalam target", "Melebihi target"))) -> isi data dulu
A13: Kusuma Bangsa | B13: 974750000 | E13: 0.1 | F13: 0.15 | H13: =IF(ISBLANK(D13), "isi data dulu",IF(D13 < F13, "Dibawah target", IF(D13 <= E13, "Di dalam target", "Melebihi target"))) -> isi data dulu
A14: Plafon Rungkut | B14: 28798146 | C14: 20284000 | D14: =C14/B14-1 -> -0.2956491 | E14: 0.1 | F14: 0.15 | G14: =IF(ISBLANK(D14), 0,IF(D14<F14, 100, IF(D14=F14, 80, IF(D14=E14, 100, IF(D14<E14, 80 + (D14-F14)/(E14-F14)*(100-80), 100 + (D14-E14)/(E14-F14)*(100-80)))))) -> 100 | H14: =IF(ISBLANK(D14), "isi data dulu",IF(D14 < F14, "Dibawah target", IF(D14 <= E14, "Di dalam target", "Melebihi target"))) -> Dibawah target
A15: BPOM Pabrik | B15: 85665360 | C15: 75000000 | D15: =C15/B15-1 -> -0.12450026 | E15: 0.1 | F15: 0.15 | G15: =IF(ISBLANK(D15), 0,IF(D15<F15, 100, IF(D15=F15, 80, IF(D15=E15, 100, IF(D15<E15, 80 + (D15-F15)/(E15-F15)*(100-80), 100 + (D15-E15)/(E15-F15)*(100-80)))))) -> 100 | H15: =IF(ISBLANK(D15), "isi data dulu",IF(D15 < F15, "Dibawah target", IF(D15 <= E15, "Di dalam target", "Melebihi target"))) -> Dibawah target
E16: 0.1 | F16: 0.15 | H16: =IF(ISBLANK(D16), "isi data dulu",IF(D16 < F16, "Dibawah target", IF(D16 <= E16, "Di dalam target", "Melebihi target"))) -> isi data dulu
E17: 0.1 | F17: 0.15 | H17: =IF(ISBLANK(D17), "isi data dulu",IF(D17 < F17, "Dibawah target", IF(D17 <= E17, "Di dalam target", "Melebihi target"))) -> isi data dulu
E18: 0.1 | F18: 0.15 | H18: =IF(ISBLANK(D18), "isi data dulu",IF(D18 < F18, "Dibawah target", IF(D18 <= E18, "Di dalam target", "Melebihi target"))) -> isi data dulu
A19: Total | D19: =AVERAGE(D7:D11,D14:D15) -> -0.24027455 | E19: =AVERAGE(E7:E18) -> 0.1 | F19: =AVERAGE(F7:F18) -> 0.15 | G19: =AVERAGE(G7:G18) -> 93.077035 | H19: Dibawah target

Sheet F2b
A1: Nama KPI | B1: # | C1: Hari Keterlambatan Realisasi Kasbon
A2: Periode | B2: Bulanan
A3: Polarisasi | B3: Minimal
A6: Periode | B6: Realisasi | C6: Target (100%) | D6: Treshold Min | E6: Skor | F6: Status | G6: Column 1
A7: Januari | B7: 0 | C7: 3 | D7: 5 | E7: =IF(ISBLANK(B7), 0,IF(B7<=C7, 100, IF(B7>=D7, IF(B7=D7, 80, 0), 100 - ((B7-C7)/(D7-C7) * 20)))) -> 100 | F7: =IF(ISBLANK(B7), "isi data dulu", IF(B7<=C7, "sesuai target", IF(AND(B7>C7,B7<=D7), "di dalam target", IF(B7>D7, "melebihi batas", "")))) -> sesuai target
A8: Februari | B8: 21 | C8: 3 | D8: 5 | E8: =IF(ISBLANK(B8), 0,IF(B8<=C8, 100, IF(B8>=D8, IF(B8=D8, 80, 0), 100 - ((B8-C8)/(D8-C8) * 20)))) -> 0 | F8: =IF(ISBLANK(B8), "isi data dulu", IF(B8<=C8, "sesuai target", IF(AND(B8>C8,B8<=D8), "di dalam target", IF(B8>D8, "melebihi batas", "")))) -> melebihi batas
A9: Maret | B9: 17 | C9: 3 | D9: 5 | E9: =IF(ISBLANK(B9), 0,IF(B9<=C9, 100, IF(B9>=D9, IF(B9=D9, 80, 0), 100 - ((B9-C9)/(D9-C9) * 20)))) -> 0 | F9: =IF(ISBLANK(B9), "isi data dulu", IF(B9<=C9, "sesuai target", IF(AND(B9>C9,B9<=D9), "di dalam target", IF(B9>D9, "melebihi batas", "")))) -> melebihi batas
A10: April | B10: 40 | C10: 3 | D10: 5 | E10: =IF(ISBLANK(B10), 0,IF(B10<=C10, 100, IF(B10>=D10, IF(B10=D10, 80, 0), 100 - ((B10-C10)/(D10-C10) * 20)))) -> 0 | F10: =IF(ISBLANK(B10), "isi data dulu", IF(B10<=C10, "sesuai target", IF(AND(B10>C10,B10<=D10), "di dalam target", IF(B10>D10, "melebihi batas", "")))) -> melebihi batas
A11: Mei | B11: 67 | C11: 3 | D11: 5 | E11: =IF(ISBLANK(B11), 0,IF(B11<=C11, 100, IF(B11>=D11, IF(B11=D11, 80, 0), 100 - ((B11-C11)/(D11-C11) * 20)))) -> 0 | F11: =IF(ISBLANK(B11), "isi data dulu", IF(B11<=C11, "sesuai target", IF(AND(B11>C11,B11<=D11), "di dalam target", IF(B11>D11, "melebihi batas", "")))) -> melebihi batas | G11: smoke detector PTC, kompresor pabrik, bio waste, pelunasa interior PCM
A12: Juni | B12: 94 | C12: 3 | D12: 5 | E12: =IF(ISBLANK(B12), 0,IF(B12<=C12, 100, IF(B12>=D12, IF(B12=D12, 80, 0), 100 - ((B12-C12)/(D12-C12) * 20)))) -> 0 | F12: =IF(ISBLANK(B12), "isi data dulu", IF(B12<=C12, "sesuai target", IF(AND(B12>C12,B12<=D12), "di dalam target", IF(B12>D12, "melebihi batas", "")))) -> melebihi batas | G12: smoke detectot PTC (tidak bisa realisasi krn dari pihak PTC blm dipasang)
A13: Juli | B13: 8 | C13: 3 | D13: 5 | E13: =IF(ISBLANK(B13), 0,IF(B13<=C13, 100, IF(B13>=D13, IF(B13=D13, 80, 0), 100 - ((B13-C13)/(D13-C13) * 20)))) -> 0 | F13: =IF(ISBLANK(B13), "isi data dulu", IF(B13<=C13, "sesuai target", IF(AND(B13>C13,B13<=D13), "di dalam target", IF(B13>D13, "melebihi batas", "")))) -> melebihi batas
A14: Agustus | B14: 8 | C14: 3 | D14: 5 | E14: =IF(ISBLANK(B14), 0,IF(B14<=C14, 100, IF(B14>=D14, IF(B14=D14, 80, 0), 100 - ((B14-C14)/(D14-C14) * 20)))) -> 0 | F14: =IF(ISBLANK(B14), "isi data dulu", IF(B14<=C14, "sesuai target", IF(AND(B14>C14,B14<=D14), "di dalam target", IF(B14>D14, "melebihi batas", "")))) -> melebihi batas
A15: September | B15: 6 | C15: 3 | D15: 5 | E15: =IF(ISBLANK(B15), 0,IF(B15<=C15, 100, IF(B15>=D15, IF(B15=D15, 80, 0), 100 - ((B15-C15)/(D15-C15) * 20)))) -> 0 | F15: =IF(ISBLANK(B15), "isi data dulu", IF(B15<=C15, "sesuai target", IF(AND(B15>C15,B15<=D15), "di dalam target", IF(B15>D15, "melebihi batas", "")))) -> melebihi batas
A16: Oktober | C16: 3 | D16: 5 | E16: =IF(ISBLANK(B16), 0,IF(B16<=C16, 100, IF(B16>=D16, IF(B16=D16, 80, 0), 100 - ((B16-C16)/(D16-C16) * 20)))) -> 0 | F16: =IF(ISBLANK(B16), "isi data dulu", IF(B16<=C16, "sesuai target", IF(AND(B16>C16,B16<=D16), "di dalam target", IF(B16>D16, "melebihi batas", "")))) -> isi data dulu
A17: November | C17: 3 | D17: 5 | E17: =IF(ISBLANK(B17), 0,IF(B17<=C17, 100, IF(B17>=D17, IF(B17=D17, 80, 0), 100 - ((B17-C17)/(D17-C17) * 20)))) -> 0 | F17: =IF(ISBLANK(B17), "isi data dulu", IF(B17<=C17, "sesuai target", IF(AND(B17>C17,B17<=D17), "di dalam target", IF(B17>D17, "melebihi batas", "")))) -> isi data dulu
A18: Desember | C18: 3 | D18: 5 | E18: =IF(ISBLANK(B18), 0,IF(B18<=C18, 100, IF(B18>=D18, IF(B18=D18, 80, 0), 100 - ((B18-C18)/(D18-C18) * 20)))) -> 0 | F18: =IF(ISBLANK(B18), "isi data dulu", IF(B18<=C18, "sesuai target", IF(AND(B18>C18,B18<=D18), "di dalam target", IF(B18>D18, "melebihi batas", "")))) -> isi data dulu
A19: Total | B19: =SUM(B7:B18) -> 261 | C19: =SUM(C7:C18) -> 36 | D19: =SUM(D7:D18) -> 60 | E19: =AVERAGE(E7:E18) -> 8.3333333 | F19: =IF(ISBLANK(B19), "isi data dulu", IF(B19<=C19, "sesuai target", IF(AND(B19>C19,B19<=D19), "di dalam target", IF(B19>D19, "melebihi batas", "")))) -> melebihi batas

Sheet F2c
A1: Nama KPI | B1: % | C1: Data aset tidak sesuai | E1: data aset keluar dar GA
A2: Periode | B2: Project/ Event
A3: Polarisasi | B3: Minimal
A6: Periode | B6: Realisasi | C6: Target (100%) | D6: Treshold Min | E6: Skor | F6: Status
A7: Januari | B7: 0 | C7: 0.03 | D7: 0.05 | E7: =IF(ISBLANK(B7), 0,IF(B7<=C7, 100, IF(B7>=D7, IF(B7=D7, 80, 0), 100 - ((B7-C7)/(D7-C7) * 20)))) -> 100 | F7: =IF(ISBLANK(B7), "isi data dulu", IF(B7<=C7, "sesuai target", IF(AND(B7>C7,B7<=D7), "di dalam target", IF(B7>D7, "melebihi batas", "")))) -> sesuai target
A8: Februari | B8: 0 | C8: 0.03 | D8: 0.05 | E8: =IF(ISBLANK(B8), 0,IF(B8<=C8, 100, IF(B8>=D8, IF(B8=D8, 80, 0), 100 - ((B8-C8)/(D8-C8) * 20)))) -> 100 | F8: =IF(ISBLANK(B8), "isi data dulu", IF(B8<=C8, "sesuai target", IF(AND(B8>C8,B8<=D8), "di dalam target", IF(B8>D8, "melebihi batas", "")))) -> sesuai target
A9: Maret | B9: 0 | C9: 0.03 | D9: 0.05 | E9: =IF(ISBLANK(B9), 0,IF(B9<=C9, 100, IF(B9>=D9, IF(B9=D9, 80, 0), 100 - ((B9-C9)/(D9-C9) * 20)))) -> 100 | F9: =IF(ISBLANK(B9), "isi data dulu", IF(B9<=C9, "sesuai target", IF(AND(B9>C9,B9<=D9), "di dalam target", IF(B9>D9, "melebihi batas", "")))) -> sesuai target
A10: April | B10: 0 | C10: 0.03 | D10: 0.05 | E10: =IF(ISBLANK(B10), 0,IF(B10<=C10, 100, IF(B10>=D10, IF(B10=D10, 80, 0), 100 - ((B10-C10)/(D10-C10) * 20)))) -> 100 | F10: =IF(ISBLANK(B10), "isi data dulu", IF(B10<=C10, "sesuai target", IF(AND(B10>C10,B10<=D10), "di dalam target", IF(B10>D10, "melebihi batas", "")))) -> sesuai target
A11: Mei | B11: 0 | C11: 0.03 | D11: 0.05 | E11: =IF(ISBLANK(B11), 0,IF(B11<=C11, 100, IF(B11>=D11, IF(B11=D11, 80, 0), 100 - ((B11-C11)/(D11-C11) * 20)))) -> 100 | F11: =IF(ISBLANK(B11), "isi data dulu", IF(B11<=C11, "sesuai target", IF(AND(B11>C11,B11<=D11), "di dalam target", IF(B11>D11, "melebihi batas", "")))) -> sesuai target
A12: Juni | B12: 0 | C12: 0.03 | D12: 0.05 | E12: =IF(ISBLANK(B12), 0,IF(B12<=C12, 100, IF(B12>=D12, IF(B12=D12, 80, 0), 100 - ((B12-C12)/(D12-C12) * 20)))) -> 100 | F12: =IF(ISBLANK(B12), "isi data dulu", IF(B12<=C12, "sesuai target", IF(AND(B12>C12,B12<=D12), "di dalam target", IF(B12>D12, "melebihi batas", "")))) -> sesuai target
A13: Juli | B13: 0 | C13: 0.03 | D13: 0.05 | E13: =IF(ISBLANK(B13), 0,IF(B13<=C13, 100, IF(B13>=D13, IF(B13=D13, 80, 0), 100 - ((B13-C13)/(D13-C13) * 20)))) -> 100 | F13: =IF(ISBLANK(B13), "isi data dulu", IF(B13<=C13, "sesuai target", IF(AND(B13>C13,B13<=D13), "di dalam target", IF(B13>D13, "melebihi batas", "")))) -> sesuai target
A14: Agustus | B14: 0 | C14: 0.03 | D14: 0.05 | E14: =IF(ISBLANK(B14), 0,IF(B14<=C14, 100, IF(B14>=D14, IF(B14=D14, 80, 0), 100 - ((B14-C14)/(D14-C14) * 20)))) -> 100 | F14: =IF(ISBLANK(B14), "isi data dulu", IF(B14<=C14, "sesuai target", IF(AND(B14>C14,B14<=D14), "di dalam target", IF(B14>D14, "melebihi batas", "")))) -> sesuai target
A15: September | B15: 0 | C15: 0.03 | D15: 0.05 | E15: =IF(ISBLANK(B15), 0,IF(B15<=C15, 100, IF(B15>=D15, IF(B15=D15, 80, 0), 100 - ((B15-C15)/(D15-C15) * 20)))) -> 100 | F15: =IF(ISBLANK(B15), "isi data dulu", IF(B15<=C15, "sesuai target", IF(AND(B15>C15,B15<=D15), "di dalam target", IF(B15>D15, "melebihi batas", "")))) -> sesuai target
A16: Oktober | C16: 0.03 | D16: 0.05 | E16: =IF(ISBLANK(B16), 0,IF(B16<=C16, 100, IF(B16>=D16, IF(B16=D16, 80, 0), 100 - ((B16-C16)/(D16-C16) * 20)))) -> 0 | F16: =IF(ISBLANK(B16), "isi data dulu", IF(B16<=C16, "sesuai target", IF(AND(B16>C16,B16<=D16), "di dalam target", IF(B16>D16, "melebihi batas", "")))) -> isi data dulu
A17: November | C17: 0.03 | D17: 0.05 | E17: =IF(ISBLANK(B17), 0,IF(B17<=C17, 100, IF(B17>=D17, IF(B17=D17, 80, 0), 100 - ((B17-C17)/(D17-C17) * 20)))) -> 0 | F17: =IF(ISBLANK(B17), "isi data dulu", IF(B17<=C17, "sesuai target", IF(AND(B17>C17,B17<=D17), "di dalam target", IF(B17>D17, "melebihi batas", "")))) -> isi data dulu
A18: Desember | C18: 0.03 | D18: 0.05 | E18: =IF(ISBLANK(B18), 0,IF(B18<=C18, 100, IF(B18>=D18, IF(B18=D18, 80, 0), 100 - ((B18-C18)/(D18-C18) * 20)))) -> 0 | F18: =IF(ISBLANK(B18), "isi data dulu", IF(B18<=C18, "sesuai target", IF(AND(B18>C18,B18<=D18), "di dalam target", IF(B18>D18, "melebihi batas", "")))) -> isi data dulu
A19: Total | B19: =SUM(B7:B18) -> 0 | C19: =SUM(C7:C18) -> 0.36 | D19: =SUM(D7:D18) -> 0.6 | E19: =IF(ISBLANK(B19), 0,IF(B19<=C19, 100, IF(B19>=D19, IF(B19=D19, 80, 0), 100 - ((B19-C19)/(D19-C19) * 20)))) -> 100 | F19: =IF(ISBLANK(B19), "isi data dulu", IF(B19<=C19, "sesuai target", IF(AND(B19>C19,B19<=D19), "di dalam target", IF(B19>D19, "melebihi batas", "")))) -> sesuai target

Sheet C1a
A1: Nama KPI | B1: % | C1: Keterlambatan penyelesaian kerusakan | F1: dihitung dari jumlah keterlambatan penyelesaian kerusakan terhadap total perbaikan kerusakan yang di lakukan
A2: Periode | B2: Bulanan
A3: Polarisasi | B3: Minimal
A6: Periode | B6: Jumlah Pekerjaan | C6: Jumlah Keterlambatan | D6: Realisasi | E6: Target (100%) | F6: Treshold Min | G6: Skor | H6: Status | I6: Keterangan
A7: Januari | E7: 0.15 | F7: 0.25 | G7: =IF(ISBLANK(D7), 0,IF(D7<=E7, 100, IF(D7>=F7, IF(D7=F7, 80, 0), 100 - ((D7-E7)/(F7-E7) * 20)))) -> 0 | H7: =IF(ISBLANK(D7), "isi data dulu", IF(D7<=E7, "sesuai target", IF(AND(D7>E7,D7<=F7), "di dalam target", IF(D7>F7, "melebihi batas", "")))) -> isi data dulu
A8: Februari | E8: 0.15 | F8: 0.25 | G8: =IF(ISBLANK(D8), 0,IF(D8<=E8, 100, IF(D8>=F8, IF(D8=F8, 80, 0), 100 - ((D8-E8)/(F8-E8) * 20)))) -> 0 | H8: =IF(ISBLANK(D8), "isi data dulu", IF(D8<=E8, "sesuai target", IF(AND(D8>E8,D8<=F8), "di dalam target", IF(D8>F8, "melebihi batas", "")))) -> isi data dulu | I8: online form belum support
A9: Maret | B9: 193 | C9: 60 | D9: =C9/B9 -> 0.31088083 | E9: 0.15 | F9: 0.25 | G9: =IF(ISBLANK(D9), 0,IF(D9<=E9, 100, IF(D9>=F9, IF(D9=F9, 80, 0), 100 - ((D9-E9)/(F9-E9) * 20)))) -> 0 | H9: =IF(ISBLANK(D9), "isi data dulu", IF(D9<=E9, "sesuai target", IF(AND(D9>E9,D9<=F9), "di dalam target", IF(D9>F9, "melebihi batas", "")))) -> melebihi batas
A10: April | B10: 150 | C10: 25 | D10: =C10/B10 -> 0.16666667 | E10: 0.15 | F10: 0.25 | G10: =IF(ISBLANK(D10), 0,IF(D10<=E10, 100, IF(D10>=F10, IF(D10=F10, 80, 0), 100 - ((D10-E10)/(F10-E10) * 20)))) -> 96.666667 | H10: =IF(ISBLANK(D10), "isi data dulu", IF(D10<=E10, "sesuai target", IF(AND(D10>E10,D10<=F10), "di dalam target", IF(D10>F10, "melebihi batas", "")))) -> di dalam target
A11: Mei | B11: 171 | C11: 30 | D11: =C11/B11 -> 0.1754386 | E11: 0.15 | F11: 0.25 | G11: =IF(ISBLANK(D11), 0,IF(D11<=E11, 100, IF(D11>=F11, IF(D11=F11, 80, 0), 100 - ((D11-E11)/(F11-E11) * 20)))) -> 94.912281 | H11: =IF(ISBLANK(D11), "isi data dulu", IF(D11<=E11, "sesuai target", IF(AND(D11>E11,D11<=F11), "di dalam target", IF(D11>F11, "melebihi batas", "")))) -> di dalam target
A12: Juni | B12: 141 | C12: 28 | D12: =C12/B12 -> 0.19858156 | E12: 0.15 | F12: 0.25 | G12: =IF(ISBLANK(D12), 0,IF(D12<=E12, 100, IF(D12>=F12, IF(D12=F12, 80, 0), 100 - ((D12-E12)/(F12-E12) * 20)))) -> 90.283688 | H12: =IF(ISBLANK(D12), "isi data dulu", IF(D12<=E12, "sesuai target", IF(AND(D12>E12,D12<=F12), "di dalam target", IF(D12>F12, "melebihi batas", "")))) -> di dalam target
A13: Juli | B13: 283 | C13: 52 | D13: =C13/B13 -> 0.18374558 | E13: 0.15 | F13: 0.25 | G13: =IF(ISBLANK(D13), 0,IF(D13<=E13, 100, IF(D13>=F13, IF(D13=F13, 80, 0), 100 - ((D13-E13)/(F13-E13) * 20)))) -> 93.250883 | H13: =IF(ISBLANK(D13), "isi data dulu", IF(D13<=E13, "sesuai target", IF(AND(D13>E13,D13<=F13), "di dalam target", IF(D13>F13, "melebihi batas", "")))) -> di dalam target
A14: Agustus | B14: 188 | C14: 27 | D14: =C14/B14 -> 0.14361702 | E14: 0.15 | F14: 0.25 | G14: =IF(ISBLANK(D14), 0,IF(D14<=E14, 100, IF(D14>=F14, IF(D14=F14, 80, 0), 100 - ((D14-E14)/(F14-E14) * 20)))) -> 100 | H14: =IF(ISBLANK(D14), "isi data dulu", IF(D14<=E14, "sesuai target", IF(AND(D14>E14,D14<=F14), "di dalam target", IF(D14>F14, "melebihi batas", "")))) -> sesuai target
A15: September | B15: 217 | C15: 80 | D15: =C15/B15 -> 0.36866359 | E15: 0.15 | F15: 0.25 | G15: =IF(ISBLANK(D15), 0,IF(D15<=E15, 100, IF(D15>=F15, IF(D15=F15, 80, 0), 100 - ((D15-E15)/(F15-E15) * 20)))) -> 0 | H15: =IF(ISBLANK(D15), "isi data dulu", IF(D15<=E15, "sesuai target", IF(AND(D15>E15,D15<=F15), "di dalam target", IF(D15>F15, "melebihi batas", "")))) -> melebihi batas
A16: Oktober | E16: 0.15 | F16: 0.25 | G16: =IF(ISBLANK(D16), 0,IF(D16<=E16, 100, IF(D16>=F16, IF(D16=F16, 80, 0), 100 - ((D16-E16)/(F16-E16) * 20)))) -> 0 | H16: =IF(ISBLANK(D16), "isi data dulu", IF(D16<=E16, "sesuai target", IF(AND(D16>E16,D16<=F16), "di dalam target", IF(D16>F16, "melebihi batas", "")))) -> isi data dulu
A17: November | E17: 0.15 | F17: 0.25 | G17: =IF(ISBLANK(D17), 0,IF(D17<=E17, 100, IF(D17>=F17, IF(D17=F17, 80, 0), 100 - ((D17-E17)/(F17-E17) * 20)))) -> 0 | H17: =IF(ISBLANK(D17), "isi data dulu", IF(D17<=E17, "sesuai target", IF(AND(D17>E17,D17<=F17), "di dalam target", IF(D17>F17, "melebihi batas", "")))) -> isi data dulu
A18: Desember | E18: 0.15 | F18: 0.25 | G18: =IF(ISBLANK(D18), 0,IF(D18<=E18, 100, IF(D18>=F18, IF(D18=F18, 80, 0), 100 - ((D18-E18)/(F18-E18) * 20)))) -> 0 | H18: =IF(ISBLANK(D18), "isi data dulu", IF(D18<=E18, "sesuai target", IF(AND(D18>E18,D18<=F18), "di dalam target", IF(D18>F18, "melebihi batas", "")))) -> isi data dulu
A19: Total | B19: =SUM(B7:B18) -> 1343 | C19: =SUM(C7:C18) -> 302 | D19: =AVERAGE(D7:D18) -> 0.22108484 | E19: =AVERAGE(E7:E18) -> 0.15 | F19: =AVERAGE(F7:F18) -> 0.25 | G19: =IF(D19<=E19, 100, IF(D19>=F19, IF(D19=F19, 80, 0), 100 - ((D19-E19)/(F19-E19) * 20))) -> 85.783033 | H19: =IF(D19<=E19, "sesuai target", IF(AND(D19>E19, D19<=F19), "di dalam target", IF(D19>F19, "melebihi batas", ""))) -> di dalam target

Sheet C1b
A1: Nama KPI | B1: # | C1: Indeks Kepuasan perbaikan
A2: Periode | B2: Bulanan
A3: Polarisasi | B3: Minimal
A6: Periode | B6: Jumlah online form | C6: Good | D6: Okay | E6: Bad | F6: Realisasi | G6: Target (100%) | H6: Treshold Min | I6: Skor | J6: Status | K6: Keterangan
A7: Januari | F7: =E7/(E7+D7+C7) -> #DIV/0! | G7: 0.05 | H7: 0.1 | I7: =IF(ISBLANK(F7), 0,IF(F7<=G7, 100, IF(F7>=H7, IF(F7=H7, 80, 0), 100 - ((F7-G7)/(H7-G7) * 20)))) -> #DIV/0! | J7: =IF(ISBLANK(F7), "isi data dulu", IF(F7<=G7, "sesuai target", IF(AND(F7>G7,F7<=H7), "di dalam target", IF(F7>H7, "melebihi batas", "")))) -> #DIV/0!
A8: Februari | F8: =E8/(E8+D8+C8) -> #DIV/0! | G8: 0.05 | H8: 0.1 | I8: =IF(ISBLANK(F8), 0,IF(F8<=G8, 100, IF(F8>=H8, IF(F8=H8, 80, 0), 100 - ((F8-G8)/(H8-G8) * 20)))) -> #DIV/0! | J8: =IF(ISBLANK(F8), "isi data dulu", IF(F8<=G8, "sesuai target", IF(AND(F8>G8,F8<=H8), "di dalam target", IF(F8>H8, "melebihi batas", "")))) -> #DIV/0! | K8: Online form belum support
A9: Maret | C9: 32 | D9: 6 | E9: 0 | F9: =E9/(E9+D9+C9) -> 0 | G9: 0.05 | H9: 0.1 | I9: =IF(ISBLANK(F9), 0,IF(F9<=G9, 100, IF(F9>=H9, IF(F9=H9, 80, 0), 100 - ((F9-G9)/(H9-G9) * 20)))) -> 100 | J9: =IF(ISBLANK(F9), "isi data dulu", IF(F9<=G9, "sesuai target", IF(AND(F9>G9,F9<=H9), "di dalam target", IF(F9>H9, "melebihi batas", "")))) -> sesuai target
A10: April | C10: 42 | D10: 3 | E10: 0 | F10: =E10/(E10+D10+C10) -> 0 | G10: 0.05 | H10: 0.1 | I10: =IF(ISBLANK(F10), 0,IF(F10<=G10, 100, IF(F10>=H10, IF(F10=H10, 80, 0), 100 - ((F10-G10)/(H10-G10) * 20)))) -> 100 | J10: =IF(ISBLANK(F10), "isi data dulu", IF(F10<=G10, "sesuai target", IF(AND(F10>G10,F10<=H10), "di dalam target", IF(F10>H10, "melebihi batas", "")))) -> sesuai target | K10: total 150 perbaikan, yang isi review hanya 45
A11: Mei | C11: 40 | D11: 3 | E11: 1 | F11: =E11/(E11+D11+C11) -> 0.022727273 | G11: 0.05 | H11: 0.1 | I11: =IF(ISBLANK(F11), 0,IF(F11<=G11, 100, IF(F11>=H11, IF(F11=H11, 80, 0), 100 - ((F11-G11)/(H11-G11) * 20)))) -> 100 | J11: =IF(ISBLANK(F11), "isi data dulu", IF(F11<=G11, "sesuai target", IF(AND(F11>G11,F11<=H11), "di dalam target", IF(F11>H11, "melebihi batas", "")))) -> sesuai target
A12: Juni | C12: 55 | D12: 2 | E12: 0 | F12: =E12/(E12+D12+C12) -> 0 | G12: 0.05 | H12: 0.1 | I12: =IF(ISBLANK(F12), 0,IF(F12<=G12, 100, IF(F12>=H12, IF(F12=H12, 80, 0), 100 - ((F12-G12)/(H12-G12) * 20)))) -> 100 | J12: =IF(ISBLANK(F12), "isi data dulu", IF(F12<=G12, "sesuai target", IF(AND(F12>G12,F12<=H12), "di dalam target", IF(F12>H12, "melebihi batas", "")))) -> sesuai target
A13: Juli | C13: 78 | D13: 5 | E13: 0 | F13: =E13/(E13+D13+C13) -> 0 | G13: 0.05 | H13: 0.1 | I13: =IF(ISBLANK(F13), 0,IF(F13<=G13, 100, IF(F13>=H13, IF(F13=H13, 80, 0), 100 - ((F13-G13)/(H13-G13) * 20)))) -> 100 | J13: =IF(ISBLANK(F13), "isi data dulu", IF(F13<=G13, "sesuai target", IF(AND(F13>G13,F13<=H13), "di dalam target", IF(F13>H13, "melebihi batas", "")))) -> sesuai target
A14: Agustus | C14: 59 | D14: 0 | E14: 1 | F14: =E14/(E14+D14+C14) -> 0.016666667 | G14: 0.05 | H14: 0.1 | I14: =IF(ISBLANK(F14), 0,IF(F14<=G14, 100, IF(F14>=H14, IF(F14=H14, 80, 0), 100 - ((F14-G14)/(H14-G14) * 20)))) -> 100 | J14: =IF(ISBLANK(F14), "isi data dulu", IF(F14<=G14, "sesuai target", IF(AND(F14>G14,F14<=H14), "di dalam target", IF(F14>H14, "melebihi batas", "")))) -> sesuai target
A15: September | C15: 77 | D15: 1 | E15: 2 | F15: =E15/(E15+D15+C15) -> 0.025 | G15: 0.05 | H15: 0.1 | I15: =IF(ISBLANK(F15), 0,IF(F15<=G15, 100, IF(F15>=H15, IF(F15=H15, 80, 0), 100 - ((F15-G15)/(H15-G15) * 20)))) -> 100 | J15: =IF(ISBLANK(F15), "isi data dulu", IF(F15<=G15, "sesuai target", IF(AND(F15>G15,F15<=H15), "di dalam target", IF(F15>H15, "melebihi batas", "")))) -> sesuai target
A16: Oktober | F16: =E16/(E16+D16+C16) -> #DIV/0! | G16: 0.05 | H16: 0.1 | I16: =IF(ISBLANK(F16), 0,IF(F16<=G16, 100, IF(F16>=H16, IF(F16=H16, 80, 0), 100 - ((F16-G16)/(H16-G16) * 20)))) -> #DIV/0! | J16: =IF(ISBLANK(F16), "isi data dulu", IF(F16<=G16, "sesuai target", IF(AND(F16>G16,F16<=H16), "di dalam target", IF(F16>H16, "melebihi batas", "")))) -> #DIV/0!
A17: November | F17: =E17/(E17+D17+C17) -> #DIV/0! | G17: 0.05 | H17: 0.1 | I17: =IF(ISBLANK(F17), 0,IF(F17<=G17, 100, IF(F17>=H17, IF(F17=H17, 80, 0), 100 - ((F17-G17)/(H17-G17) * 20)))) -> #DIV/0! | J17: =IF(ISBLANK(F17), "isi data dulu", IF(F17<=G17, "sesuai target", IF(AND(F17>G17,F17<=H17), "di dalam target", IF(F17>H17, "melebihi batas", "")))) -> #DIV/0!
A18: Desember | F18: =E18/(E18+D18+C18) -> #DIV/0! | G18: 0.05 | H18: 0.1 | I18: =IF(ISBLANK(F18), 0,IF(F18<=G18, 100, IF(F18>=H18, IF(F18=H18, 80, 0), 100 - ((F18-G18)/(H18-G18) * 20)))) -> #DIV/0! | J18: =IF(ISBLANK(F18), "isi data dulu", IF(F18<=G18, "sesuai target", IF(AND(F18>G18,F18<=H18), "di dalam target", IF(F18>H18, "melebihi batas", "")))) -> #DIV/0!
A19: Total | C19: =SUM(C7:C18) -> 383 | D19: =SUM(D7:D18) -> 20 | E19: =SUM(E7:E18) -> 4 | F19: =E19/(E19+D19+C19) -> 0.0098280098 | G19: 0.05 | H19: 0.1 | I19: =IF(ISBLANK(F19), 0,IF(F19<=G19, 100, IF(F19>=H19, IF(F19=H19, 80, 0), 100 - ((F19-G19)/(H19-G19) * 20)))) -> 100 | J19: =IF(ISBLANK(F19), "isi data dulu", IF(F19<=G19, "sesuai target", IF(AND(F19>G19,F19<=H19), "di dalam target", IF(F19>H19, "melebihi batas", "")))) -> sesuai target
G22: mulai agustus | H22: 1. bintang jadi 5 per bulan agustus 2. lead time review dijadikan 3x24 jam 3. diturunkan langsung ke SPV Maintenance
H23: 5 > 5 4 > 4 3 > 3 2 > 2 1 > 1 | I23: atau pakai rata2

Sheet C2a
A1: Nama KPI | B1: # | C1: Proyek Macro | D1: jumlah proyek yang deal
A2: Periode | B2: Tahunan
A3: Polarisasi | B3: Maksimal
A6: Periode | B6: Realisasi | C6: Target (100%) | D6: Treshold Min | E6: Skor | F6: Status
A7: Januari | B7: 0 | C7: 0 | D7: =C7-(C7*20%) -> 0 | E7: =IF(ISBLANK(B7), 0,IF(B7<D7, 0, IF(B7=D7, 100, IF(B7=C7, 100, IF(B7<C7, 80 + (B7-D7)/(C7-D7)*(100-80), 100 + (B7-C7)/(C7-D7)*(100-80)))))) -> 100 | F7: =IF(ISBLANK(B7), "isi data dulu",IF(B7>C7, "Melebihi target", IF(AND(B7>=D7, B7<=C7), "Di dalam target", "Dibawah target"))) -> Di dalam target
A8: Februari | B8: 0 | C8: 0 | D8: =C8-(C8*20%) -> 0 | E8: =IF(ISBLANK(B8), 0,IF(B8<D8, 0, IF(B8=D8, 100, IF(B8=C8, 100, IF(B8<C8, 80 + (B8-D8)/(C8-D8)*(100-80), 100 + (B8-C8)/(C8-D8)*(100-80)))))) -> 100 | F8: =IF(ISBLANK(B8), "isi data dulu",IF(B8>C8, "Melebihi target", IF(AND(B8>=D8, B8<=C8), "Di dalam target", "Dibawah target"))) -> Di dalam target
A9: Maret | B9: 0 | C9: 0 | D9: =C9-(C9*20%) -> 0 | E9: =IF(ISBLANK(B9), 0,IF(B9<D9, 0, IF(B9=D9, 100, IF(B9=C9, 100, IF(B9>C9, 100, IF(B9<C9, 80 + (B9-D9)/(C9-D9)*(100-80), 100 + (B9-C9)/(C9-D9)*(100-80))))))) -> 100 | F9: =IF(ISBLANK(B9), "isi data dulu",IF(B9>C9, "Melebihi target", IF(AND(B9>=D9, B9<=C9), "Di dalam target", "Dibawah target"))) -> Di dalam target
A10: April | B10: 0 | C10: 0 | D10: =C10-(C10*20%) -> 0 | E10: =IF(ISBLANK(B10), 0,IF(B10<D10, 0, IF(B10=D10, 100, IF(B10=C10, 100, IF(B10<C10, 80 + (B10-D10)/(C10-D10)*(100-80), 100 + (B10-C10)/(C10-D10)*(100-80)))))) -> 100 | F10: =IF(ISBLANK(B10), "isi data dulu",IF(B10>C10, "Melebihi target", IF(AND(B10>=D10, B10<=C10), "Di dalam target", "Dibawah target"))) -> Di dalam target
A11: Mei | B11: 0 | C11: 0 | D11: =C11-(C11*20%) -> 0 | E11: =IF(ISBLANK(B11), 0,IF(B11<D11, 0, IF(B11=D11, 100, IF(B11=C11, 100, IF(B11<C11, 80 + (B11-D11)/(C11-D11)*(100-80), 100 + (B11-C11)/(C11-D11)*(100-80)))))) -> 100 | F11: =IF(ISBLANK(B11), "isi data dulu",IF(B11>C11, "Melebihi target", IF(AND(B11>=D11, B11<=C11), "Di dalam target", "Dibawah target"))) -> Di dalam target
A12: Juni | B12: 0 | C12: 0 | D12: =C12-(C12*20%) -> 0 | E12: =IF(ISBLANK(B12), 0,IF(B12<D12, 0, IF(B12=D12, 100, IF(B12=C12, 100, IF(B12<C12, 80 + (B12-D12)/(C12-D12)*(100-80), 100 + (B12-C12)/(C12-D12)*(100-80)))))) -> 100 | F12: =IF(ISBLANK(B12), "isi data dulu",IF(B12>C12, "Melebihi target", IF(AND(B12>=D12, B12<=C12), "Di dalam target", "Dibawah target"))) -> Di dalam target
A13: Juli | B13: 0 | C13: 0 | D13: =C13-(C13*20%) -> 0 | E13: =IF(ISBLANK(B13), 0,IF(B13<D13, 0, IF(B13=D13, 100, IF(B13=C13, 100, IF(B13<C13, 80 + (B13-D13)/(C13-D13)*(100-80), 100 + (B13-C13)/(C13-D13)*(100-80)))))) -> 100 | F13: =IF(ISBLANK(B13), "isi data dulu",IF(B13>C13, "Melebihi target", IF(AND(B13>=D13, B13<=C13), "Di dalam target", "Dibawah target"))) -> Di dalam target
A14: Agustus | B14: 0 | C14: 1 | D14: =C14-(C14*20%) -> 0.8 | E14: =IF(ISBLANK(B14), 0,IF(B14<D14, 0, IF(B14=D14, 100, IF(B14=C14, 100, IF(B14<C14, 80 + (B14-D14)/(C14-D14)*(100-80), 100 + (B14-C14)/(C14-D14)*(100-80)))))) -> 0 | F14: =IF(ISBLANK(B14), "isi data dulu",IF(B14>C14, "Melebihi target", IF(AND(B14>=D14, B14<=C14), "Di dalam target", "Dibawah target"))) -> Dibawah target
A15: September | B15: 0 | C15: 3 | D15: =C15-(C15*20%) -> 2.4 | E15: =IF(ISBLANK(B15), 0,IF(B15<D15, 0, IF(B15=D15, 100, IF(B15=C15, 100, IF(B15<C15, 80 + (B15-D15)/(C15-D15)*(100-80), 100 + (B15-C15)/(C15-D15)*(100-80)))))) -> 0 | F15: =IF(ISBLANK(B15), "isi data dulu",IF(B15>C15, "Melebihi target", IF(AND(B15>=D15, B15<=C15), "Di dalam target", "Dibawah target"))) -> Dibawah target
A16: Oktober | C16: 3 | D16: =C16-(C16*20%) -> 2.4 | F16: =IF(ISBLANK(B16), "isi data dulu",IF(B16>C16, "Melebihi target", IF(AND(B16>=D16, B16<=C16), "Di dalam target", "Dibawah target"))) -> isi data dulu
A17: November | C17: 4 | D17: =C17-(C17*20%) -> 3.2 | F17: =IF(ISBLANK(B17), "isi data dulu",IF(B17>C17, "Melebihi target", IF(AND(B17>=D17, B17<=C17), "Di dalam target", "Dibawah target"))) -> isi data dulu
A18: Desember | C18: 5 | D18: =C18-(C18*20%) -> 4 | F18: =IF(ISBLANK(B18), "isi data dulu",IF(B18>C18, "Melebihi target", IF(AND(B18>=D18, B18<=C18), "Di dalam target", "Dibawah target"))) -> isi data dulu
A19: Total | B19: =SUM(B7:B18) -> 0 | C19: 5 | D19: =C19-(C19*20%) -> 4 | E19: =AVERAGE(E7:E18) -> 77.777778 | F19: =IF(B19>C19, "Melebihi target", IF(AND(B19>=D19, B19<=C19), "Di dalam target", "Dibawah target")) -> Dibawah target

Sheet B1a
A1: Nama KPI | B1: # | C1: Temuan audit compliance & mutu | E1: audit dilakukan oleh AI
A2: Periode | B2: Project/ Event | E2: temuan mayor
A3: Polarisasi | B3: Minimal
A6: Periode | B6: Realisasi | C6: Target (100%) | D6: Treshold Min | E6: Skor | F6: Status | G6: Keterangan
A7: Kuarter 1 | B7: 4 | C7: 0 | D7: 1 | E7: =IF(ISBLANK(B7), 0,IF(B7<=C7, 100, IF(B7>=D7, IF(B7=D7, 80, 0), 100 - ((B7-C7)/(D7-C7) * 20)))) -> 0 | F7: =IF(ISBLANK(B7), "isi data dulu", IF(B7<=C7, "sesuai target", IF(AND(B7>C7,B7<=D7), "di dalam target", IF(B7>D7, "melebihi batas", "")))) -> melebihi batas
A8: Kuarter 2 | B8: 0 | C8: 0 | D8: 1 | E8: =IF(ISBLANK(B8), 0,IF(B8<=C8, 100, IF(B8>=D8, IF(B8=D8, 80, 0), 100 - ((B8-C8)/(D8-C8) * 20)))) -> 100 | F8: =IF(ISBLANK(B8), "isi data dulu", IF(B8<=C8, "sesuai target", IF(AND(B8>C8,B8<=D8), "di dalam target", IF(B8>D8, "melebihi batas", "")))) -> sesuai target
A9: Kuarter 3 | B9: 10 | C9: 0 | D9: 1 | E9: =IF(ISBLANK(B9), 0,IF(B9<=C9, 100, IF(B9>=D9, IF(B9=D9, 80, 0), 100 - ((B9-C9)/(D9-C9) * 20)))) -> 0 | F9: =IF(ISBLANK(B9), "isi data dulu", IF(B9<=C9, "sesuai target", IF(AND(B9>C9,B9<=D9), "di dalam target", IF(B9>D9, "melebihi batas", "")))) -> melebihi batas
A10: Kuarter 4 | C10: 0 | D10: 1 | E10: =IF(ISBLANK(B10), 0,IF(B10<=C10, 100, IF(B10>=D10, IF(B10=D10, 80, 0), 100 - ((B10-C10)/(D10-C10) * 20)))) -> 0 | F10: =IF(ISBLANK(B10), "isi data dulu", IF(B10<=C10, "sesuai target", IF(AND(B10>C10,B10<=D10), "di dalam target", IF(B10>D10, "melebihi batas", "")))) -> isi data dulu
A11: Total | B11: =SUM(B7:B10) -> 14 | C11: =SUM(C7:C10) -> 0 | D11: =SUM(D7:D10) -> 4 | E11: =IF(ISBLANK(B11), 0,IF(B11<=C11, 100, IF(B11>=D11, IF(B11=D11, 80, 0), 100 - ((B11-C11)/(D11-C11) * 20)))) -> 0 | F11: =IF(ISBLANK(B11), "isi data dulu", IF(B11<=C11, "sesuai target", IF(AND(B11>C11,B11<=D11), "di dalam target", IF(B11>D11, "melebihi batas", "")))) -> melebihi batas

Sheet B1b
A1: Nama KPI | B1: # | C1: Outlet Terlambat Buka | F1: dihitung dari jumlah proyek yang terlambat dibanding total proyek yang di kerjakan
A2: Periode | B2: Tahunan | F2: HAM dengan milik BD
A3: Polarisasi | B3: Minimal
A6: Project | B6: Target | C6: Realisasi | D6: Hari keterlambatan | E6: Kategori | F6: Target (100%) | G6: Treshold Min | H6: Skor | I6: Status | J6: Column 2
A7: Mie Mapan AEON Deltamas | B7: 45678 | C7: 45702 | D7: =C7-B7 -> 24 | E7: =IF(D7>0, "terlambat", IF(D7=0, "tepat waktu", IF(D7<0, "lebih cepat"))) -> terlambat | F7: 0 | G7: 0 | H7: =IF(ISBLANK(D7), 0,IF(D7<=F7, 100, IF(D7>=G7, IF(D7=G7, 80, 0), 100 - ((D7-F7)/(G7-F7) * 20)))) -> 0 | I7: =IF(ISBLANK(D7), "isi data dulu", IF(D7<=F7, "sesuai target", IF(AND(D7>F7,D7<=G7), "di dalam target", IF(D7>G7, "melebihi batas", "")))) -> melebihi batas | J7: masih menggunakan data proyek terlmbat, next project baru pakai outlet terlambat buka
A8: Mie Mapan Supermall Karawaci | B8: 45678 | C8: 45694 | D8: =C8-B8 -> 16 | E8: =IF(D8>0, "terlambat", IF(D8=0, "tepat waktu", IF(D8<0, "lebih cepat"))) -> terlambat | F8: 0 | G8: 0 | H8: =IF(ISBLANK(D8), 0,IF(D8<=F8, 100, IF(D8>=G8, IF(D8=G8, 80, 0), 100 - ((D8-F8)/(G8-F8) * 20)))) -> 0 | I8: =IF(ISBLANK(D8), "isi data dulu", IF(D8<=F8, "sesuai target", IF(AND(D8>F8,D8<=G8), "di dalam target", IF(D8>G8, "melebihi batas", "")))) -> melebihi batas | J8: masih menggunakan data proyek terlmbat, next project baru pakai outlet terlambat buka
A9: Mie Mapan BG Junction | B9: 45684 | C9: 45700 | D9: =C9-B9 -> 16 | E9: =IF(D9>0, "terlambat", IF(D9=0, "tepat waktu", IF(D9<0, "lebih cepat"))) -> terlambat | F9: 0 | G9: 0 | H9: =IF(ISBLANK(D9), 0,IF(D9<=F9, 100, IF(D9>=G9, IF(D9=G9, 80, 0), 100 - ((D9-F9)/(G9-F9) * 20)))) -> 0 | I9: =IF(ISBLANK(D9), "isi data dulu", IF(D9<=F9, "sesuai target", IF(AND(D9>F9,D9<=G9), "di dalam target", IF(D9>G9, "melebihi batas", "")))) -> melebihi batas | J9: masih menggunakan data proyek terlmbat, next project baru pakai outlet terlambat buka
A10: Puri Surya Jaya | B10: 45726 | C10: 45740 | D10: =C10-B10 -> 14 | E10: =IF(D10>0, "terlambat", IF(D10=0, "tepat waktu", IF(D10<0, "lebih cepat"))) -> terlambat | F10: 0 | G10: 0 | H10: =IF(ISBLANK(D10), 0,IF(D10<=F10, 100, IF(D10>=G10, IF(D10=G10, 80, 0), 100 - ((D10-F10)/(G10-F10) * 20)))) -> 0 | I10: =IF(ISBLANK(D10), "isi data dulu", IF(D10<=F10, "sesuai target", IF(AND(D10>F10,D10<=G10), "di dalam target", IF(D10>G10, "melebihi batas", "")))) -> melebihi batas | J10: masih menggunakan data proyek terlmbat, next project baru pakai outlet terlambat buka
A11: Royal Plaza | B11: 45728 | C11: 45739 | D11: =C11-B11 -> 11 | E11: =IF(D11>0, "terlambat", IF(D11=0, "tepat waktu", IF(D11<0, "lebih cepat"))) -> terlambat | F11: 0 | G11: 0 | H11: =IF(ISBLANK(D11), 0,IF(D11<=F11, 100, IF(D11>=G11, IF(D11=G11, 80, 0), 100 - ((D11-F11)/(G11-F11) * 20)))) -> 0 | I11: =IF(ISBLANK(D11), "isi data dulu", IF(D11<=F11, "sesuai target", IF(AND(D11>F11,D11<=G11), "di dalam target", IF(D11>G11, "melebihi batas", "")))) -> melebihi batas | J11: masih menggunakan data proyek terlmbat, next project baru pakai outlet terlambat buka
A12: Pepelegi | B12: 45923 | C12: 45923 | D12: =C12-B12 -> 0 | E12: =IF(D12>0, "terlambat", IF(D12=0, "tepat waktu", IF(D12<0, "lebih cepat"))) -> tepat waktu | F12: 0 | G12: 0 | H12: =IF(ISBLANK(D12), 0,IF(D12<=F12, 100, IF(D12>=G12, IF(D12=G12, 80, 0), 100 - ((D12-F12)/(G12-F12) * 20)))) -> 100 | I12: =IF(ISBLANK(D12), "isi data dulu", IF(D12<=F12, "sesuai target", IF(AND(D12>F12,D12<=G12), "di dalam target", IF(D12>G12, "melebihi batas", "")))) -> sesuai target
A13: Kusuma Bangsa | B13: 45941 | F13: 0 | G13: 0 | H13: =IF(ISBLANK(D13), 0,IF(D13<=F13, 100, IF(D13>=G13, IF(D13=G13, 80, 0), 100 - ((D13-F13)/(G13-F13) * 20)))) -> 0 | I13: =IF(ISBLANK(D13), "isi data dulu", IF(D13<=F13, "sesuai target", IF(AND(D13>F13,D13<=G13), "di dalam target", IF(D13>G13, "melebihi batas", "")))) -> isi data dulu
F14: 0 | G14: 0 | H14: =IF(ISBLANK(D14), 0,IF(D14<=F14, 100, IF(D14>=G14, IF(D14=G14, 80, 0), 100 - ((D14-F14)/(G14-F14) * 20)))) -> 0 | I14: =IF(ISBLANK(D14), "isi data dulu", IF(D14<=F14, "sesuai target", IF(AND(D14>F14,D14<=G14), "di dalam target", IF(D14>G14, "melebihi batas", "")))) -> isi data dulu
F15: 0 | G15: 0 | H15: =IF(ISBLANK(D15), 0,IF(D15<=F15, 100, IF(D15>=G15, IF(D15=G15, 80, 0), 100 - ((D15-F15)/(G15-F15) * 20)))) -> 0 | I15: =IF(ISBLANK(D15), "isi data dulu", IF(D15<=F15, "sesuai target", IF(AND(D15>F15,D15<=G15), "di dalam target", IF(D15>G15, "melebihi batas", "")))) -> isi data dulu
F16: 0 | G16: 0 | H16: =IF(ISBLANK(D16), 0,IF(D16<=F16, 100, IF(D16>=G16, IF(D16=G16, 80, 0), 100 - ((D16-F16)/(G16-F16) * 20)))) -> 0 | I16: =IF(ISBLANK(D16), "isi data dulu", IF(D16<=F16, "sesuai target", IF(AND(D16>F16,D16<=G16), "di dalam target", IF(D16>G16, "melebihi batas", "")))) -> isi data dulu
H17: =IF(ISBLANK(D17), 0,IF(D17<=F17, 100, IF(D17>=G17, IF(D17=G17, 80, 0), 100 - ((D17-F17)/(G17-F17) * 20)))) -> 0 | I17: =IF(ISBLANK(D17), "isi data dulu", IF(D17<=F17, "sesuai target", IF(AND(D17>F17,D17<=G17), "di dalam target", IF(D17>G17, "melebihi batas", "")))) -> isi data dulu
H18: =IF(ISBLANK(D18), 0,IF(D18<=F18, 100, IF(D18>=G18, IF(D18=G18, 80, 0), 100 - ((D18-F18)/(G18-F18) * 20)))) -> 0 | I18: =IF(ISBLANK(D18), "isi data dulu", IF(D18<=F18, "sesuai target", IF(AND(D18>F18,D18<=G18), "di dalam target", IF(D18>G18, "melebihi batas", "")))) -> isi data dulu
H19: =IF(ISBLANK(D19), 0,IF(D19<=F19, 100, IF(D19>=G19, IF(D19=G19, 80, 0), 100 - ((D19-F19)/(G19-F19) * 20)))) -> 0 | I19: =IF(ISBLANK(D19), "isi data dulu", IF(D19<=F19, "sesuai target", IF(AND(D19>F19,D19<=G19), "di dalam target", IF(D19>G19, "melebihi batas", "")))) -> isi data dulu
H20: =IF(ISBLANK(D20), 0,IF(D20<=F20, 100, IF(D20>=G20, IF(D20=G20, 80, 0), 100 - ((D20-F20)/(G20-F20) * 20)))) -> 0 | I20: =IF(ISBLANK(D20), "isi data dulu", IF(D20<=F20, "sesuai target", IF(AND(D20>F20,D20<=G20), "di dalam target", IF(D20>G20, "melebihi batas", "")))) -> isi data dulu
H21: =IF(ISBLANK(D21), 0,IF(D21<=F21, 100, IF(D21>=G21, IF(D21=G21, 80, 0), 100 - ((D21-F21)/(G21-F21) * 20)))) -> 0 | I21: =IF(ISBLANK(D21), "isi data dulu", IF(D21<=F21, "sesuai target", IF(AND(D21>F21,D21<=G21), "di dalam target", IF(D21>G21, "melebihi batas", "")))) -> isi data dulu
F22: 0 | G22: 0 | H22: =IF(ISBLANK(D22), 0,IF(D22<=F22, 100, IF(D22>=G22, IF(D22=G22, 80, 0), 100 - ((D22-F22)/(G22-F22) * 20)))) -> 0 | I22: =IF(ISBLANK(D22), "isi data dulu", IF(D22<=F22, "sesuai target", IF(AND(D22>F22,D22<=G22), "di dalam target", IF(D22>G22, "melebihi batas", "")))) -> isi data dulu
A24: =COUNTA(A7:A23) -> 7 | E24: =(COUNTIF(E7:E23,"terlambat")/COUNTA(A7:A23)) -> 0.71428571 | F24: 0.05 | G24: 0.1 | H24: =IF(ISBLANK(E24), 0,IF(E24<=F24, 100, IF(E24>=G24, IF(E24=G24, 80, 0), 100 - ((E24-F24)/(G24-F24) * 20)))) -> 0

Sheet B1c
A1: Nama KPI | B1: # | C1: Kecelakaan kerja | D1: jumlah kecelakaan kerja setiap bulan all departemen
A2: Periode | B2: Bulanan | D2: dari berangkat kerja sampai pulang kerja
A3: Polarisasi | B3: Minimal
A6: Periode | B6: Realisasi | C6: Target (100%) | D6: Treshold Min | E6: Skor | F6: Status | G6: Column 1
A7: Januari | B7: 0 | C7: 0 | D7: 1 | E7: =IF(ISBLANK(B7), 0,IF(B7<=C7, 100, IF(B7>=D7, IF(B7=D7, 80, 0), 100 - ((B7-C7)/(D7-C7) * 20)))) -> 100 | F7: =IF(ISBLANK(B7), "isi data dulu", IF(B7<=C7, "sesuai target", IF(AND(B7>C7,B7<=D7), "di dalam target", IF(B7>D7, "melebihi batas", "")))) -> sesuai target
A8: Februari | B8: 0 | C8: 0 | D8: 1 | E8: =IF(ISBLANK(B8), 0,IF(B8<=C8, 100, IF(B8>=D8, IF(B8=D8, 80, 0), 100 - ((B8-C8)/(D8-C8) * 20)))) -> 100 | F8: =IF(ISBLANK(B8), "isi data dulu", IF(B8<=C8, "sesuai target", IF(AND(B8>C8,B8<=D8), "di dalam target", IF(B8>D8, "melebihi batas", "")))) -> sesuai target
A9: Maret | B9: 0 | C9: 0 | D9: 1 | E9: =IF(ISBLANK(B9), 0,IF(B9<=C9, 100, IF(B9>=D9, IF(B9=D9, 80, 0), 100 - ((B9-C9)/(D9-C9) * 20)))) -> 100 | F9: =IF(ISBLANK(B9), "isi data dulu", IF(B9<=C9, "sesuai target", IF(AND(B9>C9,B9<=D9), "di dalam target", IF(B9>D9, "melebihi batas", "")))) -> sesuai target
A10: April | B10: 0 | C10: 0 | D10: 1 | E10: =IF(ISBLANK(B10), 0,IF(B10<=C10, 100, IF(B10>=D10, IF(B10=D10, 80, 0), 100 - ((B10-C10)/(D10-C10) * 20)))) -> 100 | F10: =IF(ISBLANK(B10), "isi data dulu", IF(B10<=C10, "sesuai target", IF(AND(B10>C10,B10<=D10), "di dalam target", IF(B10>D10, "melebihi batas", "")))) -> sesuai target
A11: Mei | B11: 1 | C11: 0 | D11: 1 | E11: =IF(ISBLANK(B11), 0,IF(B11<=C11, 100, IF(B11>=D11, IF(B11=D11, 80, 0), 100 - ((B11-C11)/(D11-C11) * 20)))) -> 80 | F11: =IF(ISBLANK(B11), "isi data dulu", IF(B11<=C11, "sesuai target", IF(AND(B11>C11,B11<=D11), "di dalam target", IF(B11>D11, "melebihi batas", "")))) -> di dalam target | G11: panci presto pabrik
A12: Juni | B12: 0 | C12: 0 | D12: 1 | E12: =IF(ISBLANK(B12), 0,IF(B12<=C12, 100, IF(B12>=D12, IF(B12=D12, 80, 0), 100 - ((B12-C12)/(D12-C12) * 20)))) -> 100 | F12: =IF(ISBLANK(B12), "isi data dulu", IF(B12<=C12, "sesuai target", IF(AND(B12>C12,B12<=D12), "di dalam target", IF(B12>D12, "melebihi batas", "")))) -> sesuai target
A13: Juli | B13: 1 | C13: 0 | D13: 1 | E13: =IF(ISBLANK(B13), 0,IF(B13<=C13, 100, IF(B13>=D13, IF(B13=D13, 80, 0), 100 - ((B13-C13)/(D13-C13) * 20)))) -> 80 | F13: =IF(ISBLANK(B13), "isi data dulu", IF(B13<=C13, "sesuai target", IF(AND(B13>C13,B13<=D13), "di dalam target", IF(B13>D13, "melebihi batas", "")))) -> di dalam target
A14: Agustus | B14: 0 | C14: 0 | D14: 1 | E14: =IF(ISBLANK(B14), 0,IF(B14<=C14, 100, IF(B14>=D14, IF(B14=D14, 80, 0), 100 - ((B14-C14)/(D14-C14) * 20)))) -> 100 | F14: =IF(ISBLANK(B14), "isi data dulu", IF(B14<=C14, "sesuai target", IF(AND(B14>C14,B14<=D14), "di dalam target", IF(B14>D14, "melebihi batas", "")))) -> sesuai target
A15: September | B15: 0 | C15: 0 | D15: 1 | E15: =IF(ISBLANK(B15), 0,IF(B15<=C15, 100, IF(B15>=D15, IF(B15=D15, 80, 0), 100 - ((B15-C15)/(D15-C15) * 20)))) -> 100 | F15: =IF(ISBLANK(B15), "isi data dulu", IF(B15<=C15, "sesuai target", IF(AND(B15>C15,B15<=D15), "di dalam target", IF(B15>D15, "melebihi batas", "")))) -> sesuai target
A16: Oktober | C16: 0 | D16: 1 | E16: =IF(ISBLANK(B16), 0,IF(B16<=C16, 100, IF(B16>=D16, IF(B16=D16, 80, 0), 100 - ((B16-C16)/(D16-C16) * 20)))) -> 0 | F16: =IF(ISBLANK(B16), "isi data dulu", IF(B16<=C16, "sesuai target", IF(AND(B16>C16,B16<=D16), "di dalam target", IF(B16>D16, "melebihi batas", "")))) -> isi data dulu
A17: November | C17: 0 | D17: 1 | E17: =IF(ISBLANK(B17), 0,IF(B17<=C17, 100, IF(B17>=D17, IF(B17=D17, 80, 0), 100 - ((B17-C17)/(D17-C17) * 20)))) -> 0 | F17: =IF(ISBLANK(B17), "isi data dulu", IF(B17<=C17, "sesuai target", IF(AND(B17>C17,B17<=D17), "di dalam target", IF(B17>D17, "melebihi batas", "")))) -> isi data dulu
A18: Desember | C18: 0 | D18: 1 | E18: =IF(ISBLANK(B18), 0,IF(B18<=C18, 100, IF(B18>=D18, IF(B18=D18, 80, 0), 100 - ((B18-C18)/(D18-C18) * 20)))) -> 0 | F18: =IF(ISBLANK(B18), "isi data dulu", IF(B18<=C18, "sesuai target", IF(AND(B18>C18,B18<=D18), "di dalam target", IF(B18>D18, "melebihi batas", "")))) -> isi data dulu
A19: Total | B19: =SUM(B7:B18) -> 2 | C19: =SUM(C7:C18) -> 0 | D19: =SUM(D7:D18) -> 12 | E19: =IF(ISBLANK(B19), 0,IF(B19<=C19, 100, IF(B19>=D19, IF(B19=D19, 80, 0), 100 - ((B19-C19)/(D19-C19) * 20)))) -> 96.666667 | F19: =IF(ISBLANK(B19), "isi data dulu", IF(B19<=C19, "sesuai target", IF(AND(B19>C19,B19<=D19), "di dalam target", IF(B19>D19, "melebihi batas", "")))) -> di dalam target

Sheet B2a
A1: Nama KPI | B1: % | C1: Progress Implementasi SMK3 tingkat awal | F1: 64 modul | G1: di spread per quartal
A2: Periode | B2: Quarter (3bln) | C2: https://openproject.mapan.co.id/projects/smk3-tingkat-awal/work_packages?query_props=%7B%22c%22%3A%5B%22id%22%2C%22subject%22%2C%22type%22%2C%22status%22%2C%22assignee%22%2C%22priority%22%5D%2C%22hi%22%3Atrue%2C%22g%22%3A%22%22%2C%22is%22%3Atrue%2C%22tv%22%3Afalse%2C%22hla%22%3A%5B%22status%22%2C%22priority%22%2C%22dueDate%22%5D%2C%22t%22%3A%22id%3Aasc%22%2C%22f%22%3A%5B%5D%2C%22ts%22%3A%22PT0S%22%2C%22pp%22%3A100%2C%22pa%22%3A1%7D
A3: Polarisasi | B3: Maksimal
A6: Periode | B6: implemented modul | C6: Realisasi | D6: Target (100%) | E6: Treshold Min | F6: Skor | G6: Status | I6: =100/12 -> 8.3333333
A7: Q1 | B7: 9 | C7: =B7/$B$11 -> 0.140625 | D7: 0.4 | E7: 0.3 | G7: =IF(C7 < E7, "Dibawah target", IF(C7 <= D7, "Di dalam target", "Melebihi target")) -> Dibawah target
A8: Q2 | B8: 25 | C8: =B8/$B$11 -> 0.390625 | D8: 0.6 | E8: 0.5 | G8: =IF(C8 < E8, "Dibawah target", IF(C8 <= D8, "Di dalam target", "Melebihi target")) -> Dibawah target
A9: Q3 | B9: 46 | C9: =B9/$B$11 -> 0.71875 | D9: 0.7 | E9: 0.6 | G9: =IF(C9 < E9, "Dibawah target", IF(C9 <= D9, "Di dalam target", "Melebihi target")) -> Melebihi target
A10: Q4 | C10: =B10/$B$11 -> 0 | D10: 1 | E10: 0.8 | G10: =IF(C10 < E10, "Dibawah target", IF(C10 <= D10, "Di dalam target", "Melebihi target")) -> Dibawah target
A11: Total | B11: 64 | C11: =C9 -> 0.71875 | D11: 1 | E11: 0.8 | G11: =IF(C11 < E11, "Dibawah target", IF(C11 <= D11, "Di dalam target", "Melebihi target")) -> Dibawah target

Sheet B3a
A1: Nama KPI | B1: % | C1: Downtime alat / mesin | E1: total downtime mesin di bandingkan total jam operasional mesin
A2: Periode | B2: Bulanan | E2: dihitung dari selesai waktu SLA (standar skala prioritas perbaikan equipment)
A3: Polarisasi | B3: Minimal
A6: Periode | B6: Total downtime | C6: Total Operasional | D6: Realisasi | E6: Target (100%) | F6: Treshold Min | G6: Skor | H6: Status | I6: Keterangan
A7: Januari | B7: 0 | C7: 0 | D7: 0 | E7: 0.02 | F7: 0.03 | G7: =IF(ISBLANK(D7), 0,IF(D7<=E7, 100, IF(D7>=F7, IF(D7=F7, 80, 0), 100 - ((D7-E7)/(F7-E7) * 20)))) -> 100 | H7: =IF(ISBLANK(D7), "isi data dulu", IF(D7<=E7, "sesuai target", IF(AND(D7>E7,D7<=F7), "di dalam target", IF(D7>F7, "melebihi batas", "")))) -> sesuai target
A8: Februari | B8: 0 | C8: 0 | D8: 0 | E8: 0.02 | F8: 0.03 | G8: =IF(ISBLANK(D8), 0,IF(D8<=E8, 100, IF(D8>=F8, IF(D8=F8, 80, 0), 100 - ((D8-E8)/(F8-E8) * 20)))) -> 100 | H8: =IF(ISBLANK(D8), "isi data dulu", IF(D8<=E8, "sesuai target", IF(AND(D8>E8,D8<=F8), "di dalam target", IF(D8>F8, "melebihi batas", "")))) -> sesuai target | I8: online form belum support
A9: Maret | B9: 6788 | C9: 38970 | D9: =B9/C9 -> 0.17418527 | E9: 0.02 | F9: 0.03 | G9: =IF(ISBLANK(D9), 0,IF(D9<=E9, 100, IF(D9>=F9, IF(D9=F9, 80, 0), 100 - ((D9-E9)/(F9-E9) * 20)))) -> 0 | H9: =IF(ISBLANK(D9), "isi data dulu", IF(D9<=E9, "sesuai target", IF(AND(D9>E9,D9<=F9), "di dalam target", IF(D9>F9, "melebihi batas", "")))) -> melebihi batas
A10: April | B10: 3491 | C10: 35496 | D10: =B10/C10 -> 0.09834911 | E10: 0.02 | F10: 0.03 | G10: =IF(ISBLANK(D10), 0,IF(D10<=E10, 100, IF(D10>=F10, IF(D10=F10, 80, 0), 100 - ((D10-E10)/(F10-E10) * 20)))) -> 0 | H10: =IF(ISBLANK(D10), "isi data dulu", IF(D10<=E10, "sesuai target", IF(AND(D10>E10,D10<=F10), "di dalam target", IF(D10>F10, "melebihi batas", "")))) -> melebihi batas
A11: Mei | B11: 4196 | C11: 39420 | D11: =B11/C11 -> 0.10644343 | E11: 0.02 | F11: 0.03 | G11: =IF(ISBLANK(D11), 0,IF(D11<=E11, 100, IF(D11>=F11, IF(D11=F11, 80, 0), 100 - ((D11-E11)/(F11-E11) * 20)))) -> 0 | H11: =IF(ISBLANK(D11), "isi data dulu", IF(D11<=E11, "sesuai target", IF(AND(D11>E11,D11<=F11), "di dalam target", IF(D11>F11, "melebihi batas", "")))) -> melebihi batas
A12: Juni | B12: 3031 | C12: 34104 | D12: =B12/C12 -> 0.088875205 | E12: 0.02 | F12: 0.03 | G12: =IF(ISBLANK(D12), 0,IF(D12<=E12, 100, IF(D12>=F12, IF(D12=F12, 80, 0), 100 - ((D12-E12)/(F12-E12) * 20)))) -> 0 | H12: =IF(ISBLANK(D12), "isi data dulu", IF(D12<=E12, "sesuai target", IF(AND(D12>E12,D12<=F12), "di dalam target", IF(D12>F12, "melebihi batas", "")))) -> melebihi batas
A13: Juli | B13: 7663 | C13: 63900 | D13: =B13/C13 -> 0.11992175 | E13: 0.02 | F13: 0.03 | G13: =IF(ISBLANK(D13), 0,IF(D13<=E13, 100, IF(D13>=F13, IF(D13=F13, 80, 0), 100 - ((D13-E13)/(F13-E13) * 20)))) -> 0 | H13: =IF(ISBLANK(D13), "isi data dulu", IF(D13<=E13, "sesuai target", IF(AND(D13>E13,D13<=F13), "di dalam target", IF(D13>F13, "melebihi batas", "")))) -> melebihi batas
A14: Agustus | B14: 3101 | C14: 36720 | D14: =B14/C14 -> 0.084449891 | E14: 0.02 | F14: 0.03 | G14: =IF(ISBLANK(D14), 0,IF(D14<=E14, 100, IF(D14>=F14, IF(D14=F14, 80, 0), 100 - ((D14-E14)/(F14-E14) * 20)))) -> 0 | H14: =IF(ISBLANK(D14), "isi data dulu", IF(D14<=E14, "sesuai target", IF(AND(D14>E14,D14<=F14), "di dalam target", IF(D14>F14, "melebihi batas", "")))) -> melebihi batas
A15: September | B15: 7567 | C15: 42804 | D15: =B15/C15 -> 0.17678254 | E15: 0.02 | F15: 0.03 | G15: =IF(ISBLANK(D15), 0,IF(D15<=E15, 100, IF(D15>=F15, IF(D15=F15, 80, 0), 100 - ((D15-E15)/(F15-E15) * 20)))) -> 0 | H15: =IF(ISBLANK(D15), "isi data dulu", IF(D15<=E15, "sesuai target", IF(AND(D15>E15,D15<=F15), "di dalam target", IF(D15>F15, "melebihi batas", "")))) -> melebihi batas
A16: Oktober | E16: 0.02 | F16: 0.03 | G16: =IF(ISBLANK(D16), 0,IF(D16<=E16, 100, IF(D16>=F16, IF(D16=F16, 80, 0), 100 - ((D16-E16)/(F16-E16) * 20)))) -> 0 | H16: =IF(ISBLANK(D16), "isi data dulu", IF(D16<=E16, "sesuai target", IF(AND(D16>E16,D16<=F16), "di dalam target", IF(D16>F16, "melebihi batas", "")))) -> isi data dulu
A17: November | E17: 0.02 | F17: 0.03 | G17: =IF(ISBLANK(D17), 0,IF(D17<=E17, 100, IF(D17>=F17, IF(D17=F17, 80, 0), 100 - ((D17-E17)/(F17-E17) * 20)))) -> 0 | H17: =IF(ISBLANK(D17), "isi data dulu", IF(D17<=E17, "sesuai target", IF(AND(D17>E17,D17<=F17), "di dalam target", IF(D17>F17, "melebihi batas", "")))) -> isi data dulu
A18: Desember | E18: 0.02 | F18: 0.03 | G18: =IF(ISBLANK(D18), 0,IF(D18<=E18, 100, IF(D18>=F18, IF(D18=F18, 80, 0), 100 - ((D18-E18)/(F18-E18) * 20)))) -> 0 | H18: =IF(ISBLANK(D18), "isi data dulu", IF(D18<=E18, "sesuai target", IF(AND(D18>E18,D18<=F18), "di dalam target", IF(D18>F18, "melebihi batas", "")))) -> isi data dulu
A19: Total | B19: =SUM(B7:B18) -> 35837 | C19: =SUM(C7:C18) -> 291414 | D19: =Table4_5[[#This Row],[Total downtime]]/Table4_5[[#This Row],[Total Operasional]] -> 0.12297625 | E19: 0.02 | F19: 0.03 | G19: =IF(ISBLANK(D19), 0,IF(D19<=E19, 100, IF(D19>=F19, IF(D19=F19, 80, 0), 100 - ((D19-E19)/(F19-E19) * 20)))) -> 0 | H19: =IF(ISBLANK(D19), "isi data dulu", IF(D19<=E19, "sesuai target", IF(AND(D19>E19,D19<=F19), "di dalam target", IF(D19>F19, "melebihi batas", "")))) -> melebihi batas

Sheet L1a
A1: Nama KPI | B1: % | C1: Retensi karyawan
A2: Periode | B2: Bulanan
A3: Polarisasi | B3: Minimal | C3: 4-6 bulan sejak karyawan join
A6: Periode | B6: Realisasi | C6: Target (100%) | D6: Treshold Min | E6: Skor | F6: Status
A7: Januari | B7: 0 | C7: 0.03 | D7: 0.05 | E7: =IF(ISBLANK(B7), 0,IF(B7<D7, 0, IF(B7=D7, 80, IF(B7=C7, 100, IF(B7<C7, 80 + (B7-D7)/(C7-D7)*(100-80), 100 + (B7-C7)/(C7-D7)*(100-80)))))) -> 0 | F7: isi data dulu
A8: Februari | B8: 0 | C8: 0.03 | D8: 0.05 | E8: =IF(ISBLANK(B8), 0,IF(B8<D8, 0, IF(B8=D8, 80, IF(B8=C8, 100, IF(B8<C8, 80 + (B8-D8)/(C8-D8)*(100-80), 100 + (B8-C8)/(C8-D8)*(100-80)))))) -> 0 | F8: isi data dulu
A9: Maret | B9: 0 | C9: 0.03 | D9: 0.05 | E9: =IF(ISBLANK(B9), 0,IF(B9<D9, 0, IF(B9=D9, 80, IF(B9=C9, 100, IF(B9<C9, 80 + (B9-D9)/(C9-D9)*(100-80), 100 + (B9-C9)/(C9-D9)*(100-80)))))) -> 0 | F9: isi data dulu
A10: April | B10: 0 | C10: 0.03 | D10: 0.05 | E10: =IF(ISBLANK(B10), 0,IF(B10<D10, 0, IF(B10=D10, 80, IF(B10=C10, 100, IF(B10<C10, 80 + (B10-D10)/(C10-D10)*(100-80), 100 + (B10-C10)/(C10-D10)*(100-80)))))) -> 0 | F10: isi data dulu
A11: Mei | B11: 0 | C11: 0.03 | D11: 0.05 | E11: =IF(ISBLANK(B11), 0,IF(B11<D11, 0, IF(B11=D11, 80, IF(B11=C11, 100, IF(B11<C11, 80 + (B11-D11)/(C11-D11)*(100-80), 100 + (B11-C11)/(C11-D11)*(100-80)))))) -> 0 | F11: isi data dulu
A12: Juni | B12: 0 | C12: 0.03 | D12: 0.05 | E12: =IF(ISBLANK(B12), 0,IF(B12<D12, 0, IF(B12=D12, 80, IF(B12=C12, 100, IF(B12<C12, 80 + (B12-D12)/(C12-D12)*(100-80), 100 + (B12-C12)/(C12-D12)*(100-80)))))) -> 0 | F12: isi data dulu
A13: Juli | B13: 0 | C13: 0.03 | D13: 0.05 | E13: =IF(ISBLANK(B13), 0,IF(B13<D13, 0, IF(B13=D13, 80, IF(B13=C13, 100, IF(B13<C13, 80 + (B13-D13)/(C13-D13)*(100-80), 100 + (B13-C13)/(C13-D13)*(100-80)))))) -> 0 | F13: =IF(ISBLANK(B13), "isi data dulu",IF(B13 < D13, "Dibawah target", IF(B13 <= C13, "Di dalam target", "Melebihi target"))) -> Dibawah target
A14: Agustus | B14: 0 | C14: 0.03 | D14: 0.05 | E14: =IF(ISBLANK(B14), 0,IF(B14<D14, 0, IF(B14=D14, 80, IF(B14=C14, 100, IF(B14<C14, 80 + (B14-D14)/(C14-D14)*(100-80), 100 + (B14-C14)/(C14-D14)*(100-80)))))) -> 0 | F14: =IF(ISBLANK(B14), "isi data dulu",IF(B14 < D14, "Dibawah target", IF(B14 <= C14, "Di dalam target", "Melebihi target"))) -> Dibawah target
A15: September | B15: 0 | C15: 0.03 | D15: 0.05 | E15: =IF(ISBLANK(B15), 0,IF(B15<D15, 0, IF(B15=D15, 80, IF(B15=C15, 100, IF(B15<C15, 80 + (B15-D15)/(C15-D15)*(100-80), 100 + (B15-C15)/(C15-D15)*(100-80)))))) -> 0 | F15: =IF(ISBLANK(B15), "isi data dulu",IF(B15 < D15, "Dibawah target", IF(B15 <= C15, "Di dalam target", "Melebihi target"))) -> Dibawah target
A16: Oktober | C16: 0.03 | D16: 0.05 | E16: =IF(ISBLANK(B16), 0,IF(B16<D16, 0, IF(B16=D16, 80, IF(B16=C16, 100, IF(B16<C16, 80 + (B16-D16)/(C16-D16)*(100-80), 100 + (B16-C16)/(C16-D16)*(100-80)))))) -> 0 | F16: =IF(ISBLANK(B16), "isi data dulu",IF(B16 < D16, "Dibawah target", IF(B16 <= C16, "Di dalam target", "Melebihi target"))) -> isi data dulu
A17: November | C17: 0.03 | D17: 0.05 | E17: =IF(ISBLANK(B17), 0,IF(B17<D17, 0, IF(B17=D17, 80, IF(B17=C17, 100, IF(B17<C17, 80 + (B17-D17)/(C17-D17)*(100-80), 100 + (B17-C17)/(C17-D17)*(100-80)))))) -> 0 | F17: =IF(ISBLANK(B17), "isi data dulu",IF(B17 < D17, "Dibawah target", IF(B17 <= C17, "Di dalam target", "Melebihi target"))) -> isi data dulu
A18: Desember | C18: 0.03 | D18: 0.05 | E18: =IF(ISBLANK(B18), 0,IF(B18<D18, 0, IF(B18=D18, 80, IF(B18=C18, 100, IF(B18<C18, 80 + (B18-D18)/(C18-D18)*(100-80), 100 + (B18-C18)/(C18-D18)*(100-80)))))) -> 0 | F18: =IF(ISBLANK(B18), "isi data dulu",IF(B18 < D18, "Dibawah target", IF(B18 <= C18, "Di dalam target", "Melebihi target"))) -> isi data dulu
A19: Total | B19: =SUM(B7:B18) -> 0 | C19: =AVERAGE(C7:C18) -> 0.03 | D19: =AVERAGE(D7:D18) -> 0.05 | E19: =IF(B19<=C19, 100, IF(B19>=D19, IF(B19=D19, 80, 0), 100 - ((B19-C19)/(D19-C19) * 20))) -> 100 | F19: =IF(B19<=C19, "sesuai target", IF(AND(B19>C19, B19<=D19), "di dalam target", IF(B19>D19, "melebihi batas", ""))) -> sesuai target

Sheet L2a
B1: % | C1: Candidate Readiness | E1: total karyawan ready/ total karyawan
A2: Periode | B2: Quarter (3bln)
A3: Polarisasi | B3: Maksimal
