Workbook

Sheet KPI
B1: KEY PERFORMANCE INDICATOR
B2: Jabatan : Finance & Accounting Manager
B4: Tanggal | D4: 45708 | K4: Departemen/Jabatan | M4: Finance & Accounting / Finance Accounting Manager
B5: Nama/Jabatan | D5: Martha A Murniati /Finance & Accounting Manager | K5: Nama Atasan/Jabatan | M5: Finance Director
B6: Tanggal Bergabung | D6: 44490 | K6: Periode Kinerja
B8: NO | D8: Perspektif & Sasaran Strategis KPI | F8: Formula | G8: Periode | H8: Verifikasi | I8: Sumber Data | J8: Realisasi Tahun | K8: Target 2025 | M8: Polarisasi | N8: UoM | O8: Realisasi (YTD) | P8: Target (YTD) | Q8: Skor | R8: Bobot | S8: Total (Skor * Bobot)
C9: #, %, IDR | E9: Sumber KPI | J9: 2024 | K9: Target 100% | L9: Treshold Min | O9: 2025 | P9: 2025 | R9: (%)
B10: FINANCIAL PERSPECTIVE
B11: F1 | C11: Meningkatkan Valuasi Bisnis
B12: F1a | C12: # | D12: Debt to Equity Ratio | E12: Job Desc | F12: Total Debt / Total Equity (satuan kali) | G12: Tahunan | H12: Finance Director | I12: Laporan Keuangan | K12: 0.45 | L12: 0.5 | M12: Minimal | O12: =F1a!B13 -> 0.64616726 | P12: 3.15 | Q12: =F1a!E19 -> 0 | R12: 0.1 | S12: =R12*Q12 -> 0
B13: F1b | C13: # | D13: Cash Ratio | E13: Job Desc | F13: Total Cash & Cash Equivalent/ Current Liabillites | G13: Tahunan | H13: Finance Director | I13: Laporan Keuangan | K13: 0.5 | L13: 0.3 | M13: Maksimal | O13: =Table3_3[[#This Row],[Realisasi]] -> 0.14890128 | P13: =F1b!C19 -> 4.5 | Q13: =F1b!E19 -> 0 | R13: 0.1 | S13: =R13*Q13 -> 0
B14: F2 | C14: Cost Control
B15: F2a | C15: % | D15: % Opex Group | E15: Job Desc | F15: Total biaya Operasional / Gross Revenue | G15: Tahunan | H15: Finance Director | I15: Laporan Keuangan | K15: 0.35 | L15: 0.4 | M15: Minimal | O15: 0.5731 | P15: =F2a!E19 -> 0.35 | Q15: =F2a!G19 -> 0 | R15: 0.1 | S15: =R15*Q15 -> 0
B16: F2b | C16: % | D16: Aset tetap yang tidak sesuai | E16: HAM | F16: % jumlah aset yg tidak sesuai | G16: Semester | H16: GA | I16: Laporan Ketidaksesuaian aset | M16: Minimal | O16: =F2b!B9 -> 0 | P16: =F2b!C9 -> 0.03 | Q16: =F2b!E9 -> 100 | R16: 0.05 | S16: =R16*Q16 -> 5
B17: CUSTOMER PERSPECTIVE
B18: C1 | C18: Menciptakan Satisfied Customer Experience
B19: C1a | C19: % | D19: Overdue Vendor Payment | E19: Job Desc | F19: Tanggal Jatuh Tempo - Tanggal Realisasi Pembayaran | G19: Bulanan | I19: Realisasi pembayaran | K19: 3 | L19: 5 | M19: Minimal | N19: hari | O19: 21 | P19: 15 | Q19: 0 | R19: 0.05 | S19: =R19*Q19 -> 0
B20: C2 | C20: Mengembangkan Kerjasama Bisnis
B21: C2a | C21: # | D21: Project Macro yang deal | E21: VAM | F21: Jumlah Project Macro yang Deal | G21: Tahunan | K21: 3 | L21: 2 | M21: Maksimal | N21: MoU | O21: =C2a!C19 -> 0 | P21: =C2a!D19 -> 3 | Q21: 0 | R21: 0.05 | S21: =R21*Q21 -> 0
B22: INTERNAL BUSINESS PROCESS PERSPECTIVE
B23: B1 | C23: Meningkatkan kualitas
B24: B1a | C24: # | D24: Kesalahan Pencatatan Accounting | E24: Problem | F24: Jumlah kesalahan dalam 1 bulan | G24: Bulanan | H24: Finance Director | M24: Minimal | P24: =SUM(B1a!C7:C8) -> 0 | Q24: =B1a!E19 -> 100 | R24: 0.05 | S24: =R24*Q24 -> 5
B25: B1b | C25: # | D25: Kecelakaan Kerja | E25: HAM | F25: Jumlah Kecelakaan Kerja | G25: Bulanan | H25: HSE | I25: Data Laporan kecelakaan Kerja | M25: Minimal | O25: =B1b!B19 -> 0 | P25: =SUM(B1b!C7:C8) -> 0 | Q25: =B1b!E19 -> 100 | R25: 0.05 | S25: =R25*Q25 -> 5
B26: B1c | C26: # | D26: Temuan Audit Internal Kritis | E26: HAM | F26: Jumlah Temuan Mayor Audit Internal | G26: Tahunan | H26: Audit Internal Manager | K26: 0 | L26: 1 | M26: Minimal | O26: =B1c!B11 -> 4 | P26: =B1c!C11 -> 0 | Q26: =B1c!E11 -> 80 | R26: 0.1 | S26: =R26*Q26 -> 8
B27: B1d | C27: # | D27: Temuan Audit Eksternal | E27: HAM | F27: Jumlah Temuan Audit Eksternal | G27: Project/ Event | H27: Audit Internal Manager | J27: 4 | K27: 0 | L27: 1 | M27: Minimal | O27: =B1d!B11 -> 0 | P27: =B1d!C11 -> 0 | Q27: =B1d!E11 -> 100 | R27: 0.1 | S27: =R27*Q27 -> 10
B28: B2 | C28: Inovasi
B29: B2a | C29: % | D29: AR overdue (Customer CK) | E29: Job Desc | F29: AR sudah jatuh tempo > 30 hari dibagi total AR yang harus proses | G29: Bulanan | H29: Finance Director | I29: Laporan AR Days | K29: =B2a!C9 -> 0.05 | L29: =B2a!D9 -> 0.1 | M29: Minimal | N29: 0.0171 | O29: =B2a!B19 -> 0.051393877 | P29: =B2a!C19 -> 0.05 | Q29: =B2a!E19 -> 99.442449 | R29: 0.1 | S29: =R29*Q29 -> 9.9442449
B30: B3 | C30: System Development
B31: B3a
B32: LEARNING & GROWTH PERSPECTIVE
B33: L1 | C33: Talent Management
B34: L1a | C34: % | D34: Tingkat Retensi New Hire 4-6 bulan | E34: HAM | F34: Jumlah karyawan yg resign pada periode masa kerja bulan ke4 - ke 6 dibandingkan dengan total karyawan baru per tahun | G34: Semester | K34: =L1a!C9 -> 6 | L34: =L1a!D9 -> 8 | M34: Minimal | O34: =L1a!B9 -> 1 | P34: =L1a!C9 -> 6 | Q34: =L1a!E9 -> 100 | R34: 0.05 | S34: =R34*Q34 -> 5
B35: L1b | C35: % | D35: Tingkat Readiness | E35: VAM | F35: jumlah talent / total karyawan | G35: Quarter (3bln) | K35: =L1b!C11 -> 3 | L35: =L1b!D11 -> 1 | M35: Maksimal | O35: =L1b!B11 -> 1 | P35: =L1b!C9 -> 3 | Q35: =L1b!E11 -> 80 | R35: 0.05 | S35: =R35*Q35 -> 4
B36: L2 | C36: People Development
B37: L2a | C37: # | D37: Rata Rata Jam Learning Karyawan | E37: HAM | G37: Bulanan | K37: 3 jam | L37: 2 jam | M37: Maksimal | O37: 4.7 | P37: 3 | Q37: =L2a!E19 -> 70.355556 | R37: 0.05 | S37: =R37*Q37 -> 3.5177778
R38: =SUM(R12:R37) -> 1 | S38: =SUM(S12:S37)/R38 -> 55.462023
D40: Saya telah mengerti dan berkomitmen selama setahun untuk mencapai tujuan kinerja di atas.
D41: Tanda tangan & Nama | H41: Diketahui, | N41: Disetujui,
D47: Martha A Murniati | H47: Jang Bambang Sudarno | N47: MR. Y
D48: Jabatan: Finance & Accounting Manager | H48: Jabatan: Direktur | N48: Jabatan: General Manager
...

Sheet Achievement
B2: Kode BSC | C2: Indikator | D2: Achive/Not Achieve | E2: Keterangan
B3: F1a | C3: Debt to Equity Ratio | D3: Not Achieve | E3: =F1a!F19 -> melebihi batas
B4: F1b | C4: Cash Ratio | D4: Not Achieve | E4: =F1b!F19 -> Dibawah target
B5: F2a | C5: Opex Group | D5: Not Achieve | E5: =F2a!H19 -> melebihi batas
B6: F2b | C6: Fisik Aset tidak sesuai | D6: Achieve | E6: =F2b!F9 -> sesuai target | F6: belum ada info dari GA
B7: C1a | C7: Overdue Vendor Payment | D7: Not Achieve | E7: =C1a!F19 -> melebihi batas
B8: C2a | C8: Project Macro Ideal | D8: Not Achieve | E8: =C2a!G19 -> Dibawah target
B9: B1a | C9: Kesalahan Pencatatan Accounting | D9: Achieve | E9: =B1a!F19 -> sesuai target
B10: B1b | C10: Kecelakaan Kerja | D10: Achieve | E10: =B1b!F19 -> sesuai target
B11: B1c | C11: Temuan Audit Kritis | D11: Achieve | E11: =Table4_8[[#This Row],[Status]] -> di dalam target
B12: B1d | C12: Temuan Audit Eksternal | D12: Achieve | E12: =B1d!F11 -> sesuai target | F12: tidak ada audit external
B13: B2a | C13: AR Overdue | D13: Achieve | E13: =B2a!F19 -> di dalam target
B14: L1a | C14: Tingkat Retensi New Hire | D14: Achieve | E14: =L1a!F8 -> sesuai target
B15: L1b | C15: Tingkat Readiness | D15: Achieve | E15: =L1b!F11 -> Di dalam target
B16: L2a | C16: Rata-rata Jam Learning Karyawan | D16: Achieve | E16: =L2a!F19 -> Di dalam target

Sheet F1a
A1: Nama KPI | B1: # | C1: Debt to Equity Ratio
A2: Periode | B2: Tahunan
A3: Polarisasi | B3: Minimal
A6: Periode | B6: Realisasi | C6: Target (100%) | D6: Treshold Min | E6: Skor | F6: Status | G6: Column 1 | H6: Total Hutang | I6: Total Equity
A7: Januari | B7: =H7/I7 -> 0.68853962 | C7: =KPI!K12 -> 0.45 | D7: =KPI!L12 -> 0.5 | E7: =IF(ISBLANK(B7), 0,IF(B7<=C7, 100, IF(B7>=D7, IF(B7=D7, 80, 0), 100 - ((B7-C7)/(D7-C7) * 20)))) -> 0 | F7: =IF(ISBLANK(B7), "isi data dulu", IF(B7<=C7, "sesuai target", IF(AND(B7>C7,B7<=D7), "di dalam target", IF(B7>D7, "melebihi batas", "")))) -> melebihi batas | H7: 33925265423 | I7: 49271333473
A8: Februari | B8: =H8/I8 -> 0.76377433 | C8: =C7 -> 0.45 | D8: =D7 -> 0.5 | E8: =IF(ISBLANK(B8), 0,IF(B8<=C8, 100, IF(B8>=D8, IF(B8=D8, 80, 0), 100 - ((B8-C8)/(D8-C8) * 20)))) -> 0 | F8: =IF(ISBLANK(B8), "isi data dulu", IF(B8<=C8, "sesuai target", IF(AND(B8>C8,B8<=D8), "di dalam target", IF(B8>D8, "melebihi batas", "")))) -> melebihi batas | H8: 36558640452 | I8: 47865762074
A9: Maret | B9: =H9/I9 -> 0.75533255 | C9: =C8 -> 0.45 | D9: =D8 -> 0.5 | E9: =IF(ISBLANK(B9), 0,IF(B9<=C9, 100, IF(B9>=D9, IF(B9=D9, 80, 0), 100 - ((B9-C9)/(D9-C9) * 20)))) -> 0 | F9: =IF(ISBLANK(B9), "isi data dulu", IF(B9<=C9, "sesuai target", IF(AND(B9>C9,B9<=D9), "di dalam target", IF(B9>D9, "melebihi batas", "")))) -> melebihi batas | H9: 36586021982 | I9: 48436972623
A10: April | B10: =H10/I10 -> 0.69238452 | C10: =C9 -> 0.45 | D10: =D9 -> 0.5 | E10: =IF(ISBLANK(B10), 0,IF(B10<=C10, 100, IF(B10>=D10, IF(B10=D10, 80, 0), 100 - ((B10-C10)/(D10-C10) * 20)))) -> 0 | F10: =IF(ISBLANK(B10), "isi data dulu", IF(B10<=C10, "sesuai target", IF(AND(B10>C10,B10<=D10), "di dalam target", IF(B10>D10, "melebihi batas", "")))) -> melebihi batas | H10: 33616247917 | I10: 48551414927
A11: Mei | B11: =H11/I11 -> 0.691773 | C11: =C10 -> 0.45 | D11: =D10 -> 0.5 | E11: =IF(ISBLANK(B11), 0,IF(B11<=C11, 100, IF(B11>=D11, IF(B11=D11, 80, 0), 100 - ((B11-C11)/(D11-C11) * 20)))) -> 0 | F11: =IF(ISBLANK(B11), "isi data dulu", IF(B11<=C11, "sesuai target", IF(AND(B11>C11,B11<=D11), "di dalam target", IF(B11>D11, "melebihi batas", "")))) -> melebihi batas | H11: 33590278744 | I11: 48556793321
A12: Juni | B12: =H12/I12 -> 0.66192305 | C12: =C11 -> 0.45 | D12: =D11 -> 0.5 | E12: =IF(ISBLANK(B12), 0,IF(B12<=C12, 100, IF(B12>=D12, IF(B12=D12, 80, 0), 100 - ((B12-C12)/(D12-C12) * 20)))) -> 0 | F12: =IF(ISBLANK(B12), "isi data dulu", IF(B12<=C12, "sesuai target", IF(AND(B12>C12,B12<=D12), "di dalam target", IF(B12>D12, "melebihi batas", "")))) -> melebihi batas | H12: 32423195612 | I12: 48983330665
A13: Juli | B13: =H13/I13 -> 0.64616726 | C13: =C12 -> 0.45 | D13: =D12 -> 0.5 | E13: =IF(ISBLANK(B13), 0,IF(B13<=C13, 100, IF(B13>=D13, IF(B13=D13, 80, 0), 100 - ((B13-C13)/(D13-C13) * 20)))) -> 0 | F13: =IF(ISBLANK(B13), "isi data dulu", IF(B13<=C13, "sesuai target", IF(AND(B13>C13,B13<=D13), "di dalam target", IF(B13>D13, "melebihi batas", "")))) -> melebihi batas | H13: 31635845032 | I13: 48959219838
A14: Agustus | B14: =H14/I14 -> 0.6413871 | C14: =C13 -> 0.45 | D14: =D13 -> 0.5 | E14: =IF(ISBLANK(B14), 0,IF(B14<=C14, 100, IF(B14>=D14, IF(B14=D14, 80, 0), 100 - ((B14-C14)/(D14-C14) * 20)))) -> 0 | F14: =IF(ISBLANK(B14), "isi data dulu", IF(B14<=C14, "sesuai target", IF(AND(B14>C14,B14<=D14), "di dalam target", IF(B14>D14, "melebihi batas", "")))) -> melebihi batas | H14: 3.1491916e+10 | I14: 4.9099703e+10
A15: September | B15: =H15/I15 -> 0.62478669 | C15: =C14 -> 0.45 | D15: =D14 -> 0.5 | E15: =IF(ISBLANK(B15), 0,IF(B15<=C15, 100, IF(B15>=D15, IF(B15=D15, 80, 0), 100 - ((B15-C15)/(D15-C15) * 20)))) -> 0 | F15: =IF(ISBLANK(B15), "isi data dulu", IF(B15<=C15, "sesuai target", IF(AND(B15>C15,B15<=D15), "di dalam target", IF(B15>D15, "melebihi batas", "")))) -> melebihi batas | H15: 3.0617297e+10 | I15: 4.90044e+10
A16: Oktober | C16: =C15 -> 0.45 | D16: =D15 -> 0.5 | E16: =IF(ISBLANK(B16), 0,IF(B16<=C16, 100, IF(B16>=D16, IF(B16=D16, 80, 0), 100 - ((B16-C16)/(D16-C16) * 20)))) -> 0 | F16: =IF(ISBLANK(B16), "isi data dulu", IF(B16<=C16, "sesuai target", IF(AND(B16>C16,B16<=D16), "di dalam target", IF(B16>D16, "melebihi batas", "")))) -> isi data dulu
A17: November | C17: =C16 -> 0.45 | D17: =D16 -> 0.5 | E17: =IF(ISBLANK(B17), 0,IF(B17<=C17, 100, IF(B17>=D17, IF(B17=D17, 80, 0), 100 - ((B17-C17)/(D17-C17) * 20)))) -> 0 | F17: =IF(ISBLANK(B17), "isi data dulu", IF(B17<=C17, "sesuai target", IF(AND(B17>C17,B17<=D17), "di dalam target", IF(B17>D17, "melebihi batas", "")))) -> isi data dulu
A18: Desember | C18: =C17 -> 0.45 | D18: =D17 -> 0.5 | E18: =IF(ISBLANK(B18), 0,IF(B18<=C18, 100, IF(B18>=D18, IF(B18=D18, 80, 0), 100 - ((B18-C18)/(D18-C18) * 20)))) -> 0 | F18: =IF(ISBLANK(B18), "isi data dulu", IF(B18<=C18, "sesuai target", IF(AND(B18>C18,B18<=D18), "di dalam target", IF(B18>D18, "melebihi batas", "")))) -> isi data dulu
A19: Total | B19: =AVERAGE(B7:B18) -> 0.68511868 | C19: =AVERAGE(C7:C18) -> 0.45 | D19: =AVERAGE(D7:D18) -> 0.5 | E19: =IF(B19<=C19, 100, IF(B19>=D19, IF(B19=D19, 80, 0), 100 - ((B19-C19)/(D19-C19) * 20))) -> 0 | F19: =IF(B19<=C19, "sesuai target", IF(AND(B19>C19, B19<=D19), "di dalam target", IF(B19>D19, "melebihi batas", ""))) -> melebihi batas

Sheet F1b
A1: Nama KPI | B1: # | C1: Cash Ratio
A2: Periode | B2: Tahunan
A3: Polarisasi | B3: Maksimal
A6: Periode | B6: Realisasi | C6: Target (100%) | D6: Treshold Min | E6: Skor | F6: Status | G6: Column 1 | H6: Total Cash | I6: Total Current Liabilities
A7: Januari | B7: =H7/I7 -> 0.071810982 | C7: =KPI!K13 -> 0.5 | D7: =KPI!L13 -> 0.3 | E7: =IF(ISBLANK(B7), 0,IF(B7<D7, 0, IF(B7=D7, 80, IF(B7=C7, 100, IF(B7<C7, 80 + (B7-D7)/(C7-D7)*(100-80), 100 + (B7-C7)/(C7-D7)*(100-80)))))) -> 0 | F7: =IF(ISBLANK(B7), "isi data dulu",IF(B7 < D7, "Dibawah target", IF(B7 <= C7, "Di dalam target", "Melebihi target"))) -> Dibawah target | H7: 1508367833 | I7: 21004695804
A8: Februari | B8: =H8/I8 -> 0.0364033 | C8: =C7 -> 0.5 | D8: =D7 -> 0.3 | E8: =IF(ISBLANK(B8), 0,IF(B8<D8, 0, IF(B8=D8, 80, IF(B8=C8, 100, IF(B8<C8, 80 + (B8-D8)/(C8-D8)*(100-80), 100 + (B8-C8)/(C8-D8)*(100-80)))))) -> 0 | F8: =IF(ISBLANK(B8), "isi data dulu",IF(B8 < D8, "Dibawah target", IF(B8 <= C8, "Di dalam target", "Melebihi target"))) -> Dibawah target | H8: 871139754 | I8: 23930241126
A9: Maret | B9: =H9/I9 -> 0.053704651 | C9: =C8 -> 0.5 | D9: =D8 -> 0.3 | E9: =IF(ISBLANK(B9), 0,IF(B9<D9, 0, IF(B9=D9, 80, IF(B9=C9, 100, IF(B9<C9, 80 + (B9-D9)/(C9-D9)*(100-80), 100 + (B9-C9)/(C9-D9)*(100-80)))))) -> 0 | F9: =IF(ISBLANK(B9), "isi data dulu",IF(B9 < D9, "Dibawah target", IF(B9 <= C9, "Di dalam target", "Melebihi target"))) -> Dibawah target | H9: 1302350912 | I9: 24250244544
A10: April | B10: =H10/I10 -> 0.11506352 | C10: =C9 -> 0.5 | D10: =D9 -> 0.3 | E10: =IF(ISBLANK(B10), 0,IF(B10<D10, 0, IF(B10=D10, 80, IF(B10=C10, 100, IF(B10<C10, 80 + (B10-D10)/(C10-D10)*(100-80), 100 + (B10-C10)/(C10-D10)*(100-80)))))) -> 0 | F10: =IF(ISBLANK(B10), "isi data dulu",IF(B10 < D10, "Dibawah target", IF(B10 <= C10, "Di dalam target", "Melebihi target"))) -> Dibawah target | H10: 2482333730 | I10: 21573594543
A11: Mei | B11: =H11/I11 -> 0.13262413 | C11: =C10 -> 0.5 | D11: =D10 -> 0.3 | E11: =IF(ISBLANK(B11), 0,IF(B11<D11, 0, IF(B11=D11, 80, IF(B11=C11, 100, IF(B11<C11, 80 + (B11-D11)/(C11-D11)*(100-80), 100 + (B11-C11)/(C11-D11)*(100-80)))))) -> 0 | F11: =IF(ISBLANK(B11), "isi data dulu",IF(B11 < D11, "Dibawah target", IF(B11 <= C11, "Di dalam target", "Melebihi target"))) -> Dibawah target | H11: 2871340868 | I11: 21650215261
A12: Juni | B12: =H12/I12 -> 0.16030806 | C12: =C11 -> 0.5 | D12: =D11 -> 0.3 | E12: =IF(ISBLANK(B12), 0,IF(B12<D12, 0, IF(B12=D12, 80, IF(B12=C12, 100, IF(B12<C12, 80 + (B12-D12)/(C12-D12)*(100-80), 100 + (B12-C12)/(C12-D12)*(100-80)))))) -> 0 | F12: =IF(ISBLANK(B12), "isi data dulu",IF(B12 < D12, "Dibawah target", IF(B12 <= C12, "Di dalam target", "Melebihi target"))) -> Dibawah target | H12: 3361388713 | I12: 20968307064
A13: Juli | B13: =H13/I13 -> 0.14890128 | C13: =C12 -> 0.5 | D13: =D12 -> 0.3 | E13: =IF(ISBLANK(B13), 0,IF(B13<D13, 0, IF(B13=D13, 80, IF(B13=C13, 100, IF(B13<C13, 80 + (B13-D13)/(C13-D13)*(100-80), 100 + (B13-C13)/(C13-D13)*(100-80)))))) -> 0 | F13: =IF(ISBLANK(B13), "isi data dulu",IF(B13 < D13, "Dibawah target", IF(B13 <= C13, "Di dalam target", "Melebihi target"))) -> Dibawah target | H13: 3047654719 | I13: 20467619409
A14: Agustus | B14: =H14/I14 -> 0.14105848 | C14: =C13 -> 0.5 | D14: =D13 -> 0.3 | E14: =IF(ISBLANK(B14), 0,IF(B14<D14, 0, IF(B14=D14, 80, IF(B14=C14, 100, IF(B14<C14, 80 + (B14-D14)/(C14-D14)*(100-80), 100 + (B14-C14)/(C14-D14)*(100-80)))))) -> 0 | F14: =IF(ISBLANK(B14), "isi data dulu",IF(B14 < D14, "Dibawah target", IF(B14 <= C14, "Di dalam target", "Melebihi target"))) -> Dibawah target | H14: 2.9095896e+09 | I14: 2.0626832e+10
A15: September | B15: =H15/I15 -> 0.11399999 | C15: =C14 -> 0.5 | D15: =D14 -> 0.3 | E15: =IF(ISBLANK(B15), 0,IF(B15<D15, 0, IF(B15=D15, 80, IF(B15=C15, 100, IF(B15<C15, 80 + (B15-D15)/(C15-D15)*(100-80), 100 + (B15-C15)/(C15-D15)*(100-80)))))) -> 0 | F15: =IF(ISBLANK(B15), "isi data dulu",IF(B15 < D15, "Dibawah target", IF(B15 <= C15, "Di dalam target", "Melebihi target"))) -> Dibawah target | H15: 2.2854588e+09 | I15: 2.0047886e+10
A16: Oktober | E16: =IF(ISBLANK(B16), 0,IF(B16<D16, 0, IF(B16=D16, 80, IF(B16=C16, 100, IF(B16<C16, 80 + (B16-D16)/(C16-D16)*(100-80), 100 + (B16-C16)/(C16-D16)*(100-80)))))) -> 0 | F16: =IF(ISBLANK(B16), "isi data dulu",IF(B16 < D16, "Dibawah target", IF(B16 <= C16, "Di dalam target", "Melebihi target"))) -> isi data dulu
A17: November | E17: =IF(ISBLANK(B17), 0,IF(B17<D17, 0, IF(B17=D17, 80, IF(B17=C17, 100, IF(B17<C17, 80 + (B17-D17)/(C17-D17)*(100-80), 100 + (B17-C17)/(C17-D17)*(100-80)))))) -> 0 | F17: =IF(ISBLANK(B17), "isi data dulu",IF(B17 < D17, "Dibawah target", IF(B17 <= C17, "Di dalam target", "Melebihi target"))) -> isi data dulu
A18: Desember | E18: =IF(ISBLANK(B18), 0,IF(B18<D18, 0, IF(B18=D18, 80, IF(B18=C18, 100, IF(B18<C18, 80 + (B18-D18)/(C18-D18)*(100-80), 100 + (B18-C18)/(C18-D18)*(100-80)))))) -> 0 | F18: =IF(ISBLANK(B18), "isi data dulu",IF(B18 < D18, "Dibawah target", IF(B18 <= C18, "Di dalam target", "Melebihi target"))) -> isi data dulu
A19: Total | B19: =SUM(B7:B18) -> 0.9738744 | C19: =SUM(C7:C18) -> 4.5 | D19: =SUM(D7:D18) -> 2.7 | E19: =IF(B19<D19,0,((B19/C19)*100)) -> 0 | F19: =IF(B19 < D19, "Dibawah target", IF(B19 <= C19, "Di dalam target", "Melebihi target")) -> Dibawah target

Sheet F2a
A1: Nama KPI | B1: % | C1: % Opex Group
A2: Periode | B2: Tahunan
A3: Polarisasi | B3: Minimal
A6: Periode | B6: Revenue | C6: Operational Expenses | D6: Realisasi | E6: Target (100%) | F6: Treshold Min | G6: Skor | H6: Status | I6: Column 1
A7: Januari | B7: 8205234677 | C7: 5099060264 | D7: =C7/B7 -> 0.62143991 | E7: =KPI!K15 -> 0.35 | F7: =KPI!L15 -> 0.4 | G7: =IF(ISBLANK(D7), 0,IF(D7<=E7, 100, IF(D7>=F7, IF(D7=F7, 80, 0), 100 - ((D7-E7)/(F7-E7) * 20)))) -> 0 | H7: =IF(ISBLANK(D7), "isi data dulu", IF(D7<=E7, "sesuai target", IF(AND(D7>E7,D7<=F7), "di dalam target", IF(D7>F7, "melebihi batas", "")))) -> melebihi batas
A8: Februari | B8: 7163925482 | C8: 5088104270 | D8: =C8/B8 -> 0.7102397 | E8: =E7 -> 0.35 | F8: =F7 -> 0.4 | G8: =IF(ISBLANK(D8), 0,IF(D8<=E8, 100, IF(D8>=F8, IF(D8=F8, 80, 0), 100 - ((D8-E8)/(F8-E8) * 20)))) -> 0 | H8: =IF(ISBLANK(D8), "isi data dulu", IF(D8<=E8, "sesuai target", IF(AND(D8>E8,D8<=F8), "di dalam target", IF(D8>F8, "melebihi batas", "")))) -> melebihi batas
A9: Maret | B9: 9581921472 | C9: 6612969855 | D9: =C9/B9 -> 0.6901507 | E9: =E8 -> 0.35 | F9: =F8 -> 0.4 | G9: =IF(ISBLANK(D9), 0,IF(D9<=E9, 100, IF(D9>=F9, IF(D9=F9, 80, 0), 100 - ((D9-E9)/(F9-E9) * 20)))) -> 0 | H9: =IF(ISBLANK(D9), "isi data dulu", IF(D9<=E9, "sesuai target", IF(AND(D9>E9,D9<=F9), "di dalam target", IF(D9>F9, "melebihi batas", "")))) -> melebihi batas
A10: April | B10: 10497285876 | C10: 5304527106 | D10: =C10/B10 -> 0.50532368 | E10: =E9 -> 0.35 | F10: =F9 -> 0.4 | G10: =IF(ISBLANK(D10), 0,IF(D10<=E10, 100, IF(D10>=F10, IF(D10=F10, 80, 0), 100 - ((D10-E10)/(F10-E10) * 20)))) -> 0 | H10: =IF(ISBLANK(D10), "isi data dulu", IF(D10<=E10, "sesuai target", IF(AND(D10>E10,D10<=F10), "di dalam target", IF(D10>F10, "melebihi batas", "")))) -> melebihi batas
A11: Mei | B11: 8690819165 | C11: 5245798354 | D11: =C11/B11 -> 0.60360229 | E11: =E10 -> 0.35 | F11: =F10 -> 0.4 | G11: =IF(ISBLANK(D11), 0,IF(D11<=E11, 100, IF(D11>=F11, IF(D11=F11, 80, 0), 100 - ((D11-E11)/(F11-E11) * 20)))) -> 0 | H11: =IF(ISBLANK(D11), "isi data dulu", IF(D11<=E11, "sesuai target", IF(AND(D11>E11,D11<=F11), "di dalam target", IF(D11>F11, "melebihi batas", "")))) -> melebihi batas
A12: Juni | B12: 9004146402 | C12: 5001822867 | D12: =C12/B12 -> 0.55550217 | E12: =E11 -> 0.35 | F12: =F11 -> 0.4 | G12: =IF(ISBLANK(D12), 0,IF(D12<=E12, 100, IF(D12>=F12, IF(D12=F12, 80, 0), 100 - ((D12-E12)/(F12-E12) * 20)))) -> 0 | H12: =IF(ISBLANK(D12), "isi data dulu", IF(D12<=E12, "sesuai target", IF(AND(D12>E12,D12<=F12), "di dalam target", IF(D12>F12, "melebihi batas", "")))) -> melebihi batas
A13: Juli | B13: 8761327592 | C13: 5002394940 | D13: =C13/B13 -> 0.57096312 | E13: =E12 -> 0.35 | F13: =F12 -> 0.4 | G13: =IF(ISBLANK(D13), 0,IF(D13<=E13, 100, IF(D13>=F13, IF(D13=F13, 80, 0), 100 - ((D13-E13)/(F13-E13) * 20)))) -> 0 | H13: =IF(ISBLANK(D13), "isi data dulu", IF(D13<=E13, "sesuai target", IF(AND(D13>E13,D13<=F13), "di dalam target", IF(D13>F13, "melebihi batas", "")))) -> melebihi batas
A14: Agustus | B14: 8.4402919e+09 | C14: 5.2718806e+09 | D14: =C14/B14 -> 0.62460881 | E14: =E13 -> 0.35 | F14: =F13 -> 0.4 | G14: =IF(ISBLANK(D14), 0,IF(D14<=E14, 100, IF(D14>=F14, IF(D14=F14, 80, 0), 100 - ((D14-E14)/(F14-E14) * 20)))) -> 0 | H14: =IF(ISBLANK(D14), "isi data dulu", IF(D14<=E14, "sesuai target", IF(AND(D14>E14,D14<=F14), "di dalam target", IF(D14>F14, "melebihi batas", "")))) -> melebihi batas
A15: September | B15: 7.7495068e+09 | C15: 5.0205581e+09 | D15: =C15/B15 -> 0.64785518 | E15: =E14 -> 0.35 | F15: =F14 -> 0.4 | G15: =IF(ISBLANK(D15), 0,IF(D15<=E15, 100, IF(D15>=F15, IF(D15=F15, 80, 0), 100 - ((D15-E15)/(F15-E15) * 20)))) -> 0 | H15: =IF(ISBLANK(D15), "isi data dulu", IF(D15<=E15, "sesuai target", IF(AND(D15>E15,D15<=F15), "di dalam target", IF(D15>F15, "melebihi batas", "")))) -> melebihi batas
A16: Oktober | E16: =E15 -> 0.35 | F16: =F15 -> 0.4 | G16: =IF(ISBLANK(D16), 0,IF(D16<=E16, 100, IF(D16>=F16, IF(D16=F16, 80, 0), 100 - ((D16-E16)/(F16-E16) * 20)))) -> 0 | H16: =IF(ISBLANK(D16), "isi data dulu", IF(D16<=E16, "sesuai target", IF(AND(D16>E16,D16<=F16), "di dalam target", IF(D16>F16, "melebihi batas", "")))) -> isi data dulu
A17: November | E17: =E16 -> 0.35 | F17: =F16 -> 0.4 | G17: =IF(ISBLANK(D17), 0,IF(D17<=E17, 100, IF(D17>=F17, IF(D17=F17, 80, 0), 100 - ((D17-E17)/(F17-E17) * 20)))) -> 0 | H17: =IF(ISBLANK(D17), "isi data dulu", IF(D17<=E17, "sesuai target", IF(AND(D17>E17,D17<=F17), "di dalam target", IF(D17>F17, "melebihi batas", "")))) -> isi data dulu
A18: Desember | E18: =E17 -> 0.35 | F18: =F17 -> 0.4 | G18: =IF(ISBLANK(D18), 0,IF(D18<=E18, 100, IF(D18>=F18, IF(D18=F18, 80, 0), 100 - ((D18-E18)/(F18-E18) * 20)))) -> 0 | H18: =IF(ISBLANK(D18), "isi data dulu", IF(D18<=E18, "sesuai target", IF(AND(D18>E18,D18<=F18), "di dalam target", IF(D18>F18, "melebihi batas", "")))) -> isi data dulu
A19: Total | B19: =SUM(B7:B18) -> 7.8094459e+10 | C19: =SUM(C7:C18) -> 4.7647116e+10 | D19: =C19/B19 -> 0.6101216 | E19: =E18 -> 0.35 | F19: =F18 -> 0.4 | G19: =IF(D19<=E19, 100, IF(D19>=F19, IF(D19=F19, 80, 0), 100 - ((D19-E19)/(F19-E19) * 20))) -> 0 | H19: =IF(D19<=E19, "sesuai target", IF(AND(D19>E19, D19<=F19), "di dalam target", IF(D19>F19, "melebihi batas", ""))) -> melebihi batas

Sheet F2b
A1: Nama KPI | B1: % | C1: Fisik Aset yang tidak sesuai
A2: Periode | B2: Semester
A3: Polarisasi | B3: Minimal
A6: Periode | B6: Realisasi | C6: Target (100%) | D6: Treshold Min | E6: Skor | F6: Status
A7: Semester 1 | B7: 0 | C7: =KPI!K16 -> 0 | D7: =KPI!L16 -> 0 | E7: =IF(ISBLANK(B7), 0,IF(B7<=C7, 100, IF(B7>=D7, IF(B7=D7, 80, 0), 100 - ((B7-C7)/(D7-C7) * 20)))) -> 100 | F7: =IF(ISBLANK(B7), "isi data dulu", IF(B7<=C7, "sesuai target", IF(AND(B7>C7,B7<=D7), "di dalam target", IF(B7>D7, "melebihi batas", "")))) -> sesuai target
A8: Semester 2 | E8: =IF(ISBLANK(B8), 0,IF(B8<=C8, 100, IF(B8>=D8, IF(B8=D8, 80, 0), 100 - ((B8-C8)/(D8-C8) * 20)))) -> 0 | F8: =IF(ISBLANK(B8), "isi data dulu", IF(B8<=C8, "sesuai target", IF(AND(B8>C8,B8<=D8), "di dalam target", IF(B8>D8, "melebihi batas", "")))) -> isi data dulu
A9: Total | B9: =SUM(B7:B8) -> 0 | C9: 0.03 | D9: 0.05 | E9: =IF(B9<=C9, 100, IF(B9>=D9, IF(B9=D9, 80, 0), 100 - ((B9-C9)/(D9-C9) * 20))) -> 100 | F9: =IF(B9<=C9, "sesuai target", IF(AND(B9>C9, B9<=D9), "di dalam target", IF(B9>D9, "melebihi batas", ""))) -> sesuai target

Sheet C1a
A1: Nama KPI | B1: # | C1: =KPI!D19 -> Overdue Vendor Payment
A2: Periode | B2: Bulanan
A3: Polarisasi | B3: Minimal
A6: Periode | B6: Realisasi | C6: Target (100%) | D6: Treshold Min | E6: Skor | F6: Status
A7: Januari | B7: 8 | C7: 3 | D7: 5 | E7: =IF(ISBLANK(B7), 0,IF(B7<=C7, 100, IF(B7>=D7, IF(B7=D7, 80, 0), 100 - ((B7-C7)/(D7-C7) * 20)))) -> 0 | F7: =IF(ISBLANK(B7), "isi data dulu", IF(B7<=C7, "sesuai target", IF(AND(B7>C7,B7<=D7), "di dalam target", IF(B7>D7, "melebihi batas", "")))) -> melebihi batas
A8: Februari | B8: 5 | C8: 3 | D8: 5 | E8: =IF(ISBLANK(B8), 0,IF(B8<=C8, 100, IF(B8>=D8, IF(B8=D8, 80, 0), 100 - ((B8-C8)/(D8-C8) * 20)))) -> 80 | F8: =IF(ISBLANK(B8), "isi data dulu", IF(B8<=C8, "sesuai target", IF(AND(B8>C8,B8<=D8), "di dalam target", IF(B8>D8, "melebihi batas", "")))) -> di dalam target
A9: Maret | B9: 4 | C9: 3 | D9: 5 | E9: =IF(ISBLANK(B9), 0,IF(B9<=C9, 100, IF(B9>=D9, IF(B9=D9, 80, 0), 100 - ((B9-C9)/(D9-C9) * 20)))) -> 90 | F9: =IF(ISBLANK(B9), "isi data dulu", IF(B9<=C9, "sesuai target", IF(AND(B9>C9,B9<=D9), "di dalam target", IF(B9>D9, "melebihi batas", "")))) -> di dalam target
A10: April | B10: 11 | C10: 3 | D10: 5 | E10: =IF(ISBLANK(B10), 0,IF(B10<=C10, 100, IF(B10>=D10, IF(B10=D10, 80, 0), 100 - ((B10-C10)/(D10-C10) * 20)))) -> 0 | F10: =IF(ISBLANK(B10), "isi data dulu", IF(B10<=C10, "sesuai target", IF(AND(B10>C10,B10<=D10), "di dalam target", IF(B10>D10, "melebihi batas", "")))) -> melebihi batas
A11: Mei | B11: 28 | C11: 3 | D11: 5 | E11: =IF(ISBLANK(B11), 0,IF(B11<=C11, 100, IF(B11>=D11, IF(B11=D11, 80, 0), 100 - ((B11-C11)/(D11-C11) * 20)))) -> 0 | F11: =IF(ISBLANK(B11), "isi data dulu", IF(B11<=C11, "sesuai target", IF(AND(B11>C11,B11<=D11), "di dalam target", IF(B11>D11, "melebihi batas", "")))) -> melebihi batas
A12: Juni | B12: 8 | C12: 3 | D12: 5 | E12: =IF(ISBLANK(B12), 0,IF(B12<=C12, 100, IF(B12>=D12, IF(B12=D12, 80, 0), 100 - ((B12-C12)/(D12-C12) * 20)))) -> 0 | F12: =IF(ISBLANK(B12), "isi data dulu", IF(B12<=C12, "sesuai target", IF(AND(B12>C12,B12<=D12), "di dalam target", IF(B12>D12, "melebihi batas", "")))) -> melebihi batas
A13: Juli | B13: 12 | C13: 3 | D13: 5 | E13: =IF(ISBLANK(B13), 0,IF(B13<=C13, 100, IF(B13>=D13, IF(B13=D13, 80, 0), 100 - ((B13-C13)/(D13-C13) * 20)))) -> 0 | F13: =IF(ISBLANK(B13), "isi data dulu", IF(B13<=C13, "sesuai target", IF(AND(B13>C13,B13<=D13), "di dalam target", IF(B13>D13, "melebihi batas", "")))) -> melebihi batas
A14: Agustus | B14: 21 | C14: 3 | D14: 5 | E14: =IF(ISBLANK(B14), 0,IF(B14<=C14, 100, IF(B14>=D14, IF(B14=D14, 80, 0), 100 - ((B14-C14)/(D14-C14) * 20)))) -> 0 | F14: =IF(ISBLANK(B14), "isi data dulu", IF(B14<=C14, "sesuai target", IF(AND(B14>C14,B14<=D14), "di dalam target", IF(B14>D14, "melebihi batas", "")))) -> melebihi batas
A15: September | B15: 2 | C15: 3 | D15: 5 | E15: =IF(ISBLANK(B15), 0,IF(B15<=C15, 100, IF(B15>=D15, IF(B15=D15, 80, 0), 100 - ((B15-C15)/(D15-C15) * 20)))) -> 100 | F15: =IF(ISBLANK(B15), "isi data dulu", IF(B15<=C15, "sesuai target", IF(AND(B15>C15,B15<=D15), "di dalam target", IF(B15>D15, "melebihi batas", "")))) -> sesuai target
A16: Oktober | E16: =IF(ISBLANK(B16), 0,IF(B16<=C16, 100, IF(B16>=D16, IF(B16=D16, 80, 0), 100 - ((B16-C16)/(D16-C16) * 20)))) -> 0 | F16: =IF(ISBLANK(B16), "isi data dulu", IF(B16<=C16, "sesuai target", IF(AND(B16>C16,B16<=D16), "di dalam target", IF(B16>D16, "melebihi batas", "")))) -> isi data dulu
A17: November | E17: =IF(ISBLANK(B17), 0,IF(B17<=C17, 100, IF(B17>=D17, IF(B17=D17, 80, 0), 100 - ((B17-C17)/(D17-C17) * 20)))) -> 0 | F17: =IF(ISBLANK(B17), "isi data dulu", IF(B17<=C17, "sesuai target", IF(AND(B17>C17,B17<=D17), "di dalam target", IF(B17>D17, "melebihi batas", "")))) -> isi data dulu
A18: Desember | E18: =IF(ISBLANK(B18), 0,IF(B18<=C18, 100, IF(B18>=D18, IF(B18=D18, 80, 0), 100 - ((B18-C18)/(D18-C18) * 20)))) -> 0 | F18: =IF(ISBLANK(B18), "isi data dulu", IF(B18<=C18, "sesuai target", IF(AND(B18>C18,B18<=D18), "di dalam target", IF(B18>D18, "melebihi batas", "")))) -> isi data dulu
A19: Total | B19: =SUM(B7:B14) -> 97 | C19: =SUM(C7:C14) -> 24 | D19: =SUM(D7:D14) -> 40 | E19: =IF(B19<=C19, 100, IF(B19>=D19, IF(B19=D19, 80, 0), 100 - ((B19-C19)/(D19-C19) * 20))) -> 0 | F19: =IF(B19<=C19, "sesuai target", IF(AND(B19>C19, B19<=D19), "di dalam target", IF(B19>D19, "melebihi batas", ""))) -> melebihi batas
B23: 45658 | C23: 45689 | D23: 45717 | E23: 45748 | F23: 45778 | G23: 45809 | H23: 45839 | I23: 45870
A24: Max | B24: 111 | C24: 21 | D24: 24 | E24: 160 | F24: 413 | G24: 441 | H24: 64 | I24: 101 | J24: day
A25: Avg | B25: 7.8762887 | C25: 5.2093023 | D25: 4.4418605 | E25: 11.178295 | F25: 27.558621 | G25: 7.8768657 | H25: 11.768421 | I25: 21.234899 | J25: day
A27: Penyebab Keterlambatan Payment
B29: 45658 | D29: 45689 | F29: 45717 | H29: 45748 | J29: 45778 | L29: 45809 | N29: 45839 | P29: 45870
A30: Berkas tidak lengkap | B30: 22 | C30: 0.22680412 | D30: 6 | E30: 0.13953488 | F30: 27 | G30: 0.14594595 | H30: 26 | I30: 0.20155039 | J30: 65 | K30: 0.44827586 | L30: 23 | M30: 0.085820896 | N30: 22 | O30: 0.23157895 | P30: 31 | Q30: 0.20805369
A31: Invoice terlambat datang | B31: 55 | C31: 0.56701031 | D31: 18 | E31: 0.41860465 | F31: 53 | G31: 0.28648649 | H31: 67 | I31: 0.51937984 | J31: 52 | K31: 0.35862069 | L31: 84 | M31: 0.31343284 | N31: 68 | O31: 0.71578947 | P31: 118 | Q31: 0.79194631
A32: Kwitansi gabungan dengan PO baru | B32: 0 | C32: 0 | D32: 0 | E32: 0 | F32: 0 | G32: 0 | H32: 0 | I32: 0 | J32: 0 | K32: 0 | L32: 0 | M32: 0 | N32: 0 | O32: 0 | P32: 0 | Q32: 0
A33: Berkas bermasalah | B33: 0 | C33: 0 | D33: 0 | E33: 0 | F33: 0 | G33: 0 | H33: 0 | I33: 0 | J33: 0 | K33: 0 | L33: 0 | M33: 0 | N33: 0 | O33: 0 | P33: 0 | Q33: 0
A34: Approval terlambat | B34: 0 | C34: 0 | D34: 11 | E34: 0.25581395 | F34: 0 | G34: 0 | H34: 10 | I34: 0.07751938 | J34: 0 | K34: 0 | L34: 6 | M34: 0.02238806 | N34: 5 | O34: 0.052631579 | P34: 0 | Q34: 0
A35: Kasir terlewat | B35: 3 | C35: 0.030927835 | D35: 0 | E35: 0 | F35: 6 | G35: 0.032432432 | H35: 1 | I35: 0.007751938 | J35: 0 | K35: 0 | L35: 0 | M35: 0 | N35: 0 | O35: 0 | P35: 0 | Q35: 0
A36: Dana tdk mencukupi | B36: 17 | C36: 0.17525773 | D36: 7 | E36: 0.1627907 | F36: 99 | G36: 0.53513514 | H36: 25 | I36: 0.19379845 | J36: 28 | K36: 0.19310345 | L36: 155 | M36: 0.57835821 | N36: 0 | O36: 0 | P36: 0 | Q36: 0
A37: Salah Transfer | B37: 0 | C37: 0 | D37: 1 | E37: 0.023255814 | F37: 0 | G37: 0 | H37: 0 | I37: 0 | J37: 0 | K37: 0 | L37: 0 | M37: 0 | N37: 0 | O37: 0 | P37: 0 | Q37: 0
B38: 97 | C38: 1 | D38: 43 | E38: 1 | F38: 185 | G38: 1 | H38: 129 | I38: 1 | J38: 145 | K38: 1 | L38: 268 | M38: 1 | N38: 95 | O38: 1 | P38: 149 | Q38: 1
A40: avg hari
B41: 45658 | D41: 45689 | F41: 45717 | H41: 45748 | J41: 45778 | L41: 45809 | N41: 45839 | P41: 45870
B42: Avg Hari | C42: # invoice | D42: Avg Hari | E42: # invoice | F42: Avg Hari | G42: # invoice | H42: Avg Hari | I42: # invoice | J42: Avg Hari | K42: # invoice | L42: Avg Hari | M42: # invoice | N42: Avg Hari | O42: # invoice | P42: Avg Hari | Q42: # invoice
A43: Berkas tidak lengkap | B43: 7.5 | C43: 22 | D43: 12.666667 | E43: 6 | F43: 6.1851852 | G43: 27 | H43: 18.769231 | I43: 26 | J43: 52.461538 | K43: 65 | L43: 19.826087 | M43: 23 | N43: 29.136364 | O43: 22 | P43: 47.322581 | Q43: 31
A44: Invoice terlambat datang | B44: 9.4181818 | C44: 55 | D44: 6.7777778 | E44: 17 | F44: 7.0377358 | G44: 53 | H44: 13.179104 | I44: 67 | J44: 10.326923 | K44: 52 | L44: 17.547619 | M44: 84 | N44: 6.8088235 | O44: 68 | P44: 14.381356 | Q44: 118
A45: Kwitansi gabungan dengan PO baru | B45: 0 | C45: 0 | D45: 0 | E45: 0 | F45: 0 | G45: 0 | H45: 0 | I45: 0 | J45: 0 | K45: 0 | L45: 0 | M45: 0 | N45: 0 | O45: 0 | P45: 0 | Q45: 0
A46: Berkas bermasalah | B46: 0 | C46: 0 | D46: 0 | E46: 0 | F46: 0 | G46: 0 | H46: 0 | I46: 0 | J46: 0 | K46: 0 | L46: 0 | M46: 0 | N46: 0 | O46: 0 | P46: 0 | Q46: 0
A47: Dana tdk mencukupi | B47: 4.1764706 | C47: 17 | D47: 1.5714286 | E47: 6 | F47: 1.0606061 | G47: 99 | H47: 1.68 | I47: 25 | J47: 1.75 | K47: 28 | L47: 1.1290323 | M47: 155 | N47: 0 | O47: 0 | P47: 0 | Q47: 0
A48: Approval terlambat | B48: 0 | C48: 0 | D48: 1.1818182 | E48: 11 | F48: 0 | G48: 0 | H48: 1 | I48: 10 | J48: 0 | K48: 0 | L48: 1 | M48: 6 | N48: 2.8 | O48: 5 | P48: 0 | Q48: 0
...

Sheet C2a
A1: Nama KPI | B1: # | C1: =KPI!D21 -> Project Macro yang deal
A2: Periode | B2: Tahunan
A3: Polarisasi | B3: Maksimal
A6: Periode | B6: Achievement | C6: Realisasi | D6: Target (100%) | E6: Treshold Min | F6: Skor | G6: Status
A7: Januari | B7: 0 | C7: 0 | D7: 3 | E7: 2 | F7: =IF(ISBLANK(C7), 0,IF(C7<E7, 0, IF(C7=E7, 80, IF(C7=D7, 100, IF(C7<D7, 80 + (C7-E7)/(D7-E7)*(100-80), 100 + (C7-D7)/(D7-E7)*(100-80)))))) -> 0 | G7: =IF(ISBLANK(B7), "isi data dulu",IF(B7 < D7, "Dibawah target", IF(B7 <= C7, "Di dalam target", "Melebihi target"))) -> Dibawah target
A8: Februari | B8: 0 | C8: 0 | D8: 3 | E8: 2 | F8: =IF(ISBLANK(C8), 0,IF(C8<E8, 0, IF(C8=E8, 80, IF(C8=D8, 100, IF(C8<D8, 80 + (C8-E8)/(D8-E8)*(100-80), 100 + (C8-D8)/(D8-E8)*(100-80)))))) -> 0 | G8: =IF(ISBLANK(C8), "isi data dulu",IF(C8 < E8, "Dibawah target", IF(C8 <= D8, "Di dalam target", "Melebihi target"))) -> Dibawah target
A9: Maret | B9: 0 | C9: 0 | D9: 3 | E9: 2 | F9: =IF(ISBLANK(C9), 0,IF(C9<E9, 0, IF(C9=E9, 80, IF(C9=D9, 100, IF(C9<D9, 80 + (C9-E9)/(D9-E9)*(100-80), 100 + (C9-D9)/(D9-E9)*(100-80)))))) -> 0 | G9: =IF(ISBLANK(C9), "isi data dulu",IF(C9 < E9, "Dibawah target", IF(C9 <= D9, "Di dalam target", "Melebihi target"))) -> Dibawah target
A10: April | B10: 0 | C10: 0 | D10: 3 | E10: 2 | F10: =IF(ISBLANK(C10), 0,IF(C10<E10, 0, IF(C10=E10, 80, IF(C10=D10, 100, IF(C10<D10, 80 + (C10-E10)/(D10-E10)*(100-80), 100 + (C10-D10)/(D10-E10)*(100-80)))))) -> 0 | G10: =IF(ISBLANK(C10), "isi data dulu",IF(C10 < E10, "Dibawah target", IF(C10 <= D10, "Di dalam target", "Melebihi target"))) -> Dibawah target
A11: Mei | B11: 0 | C11: 0 | D11: 3 | E11: 2 | F11: =IF(ISBLANK(C11), 0,IF(C11<E11, 0, IF(C11=E11, 80, IF(C11=D11, 100, IF(C11<D11, 80 + (C11-E11)/(D11-E11)*(100-80), 100 + (C11-D11)/(D11-E11)*(100-80)))))) -> 0 | G11: =IF(ISBLANK(C11), "isi data dulu",IF(C11 < E11, "Dibawah target", IF(C11 <= D11, "Di dalam target", "Melebihi target"))) -> Dibawah target
A12: Juni | B12: 0 | C12: 0 | D12: 3 | E12: 2 | F12: =IF(ISBLANK(C12), 0,IF(C12<E12, 0, IF(C12=E12, 80, IF(C12=D12, 100, IF(C12<D12, 80 + (C12-E12)/(D12-E12)*(100-80), 100 + (C12-D12)/(D12-E12)*(100-80)))))) -> 0 | G12: =IF(ISBLANK(C12), "isi data dulu",IF(C12 < E12, "Dibawah target", IF(C12 <= D12, "Di dalam target", "Melebihi target"))) -> Dibawah target
A13: Juli | B13: 0 | C13: 0 | D13: 3 | E13: 2 | F13: =IF(ISBLANK(C13), 0,IF(C13<E13, 0, IF(C13=E13, 80, IF(C13=D13, 100, IF(C13<D13, 80 + (C13-E13)/(D13-E13)*(100-80), 100 + (C13-D13)/(D13-E13)*(100-80)))))) -> 0 | G13: =IF(ISBLANK(C13), "isi data dulu",IF(C13 < E13, "Dibawah target", IF(C13 <= D13, "Di dalam target", "Melebihi target"))) -> Dibawah target
A14: Agustus | B14: 0 | C14: 0 | D14: 3 | E14: 2 | F14: =IF(ISBLANK(C14), 0,IF(C14<E14, 0, IF(C14=E14, 80, IF(C14=D14, 100, IF(C14<D14, 80 + (C14-E14)/(D14-E14)*(100-80), 100 + (C14-D14)/(D14-E14)*(100-80)))))) -> 0 | G14: =IF(ISBLANK(C14), "isi data dulu",IF(C14 < E14, "Dibawah target", IF(C14 <= D14, "Di dalam target", "Melebihi target"))) -> Dibawah target
A15: September | B15: 0 | C15: 0 | D15: 3 | E15: 2 | F15: =IF(ISBLANK(C15), 0,IF(C15<E15, 0, IF(C15=E15, 80, IF(C15=D15, 100, IF(C15<D15, 80 + (C15-E15)/(D15-E15)*(100-80), 100 + (C15-D15)/(D15-E15)*(100-80)))))) -> 0 | G15: =IF(ISBLANK(C15), "isi data dulu",IF(C15 < E15, "Dibawah target", IF(C15 <= D15, "Di dalam target", "Melebihi target"))) -> Dibawah target
A16: Oktober | F16: =IF(ISBLANK(C16), 0,IF(C16<E16, 0, IF(C16=E16, 80, IF(C16=D16, 100, IF(C16<D16, 80 + (C16-E16)/(D16-E16)*(100-80), 100 + (C16-D16)/(D16-E16)*(100-80)))))) -> 0 | G16: =IF(ISBLANK(C16), "isi data dulu",IF(C16 < E16, "Dibawah target", IF(C16 <= D16, "Di dalam target", "Melebihi target"))) -> isi data dulu
A17: November | F17: =IF(ISBLANK(C17), 0,IF(C17<E17, 0, IF(C17=E17, 80, IF(C17=D17, 100, IF(C17<D17, 80 + (C17-E17)/(D17-E17)*(100-80), 100 + (C17-D17)/(D17-E17)*(100-80)))))) -> 0 | G17: =IF(ISBLANK(C17), "isi data dulu",IF(C17 < E17, "Dibawah target", IF(C17 <= D17, "Di dalam target", "Melebihi target"))) -> isi data dulu
A18: Desember | F18: =IF(ISBLANK(C18), 0,IF(C18<E18, 0, IF(C18=E18, 80, IF(C18=D18, 100, IF(C18<D18, 80 + (C18-E18)/(D18-E18)*(100-80), 100 + (C18-D18)/(D18-E18)*(100-80)))))) -> 0 | G18: =IF(ISBLANK(C18), "isi data dulu",IF(C18 < E18, "Dibawah target", IF(C18 <= D18, "Di dalam target", "Melebihi target"))) -> isi data dulu
A19: Total | B19: =SUM(B7:B18) -> 0 | C19: =SUM(C7:C18) -> 0 | D19: 3 | E19: 2 | F19: =IF(ISBLANK(C19), 0,IF(C19<E19, 0, IF(C19=E19, 80, IF(C19=D19, 100, IF(C19<D19, 80 + (C19-E19)/(D19-E19)*(100-80), 100 + (C19-D19)/(D19-E19)*(100-80)))))) -> 0 | G19: =IF(ISBLANK(B7), "isi data dulu",IF(B7 < D7, "Dibawah target", IF(B7 <= C7, "Di dalam target", "Melebihi target"))) -> Dibawah target

Sheet B1a
A1: Nama KPI | B1: # | C1: =KPI!D24 -> Kesalahan Pencatatan Accounting
A2: Periode | B2: Bulanan
A3: Polarisasi | B3: Minimal
A6: Periode | B6: Realisasi | C6: Target (100%) | D6: Treshold Min | E6: Skor | F6: Status
A7: Januari | E7: =IF(ISBLANK(B7), 0,IF(B7<=C7, 100, IF(B7>=D7, IF(B7=D7, 80, 0), 100 - ((B7-C7)/(D7-C7) * 20)))) -> 0 | F7: =IF(ISBLANK(B7), "isi data dulu", IF(B7<=C7, "sesuai target", IF(AND(B7>C7,B7<=D7), "di dalam target", IF(B7>D7, "melebihi batas", "")))) -> isi data dulu
A8: Februari | E8: =IF(ISBLANK(B8), 0,IF(B8<=C8, 100, IF(B8>=D8, IF(B8=D8, 80, 0), 100 - ((B8-C8)/(D8-C8) * 20)))) -> 0 | F8: =IF(ISBLANK(B8), "isi data dulu", IF(B8<=C8, "sesuai target", IF(AND(B8>C8,B8<=D8), "di dalam target", IF(B8>D8, "melebihi batas", "")))) -> isi data dulu
A9: Maret | B9: 1 | C9: 5 | D9: 7 | E9: =IF(ISBLANK(B9), 0,IF(B9<=C9, 100, IF(B9>=D9, IF(B9=D9, 80, 0), 100 - ((B9-C9)/(D9-C9) * 20)))) -> 100 | F9: =IF(ISBLANK(B9), "isi data dulu", IF(B9<=C9, "sesuai target", IF(AND(B9>C9,B9<=D9), "di dalam target", IF(B9>D9, "melebihi batas", "")))) -> sesuai target
A10: April | B10: 6 | C10: 5 | D10: 7 | E10: =IF(ISBLANK(B10), 0,IF(B10<=C10, 100, IF(B10>=D10, IF(B10=D10, 80, 0), 100 - ((B10-C10)/(D10-C10) * 20)))) -> 90 | F10: =IF(ISBLANK(B10), "isi data dulu", IF(B10<=C10, "sesuai target", IF(AND(B10>C10,B10<=D10), "di dalam target", IF(B10>D10, "melebihi batas", "")))) -> di dalam target
A11: Mei | B11: 2 | C11: 5 | D11: 7 | E11: =IF(ISBLANK(B11), 0,IF(B11<=C11, 100, IF(B11>=D11, IF(B11=D11, 80, 0), 100 - ((B11-C11)/(D11-C11) * 20)))) -> 100 | F11: =IF(ISBLANK(B11), "isi data dulu", IF(B11<=C11, "sesuai target", IF(AND(B11>C11,B11<=D11), "di dalam target", IF(B11>D11, "melebihi batas", "")))) -> sesuai target
A12: Juni | B12: 0 | C12: 5 | D12: 7 | E12: =IF(ISBLANK(B12), 0,IF(B12<=C12, 100, IF(B12>=D12, IF(B12=D12, 80, 0), 100 - ((B12-C12)/(D12-C12) * 20)))) -> 100 | F12: =IF(ISBLANK(B12), "isi data dulu", IF(B12<=C12, "sesuai target", IF(AND(B12>C12,B12<=D12), "di dalam target", IF(B12>D12, "melebihi batas", "")))) -> sesuai target
A13: Juli | B13: 3 | C13: 5 | D13: 7 | E13: =IF(ISBLANK(B13), 0,IF(B13<=C13, 100, IF(B13>=D13, IF(B13=D13, 80, 0), 100 - ((B13-C13)/(D13-C13) * 20)))) -> 100 | F13: =IF(ISBLANK(B13), "isi data dulu", IF(B13<=C13, "sesuai target", IF(AND(B13>C13,B13<=D13), "di dalam target", IF(B13>D13, "melebihi batas", "")))) -> sesuai target
A14: Agustus | B14: 2 | C14: 5 | D14: 7 | E14: =IF(ISBLANK(B14), 0,IF(B14<=C14, 100, IF(B14>=D14, IF(B14=D14, 80, 0), 100 - ((B14-C14)/(D14-C14) * 20)))) -> 100 | F14: =IF(ISBLANK(B14), "isi data dulu", IF(B14<=C14, "sesuai target", IF(AND(B14>C14,B14<=D14), "di dalam target", IF(B14>D14, "melebihi batas", "")))) -> sesuai target
A15: September | B15: 1 | C15: 5 | D15: 7 | E15: =IF(ISBLANK(B15), 0,IF(B15<=C15, 100, IF(B15>=D15, IF(B15=D15, 80, 0), 100 - ((B15-C15)/(D15-C15) * 20)))) -> 100 | F15: =IF(ISBLANK(B15), "isi data dulu", IF(B15<=C15, "sesuai target", IF(AND(B15>C15,B15<=D15), "di dalam target", IF(B15>D15, "melebihi batas", "")))) -> sesuai target
A16: Oktober | E16: =IF(ISBLANK(B16), 0,IF(B16<=C16, 100, IF(B16>=D16, IF(B16=D16, 80, 0), 100 - ((B16-C16)/(D16-C16) * 20)))) -> 0 | F16: =IF(ISBLANK(B16), "isi data dulu", IF(B16<=C16, "sesuai target", IF(AND(B16>C16,B16<=D16), "di dalam target", IF(B16>D16, "melebihi batas", "")))) -> isi data dulu
A17: November | E17: =IF(ISBLANK(B17), 0,IF(B17<=C17, 100, IF(B17>=D17, IF(B17=D17, 80, 0), 100 - ((B17-C17)/(D17-C17) * 20)))) -> 0 | F17: =IF(ISBLANK(B17), "isi data dulu", IF(B17<=C17, "sesuai target", IF(AND(B17>C17,B17<=D17), "di dalam target", IF(B17>D17, "melebihi batas", "")))) -> isi data dulu
A18: Desember | E18: =IF(ISBLANK(B18), 0,IF(B18<=C18, 100, IF(B18>=D18, IF(B18=D18, 80, 0), 100 - ((B18-C18)/(D18-C18) * 20)))) -> 0 | F18: =IF(ISBLANK(B18), "isi data dulu", IF(B18<=C18, "sesuai target", IF(AND(B18>C18,B18<=D18), "di dalam target", IF(B18>D18, "melebihi batas", "")))) -> isi data dulu
A19: Total | B19: =SUM(B7:B18) -> 15 | C19: =SUM(C7:C18) -> 35 | D19: =SUM(D7:D18) -> 49 | E19: =IF(B19<=C19, 100, IF(B19>=D19, IF(B19=D19, 80, 0), 100 - ((B19-C19)/(D19-C19) * 20))) -> 100 | F19: =IF(B19<=C19, "sesuai target", IF(AND(B19>C19, B19<=D19), "di dalam target", IF(B19>D19, "melebihi batas", ""))) -> sesuai target

Sheet B1b
A1: Nama KPI | B1: # | C1: =KPI!D25 -> Kecelakaan Kerja
A2: Periode | B2: Bulanan
A3: Polarisasi | B3: Minimal
A6: Periode | B6: Realisasi | C6: Target (100%) | D6: Treshold Min | E6: Skor | F6: Status
A7: Januari | B7: 0 | C7: =KPI!K25 -> 0 | D7: =KPI!L25 -> 0 | E7: =IF(ISBLANK(B7), 0,IF(B7<=C7, 100, IF(B7>=D7, IF(B7=D7, 80, 0), 100 - ((B7-C7)/(D7-C7) * 20)))) -> 100 | F7: =IF(ISBLANK(B7), "isi data dulu", IF(B7<=C7, "sesuai target", IF(AND(B7>C7,B7<=D7), "di dalam target", IF(B7>D7, "melebihi batas", "")))) -> sesuai target
A8: Februari | B8: 0 | C8: =C7 -> 0 | D8: =D7 -> 0 | E8: =IF(ISBLANK(B8), 0,IF(B8<=C8, 100, IF(B8>=D8, IF(B8=D8, 80, 0), 100 - ((B8-C8)/(D8-C8) * 20)))) -> 100 | F8: =IF(ISBLANK(B8), "isi data dulu", IF(B8<=C8, "sesuai target", IF(AND(B8>C8,B8<=D8), "di dalam target", IF(B8>D8, "melebihi batas", "")))) -> sesuai target
A9: Maret | B9: 0 | C9: =C8 -> 0 | D9: =D8 -> 0 | E9: =IF(ISBLANK(B9), 0,IF(B9<=C9, 100, IF(B9>=D9, IF(B9=D9, 80, 0), 100 - ((B9-C9)/(D9-C9) * 20)))) -> 100 | F9: =IF(ISBLANK(B9), "isi data dulu", IF(B9<=C9, "sesuai target", IF(AND(B9>C9,B9<=D9), "di dalam target", IF(B9>D9, "melebihi batas", "")))) -> sesuai target
A10: April | B10: 0 | C10: 0 | D10: 1 | E10: =IF(ISBLANK(B10), 0,IF(B10<=C10, 100, IF(B10>=D10, IF(B10=D10, 80, 0), 100 - ((B10-C10)/(D10-C10) * 20)))) -> 100 | F10: =IF(ISBLANK(B10), "isi data dulu", IF(B10<=C10, "sesuai target", IF(AND(B10>C10,B10<=D10), "di dalam target", IF(B10>D10, "melebihi batas", "")))) -> sesuai target
A11: Mei | B11: 0 | C11: 0 | D11: 1 | E11: =IF(ISBLANK(B11), 0,IF(B11<=C11, 100, IF(B11>=D11, IF(B11=D11, 80, 0), 100 - ((B11-C11)/(D11-C11) * 20)))) -> 100 | F11: =IF(ISBLANK(B11), "isi data dulu", IF(B11<=C11, "sesuai target", IF(AND(B11>C11,B11<=D11), "di dalam target", IF(B11>D11, "melebihi batas", "")))) -> sesuai target
A12: Juni | B12: 0 | C12: 0 | D12: 1 | E12: =IF(ISBLANK(B12), 0,IF(B12<=C12, 100, IF(B12>=D12, IF(B12=D12, 80, 0), 100 - ((B12-C12)/(D12-C12) * 20)))) -> 100 | F12: =IF(ISBLANK(B12), "isi data dulu", IF(B12<=C12, "sesuai target", IF(AND(B12>C12,B12<=D12), "di dalam target", IF(B12>D12, "melebihi batas", "")))) -> sesuai target
A13: Juli | B13: 0 | C13: 0 | D13: 1 | E13: =IF(ISBLANK(B13), 0,IF(B13<=C13, 100, IF(B13>=D13, IF(B13=D13, 80, 0), 100 - ((B13-C13)/(D13-C13) * 20)))) -> 100 | F13: =IF(ISBLANK(B13), "isi data dulu", IF(B13<=C13, "sesuai target", IF(AND(B13>C13,B13<=D13), "di dalam target", IF(B13>D13, "melebihi batas", "")))) -> sesuai target
A14: Agustus | B14: 0 | C14: 0 | D14: 1 | E14: =IF(ISBLANK(B14), 0,IF(B14<=C14, 100, IF(B14>=D14, IF(B14=D14, 80, 0), 100 - ((B14-C14)/(D14-C14) * 20)))) -> 100 | F14: =IF(ISBLANK(B14), "isi data dulu", IF(B14<=C14, "sesuai target", IF(AND(B14>C14,B14<=D14), "di dalam target", IF(B14>D14, "melebihi batas", "")))) -> sesuai target
A15: September | B15: 0 | C15: 0 | D15: 1 | E15: =IF(ISBLANK(B15), 0,IF(B15<=C15, 100, IF(B15>=D15, IF(B15=D15, 80, 0), 100 - ((B15-C15)/(D15-C15) * 20)))) -> 100 | F15: =IF(ISBLANK(B15), "isi data dulu", IF(B15<=C15, "sesuai target", IF(AND(B15>C15,B15<=D15), "di dalam target", IF(B15>D15, "melebihi batas", "")))) -> sesuai target
A16: Oktober | E16: =IF(ISBLANK(B16), 0,IF(B16<=C16, 100, IF(B16>=D16, IF(B16=D16, 80, 0), 100 - ((B16-C16)/(D16-C16) * 20)))) -> 0 | F16: =IF(ISBLANK(B16), "isi data dulu", IF(B16<=C16, "sesuai target", IF(AND(B16>C16,B16<=D16), "di dalam target", IF(B16>D16, "melebihi batas", "")))) -> isi data dulu
A17: November | E17: =IF(ISBLANK(B17), 0,IF(B17<=C17, 100, IF(B17>=D17, IF(B17=D17, 80, 0), 100 - ((B17-C17)/(D17-C17) * 20)))) -> 0 | F17: =IF(ISBLANK(B17), "isi data dulu", IF(B17<=C17, "sesuai target", IF(AND(B17>C17,B17<=D17), "di dalam target", IF(B17>D17, "melebihi batas", "")))) -> isi data dulu
A18: Desember | E18: =IF(ISBLANK(B18), 0,IF(B18<=C18, 100, IF(B18>=D18, IF(B18=D18, 80, 0), 100 - ((B18-C18)/(D18-C18) * 20)))) -> 0 | F18: =IF(ISBLANK(B18), "isi data dulu", IF(B18<=C18, "sesuai target", IF(AND(B18>C18,B18<=D18), "di dalam target", IF(B18>D18, "melebihi batas", "")))) -> isi data dulu
A19: Total | B19: =AVERAGE(B7:B18) -> 0 | C19: =AVERAGE(C7:C18) -> 0 | D19: =AVERAGE(D7:D18) -> 0.66666667 | E19: =IF(ISBLANK(B19), 0,IF(B19<=C19, 100, IF(B19>=D19, IF(B19=D19, 80, 0), 100 - ((B19-C19)/(D19-C19) * 20)))) -> 100 | F19: =IF(B19<=C19, "sesuai target", IF(AND(B19>C19, B19<=D19), "di dalam target", IF(B19>D19, "melebihi batas", ""))) -> sesuai target

Sheet B1c
A1: Nama KPI | B1: # | C1: =KPI!D26 -> Temuan Audit Internal Kritis
A2: Periode | B2: Project/ Event
A3: Polarisasi | B3: Minimal
A6: Periode | B6: Realisasi | C6: Target (100%) | D6: Treshold Min | E6: Skor | F6: Status
A7: Kuarter 1 | B7: 0 | C7: =KPI!K26 -> 0 | D7: =KPI!L26 -> 1 | E7: =IF(ISBLANK(B7), 0,IF(B7<=C7, 100, IF(B7>=D7, IF(B7=D7, 80, 0), 100 - ((B7-C7)/(D7-C7) * 20)))) -> 100 | F7: =IF(ISBLANK(B7), "isi data dulu", IF(B7<=C7, "sesuai target", IF(AND(B7>C7,B7<=D7), "di dalam target", IF(B7>D7, "melebihi batas", "")))) -> sesuai target
A8: Kuarter 2 | B8: 0 | C8: =C7 -> 0 | D8: =D7 -> 1 | E8: =IF(ISBLANK(B8), 0,IF(B8<=C8, 100, IF(B8>=D8, IF(B8=D8, 80, 0), 100 - ((B8-C8)/(D8-C8) * 20)))) -> 100 | F8: =IF(ISBLANK(B8), "isi data dulu", IF(B8<=C8, "sesuai target", IF(AND(B8>C8,B8<=D8), "di dalam target", IF(B8>D8, "melebihi batas", "")))) -> sesuai target
A9: Kuarter 3 | B9: 4 | C9: =C8 -> 0 | D9: =D8 -> 1 | E9: =IF(ISBLANK(B9), 0,IF(B9<=C9, 100, IF(B9>=D9, IF(B9=D9, 80, 0), 100 - ((B9-C9)/(D9-C9) * 20)))) -> 0 | F9: =IF(ISBLANK(B9), "isi data dulu", IF(B9<=C9, "sesuai target", IF(AND(B9>C9,B9<=D9), "di dalam target", IF(B9>D9, "melebihi batas", "")))) -> melebihi batas | H9: belum ada audit departemen
A10: Kuarter 4 | B10: 0 | C10: 0 | D10: 1 | E10: =IF(ISBLANK(B10), 0,IF(B10<=C10, 100, IF(B10>=D10, IF(B10=D10, 80, 0), 100 - ((B10-C10)/(D10-C10) * 20)))) -> 100 | F10: =IF(ISBLANK(B10), "isi data dulu", IF(B10<=C10, "sesuai target", IF(AND(B10>C10,B10<=D10), "di dalam target", IF(B10>D10, "melebihi batas", "")))) -> sesuai target | H10: belum ada audit departemen
A11: Total | B11: =SUM(B7:B10) -> 4 | C11: =SUM(C7:C10) -> 0 | D11: =SUM(D7:D10) -> 4 | E11: =IF(B11<=C11, 100, IF(B11>=D11, IF(B11=D11, 80, 0), 100 - ((B11-C11)/(D11-C11) * 20))) -> 80 | F11: =IF(B11<=C11, "sesuai target", IF(AND(B11>C11, B11<=D11), "di dalam target", IF(B11>D11, "melebihi batas", ""))) -> di dalam target

Sheet B1d
A1: Nama KPI | B1: # | C1: =KPI!D27 -> Temuan Audit Eksternal
A2: Periode | B2: Project/ Event
A3: Polarisasi | B3: Minimal
A6: Periode | B6: Realisasi | C6: Target (100%) | D6: Treshold Min | E6: Skor | F6: Status
A7: Kuarter 1 | B7: 0 | C7: =KPI!K27 -> 0 | D7: =KPI!L27 -> 1 | E7: =IF(ISBLANK(B7), 0,IF(B7<=C7, 100, IF(B7>=D7, IF(B7=D7, 80, 0), 100 - ((B7-C7)/(D7-C7) * 20)))) -> 100 | F7: =IF(ISBLANK(B7), "isi data dulu", IF(B7<=C7, "sesuai target", IF(AND(B7>C7,B7<=D7), "di dalam target", IF(B7>D7, "melebihi batas", "")))) -> sesuai target | H7: belum ada audit departemen
A8: Kuarter 2 | B8: 0 | C8: =C7 -> 0 | D8: =D7 -> 1 | E8: =IF(ISBLANK(B8), 0,IF(B8<=C8, 100, IF(B8>=D8, IF(B8=D8, 80, 0), 100 - ((B8-C8)/(D8-C8) * 20)))) -> 100 | F8: =IF(ISBLANK(B8), "isi data dulu", IF(B8<=C8, "sesuai target", IF(AND(B8>C8,B8<=D8), "di dalam target", IF(B8>D8, "melebihi batas", "")))) -> sesuai target | H8: belum ada audit departemen
A9: Kuarter 3 | B9: 0 | C9: =C8 -> 0 | D9: =D8 -> 1 | E9: =IF(ISBLANK(B9), 0,IF(B9<=C9, 100, IF(B9>=D9, IF(B9=D9, 80, 0), 100 - ((B9-C9)/(D9-C9) * 20)))) -> 100 | F9: =IF(ISBLANK(B9), "isi data dulu", IF(B9<=C9, "sesuai target", IF(AND(B9>C9,B9<=D9), "di dalam target", IF(B9>D9, "melebihi batas", "")))) -> sesuai target | H9: belum ada audit departemen
A10: Kuarter 4 | B10: 0 | C10: 0 | D10: 1 | E10: =IF(ISBLANK(B10), 0,IF(B10<=C10, 100, IF(B10>=D10, IF(B10=D10, 80, 0), 100 - ((B10-C10)/(D10-C10) * 20)))) -> 100 | F10: =IF(ISBLANK(B10), "isi data dulu", IF(B10<=C10, "sesuai target", IF(AND(B10>C10,B10<=D10), "di dalam target", IF(B10>D10, "melebihi batas", "")))) -> sesuai target
A11: Total | B11: =SUM(B7:B10) -> 0 | C11: 0 | D11: 1 | E11: =IF(B11<=C11, 100, IF(B11>=D11, IF(B11=D11, 80, 0), 100 - ((B11-C11)/(D11-C11) * 20))) -> 100 | F11: =IF(B11<=C11, "sesuai target", IF(AND(B11>C11, B11<=D11), "di dalam target", IF(B11>D11, "melebihi batas", ""))) -> sesuai target

Sheet B2a
A1: Nama KPI | B1: % | C1: =KPI!D29 -> AR overdue (Customer CK)
A2: Periode | B2: Bulanan
A3: Polarisasi | B3: Minimal | J3: Jan | L3: Feb | N3: Mar | P3: Apr | R3: Mei
J4: Rp | K4: % | L4: Rp | M4: % | N4: Rp | O4: % | P4: Rp | Q4: % | R4: Rp | S4: %
H5: Belum lunas | I5: tepat | J5: 210000 | K5: 0.002 | L5: - | M5: 0 | N5: 1170000 | O5: 0.0142 | P5: 5.963.000 | Q5: 0.0859 | R5: 270000 | S5: 0,25%
A6: Periode | B6: Realisasi | C6: Target (100%) | D6: Treshold Min | E6: Skor | F6: Status | H6: Belum lunas | I6: Belum Jatuh Tempo | J6: 30347600 | K6: 0.2853 | L6: 2779500 | M6: 0.026 | N6: 3551100 | O6: 0.0431 | P6: 17.691.800 | Q6: 0.2549 | R6: 2199000 | S6: 2,02%
A7: Januari | B7: 0 | C7: =KPI!K29 -> 0.05 | D7: =KPI!L29 -> 0.1 | E7: =IF(ISBLANK(B7), 0,IF(B7<=C7, 100, IF(B7>=D7, IF(B7=D7, 80, 0), 100 - ((B7-C7)/(D7-C7) * 20)))) -> 100 | F7: =IF(ISBLANK(B7), "isi data dulu", IF(B7<=C7, "sesuai target", IF(AND(B7>C7,B7<=D7), "di dalam target", IF(B7>D7, "melebihi batas", "")))) -> sesuai target | H7: Belum lunas | I7: overdue <=7 hari | J7: 10684830 | K7: 0.1005 | L7: 1570400 | M7: 0.0147 | N7: 1143600 | O7: 0.0139 | P7: 5.724.100 | Q7: 0.0825 | R7: 4676000 | S7: 4,30%
A8: Februari | B8: 0.2116 | C8: =C7 -> 0.05 | D8: =D7 -> 0.1 | E8: =IF(ISBLANK(B8), 0,IF(B8<=C8, 100, IF(B8>=D8, IF(B8=D8, 80, 0), 100 - ((B8-C8)/(D8-C8) * 20)))) -> 0 | F8: =IF(ISBLANK(B8), "isi data dulu", IF(B8<=C8, "sesuai target", IF(AND(B8>C8,B8<=D8), "di dalam target", IF(B8>D8, "melebihi batas", "")))) -> melebihi batas | H8: Belum lunas | I8: overdue > 7 hari | J8: 7729300 | K8: 0.0727 | L8: - | M8: 0 | N8: - | O8: 0 | P8: 1.307.500 | Q8: 0.0188 | R8: 15980700 | S8: 14,69%
A9: Maret | B9: 0.1552 | C9: 0.05 | D9: 0.1 | E9: =IF(ISBLANK(B9), 0,IF(B9<=C9, 100, IF(B9>=D9, IF(B9=D9, 80, 0), 100 - ((B9-C9)/(D9-C9) * 20)))) -> 0 | F9: =IF(ISBLANK(B9), "isi data dulu", IF(B9<=C9, "sesuai target", IF(AND(B9>C9,B9<=D9), "di dalam target", IF(B9>D9, "melebihi batas", "")))) -> melebihi batas | H9: Belum lunas | I9: overdue > 14 hari | J9: 20037300 | K9: 0.1884 | L9: 9295960 | M9: 0.087 | N9: 1196850 | O9: 0.0145 | P9: 1.247.400 | Q9: 0.018 | R9: 2266800 | S9: 2,08%
A10: April | B10: 0.0219 | C10: 0.05 | D10: 0.1 | E10: =IF(ISBLANK(B10), 0,IF(B10<=C10, 100, IF(B10>=D10, IF(B10=D10, 80, 0), 100 - ((B10-C10)/(D10-C10) * 20)))) -> 100 | F10: =IF(ISBLANK(B10), "isi data dulu", IF(B10<=C10, "sesuai target", IF(AND(B10>C10,B10<=D10), "di dalam target", IF(B10>D10, "melebihi batas", "")))) -> sesuai target | H10: Belum lunas | I10: overdue >30 hari | J10: - | K10: 0 | L10: 4029800 | M10: 0.0377 | N10: 485760 | O10: 0.0059 | P10: 306000 | Q10: 0.0044 | R10: =SUM(R5:S9) -> 25392500 | S10: 0,46%
A11: Mei | B11: 0.0106 | C11: 0.05 | D11: 0.1 | E11: =IF(ISBLANK(B11), 0,IF(B11<=C11, 100, IF(B11>=D11, IF(B11=D11, 80, 0), 100 - ((B11-C11)/(D11-C11) * 20)))) -> 100 | F11: =IF(ISBLANK(B11), "isi data dulu", IF(B11<=C11, "sesuai target", IF(AND(B11>C11,B11<=D11), "di dalam target", IF(B11>D11, "melebihi batas", "")))) -> sesuai target | H11: Sub Total Belum lunas | J11: 69009030 | K11: 0.6488 | L11: 17675660 | M11: 0.1419 | N11: 7547310 | O11: 0.0917 | P11: 32.239.800 | Q11: 0.4645 | R11: 25888000 | S11: 23,79%
A12: Juni | B12: 0.0324 | C12: 0.05 | D12: 0.1 | E12: =IF(ISBLANK(B12), 0,IF(B12<=C12, 100, IF(B12>=D12, IF(B12=D12, 80, 0), 100 - ((B12-C12)/(D12-C12) * 20)))) -> 100 | F12: =IF(ISBLANK(B12), "isi data dulu", IF(B12<=C12, "sesuai target", IF(AND(B12>C12,B12<=D12), "di dalam target", IF(B12>D12, "melebihi batas", "")))) -> sesuai target | H12: Lunas | I12: Lebih Cepat | J12: 4853700 | K12: 0.0456 | L12: 11861845 | M12: 0.111 | N12: 39679580 | O12: 0.4821 | P12: 14.897.100 | Q12: 0.2146 | R12: 17079300 | S12: 15,70%
A13: Juli | B13: 0.0137 | C13: 0.05 | D13: 0.1 | E13: =IF(ISBLANK(B13), 0,IF(B13<=C13, 100, IF(B13>=D13, IF(B13=D13, 80, 0), 100 - ((B13-C13)/(D13-C13) * 20)))) -> 100 | F13: =IF(ISBLANK(B13), "isi data dulu", IF(B13<=C13, "sesuai target", IF(AND(B13>C13,B13<=D13), "di dalam target", IF(B13>D13, "melebihi batas", "")))) -> sesuai target | H13: Lunas | I13: tepat | J13: 2896300 | K13: 0.0272 | L13: 34623000 | M13: 0.3239 | N13: 7524700 | O13: 0.0914 | P13: 1.333.800 | Q13: 0.0192 | R13: 7522600 | S13: 6,91%
A14: Agustus | B14: =O41 -> 0.017144894 | C14: 0.05 | D14: 0.1 | E14: =IF(ISBLANK(B14), 0,IF(B14<=C14, 100, IF(B14>=D14, IF(B14=D14, 80, 0), 100 - ((B14-C14)/(D14-C14) * 20)))) -> 100 | F14: =IF(ISBLANK(B14), "isi data dulu", IF(B14<=C14, "sesuai target", IF(AND(B14>C14,B14<=D14), "di dalam target", IF(B14>D14, "melebihi batas", "")))) -> sesuai target | H14: Lunas | I14: overdue <=7 hari | J14: 9413300 | K14: 0.0885 | L14: 15818920 | M14: 0.148 | N14: 12053300 | O14: 0.1464 | P14: 13.909.900 | Q14: 0.2004 | R14: 42661580 | S14: 39,21%
A15: September | B15: 0 | C15: 0.05 | D15: 0.1 | E15: =IF(ISBLANK(B15), 0,IF(B15<=C15, 100, IF(B15>=D15, IF(B15=D15, 80, 0), 100 - ((B15-C15)/(D15-C15) * 20)))) -> 100 | F15: =IF(ISBLANK(B15), "isi data dulu", IF(B15<=C15, "sesuai target", IF(AND(B15>C15,B15<=D15), "di dalam target", IF(B15>D15, "melebihi batas", "")))) -> sesuai target | H15: Lunas | I15: overdue > 7 hari | J15: 3089500 | K15: 0.029 | L15: 13910410 | M15: 0.1301 | N15: 2180400 | O15: 0.0265 | P15: 2.808.700 | Q15: 0.0405 | R15: 9182600 | S15: 8,44%
A16: Oktober | E16: =IF(ISBLANK(B16), 0,IF(B16<=C16, 100, IF(B16>=D16, IF(B16=D16, 80, 0), 100 - ((B16-C16)/(D16-C16) * 20)))) -> 0 | F16: =IF(ISBLANK(B16), "isi data dulu", IF(B16<=C16, "sesuai target", IF(AND(B16>C16,B16<=D16), "di dalam target", IF(B16>D16, "melebihi batas", "")))) -> isi data dulu | H16: Lunas | I16: overdue > 14 hari | J16: 17104800 | K16: 0.1608 | L16: 12092900 | M16: 0.1131 | N16: 1030000 | O16: 0.0125 | P16: 3.008.700 | Q16: 0.0433 | R16: 5802500 | S16: 5,33%
A17: November | E17: =IF(ISBLANK(B17), 0,IF(B17<=C17, 100, IF(B17>=D17, IF(B17=D17, 80, 0), 100 - ((B17-C17)/(D17-C17) * 20)))) -> 0 | F17: =IF(ISBLANK(B17), "isi data dulu", IF(B17<=C17, "sesuai target", IF(AND(B17>C17,B17<=D17), "di dalam target", IF(B17>D17, "melebihi batas", "")))) -> isi data dulu | H17: Lunas | I17: overdue >30 hari | J17: - | K17: 0 | L17: 18588300 | M17: 0.1739 | N17: 12290000 | O17: 0.1493 | P17: 1.212.610 | Q17: 0.0175 | R17: 662000 | S17: 0,61%
A18: Desember | E18: =IF(ISBLANK(B18), 0,IF(B18<=C18, 100, IF(B18>=D18, IF(B18=D18, 80, 0), 100 - ((B18-C18)/(D18-C18) * 20)))) -> 0 | F18: =IF(ISBLANK(B18), "isi data dulu", IF(B18<=C18, "sesuai target", IF(AND(B18>C18,B18<=D18), "di dalam target", IF(B18>D18, "melebihi batas", "")))) -> isi data dulu | H18: Sub Total lunas | J18: 37357600 | K18: 0.3512 | L18: 106895375 | M18: 0.8581 | N18: 74757980 | O18: 0.9083 | P18: 37.170.810 | Q18: 0.5355 | R18: 82910580 | S18: 76,21%
A19: Total | B19: =AVERAGE(B7:B18) -> 0.051393877 | C19: =AVERAGE(C7:C18) -> 0.05 | D19: =AVERAGE(D7:D18) -> 0.1 | E19: =IF(B19<=C19, 100, IF(B19>=D19, IF(B19=D19, 80, 0), 100 - ((B19-C19)/(D19-C19) * 20))) -> 99.442449 | F19: =IF(B19<=C19, "sesuai target", IF(AND(B19>C19, B19<=D19), "di dalam target", IF(B19>D19, "melebihi batas", ""))) -> di dalam target | H19: Total Tagihan | J19: 106366630 | L19: 124571035 | N19: 82305290 | P19: 69.410.610 | R19: 108798580
J20: - | L20: -
O21: 0.1552
J24: Juni | L24: Juli | N24: Agustus | P24: September
J25: Rp | K25: % | L25: Rp | M25: % | N25: Rp | O25: % | P25: Rp | Q25: %
H26: Belum lunas | I26: tepat | J26: - | K26: 0 | L26: 2355000 | M26: 0.022903659 | N26: 0 | O26: =N26/$N$40 -> 0 | P26: 2051100 | Q26: 0.020600801
H27: Belum lunas | I27: Belum Jatuh Tempo | J27: 3002400 | K27: 0.0355 | L27: 22942900 | M27: 0.22313221 | N27: 4991900 | O27: =N27/$N$40 -> 0.043077107 | P27: 24344400 | Q27: 0.24450985
H28: Belum lunas | I28: overdue <=7 hari | J28: 2462900 | K28: 0.0291 | L28: 1405500 | M28: 0.013669254 | N28: 6528599 | O28: =N28/$N$40 -> 0.056337899 | P28: 10621598 | Q28: 0.10668102
H29: Belum lunas | I29: overdue > 7 hari | J29: 242000 | K29: 0.0029 | L29: 3058500 | M29: 0.02974558 | N29: 1196000 | O29: =N29/$N$40 -> 0.010320764 | P29: 1012000 | Q29: 0.010164307
H30: Belum lunas | I30: overdue > 14 hari | J30: 3937300 | K30: 0.0466 | L30: 0 | M30: 0 | N30: 1201900 | O30: =N30/$N$40 -> 0.010371677 | P30: 520900 | Q30: 0.0052318061
H31: Belum lunas | I31: overdue >30 hari | J31: - | K31: 0 | L31: 738300 | M31: 0.00718037 | N31: 738300 | O31: =N31/$N$40 -> 0.0063710868 | P31: 0 | Q31: 0
H32: Sub Total Belum lunas | J32: 9644600 | K32: 0.1141 | L32: 30500200 | M32: 0.29663107 | N32: =SUM(N26:N31) -> 14656699 | O32: =N32/$N$40 -> 0.12647853 | P32: 38549998 | Q32: 0.38718778
H33: Lunas | I33: Lebih Cepat | J33: 32534400 | K33: 0.3849 | L33: 27171300 | M33: 0.2642557 | N33: 50325400 | O33: =N33/$N$40 -> 0.43427806 | P33: 23009200 | Q33: 0.23109939
H34: Lunas | I34: tepat | J34: 5461800 | K34: 0.0646 | L34: 11982100 | M34: 0.11653245 | N34: 7019900 | O34: =N34/$N$40 -> 0.060577532 | P34: 6511200 | Q34: 0.065397074
H35: Lunas | I35: overdue <=7 hari | J35: 12681200 | K35: 0.15 | L35: 21101400 | M35: 0.20522262 | N35: 33505900 | O35: =N35/$N$40 -> 0.28913585 | P35: 22975293 | Q35: 0.23075884
H36: Lunas | I36: overdue > 7 hari | J36: 10221520 | K36: 0.1209 | L36: 4876500 | M36: 0.047426621 | N36: 6105499 | O36: =N36/$N$40 -> 0.052686799 | P36: 6405497 | Q36: 0.064335416
H37: Lunas | I37: overdue > 14 hari | J37: 11239480 | K37: 0.133 | L37: 6515500 | M37: 0.063366789 | N37: 3021000 | O37: =N37/$N$40 -> 0.026069421 | P37: 2112900 | Q37: 0.021221507
H38: Lunas | I38: overdue >30 hari | J38: 2735300 | K38: 0.0324 | L38: 675000 | M38: 0.006564743 | N38: 1248500 | O38: =N38/$N$40 -> 0.010773807 | P38: 0 | Q38: 0
H39: Sub Total lunas | J39: 74873700 | K39: 0.8859 | L39: 72321800 | M39: 0.70336893 | N39: =SUM(N33:N38) -> 101226199 | O39: =N39/$N$40 -> 0.87352147 | P39: 61014090 | Q39: 0.61281222
H40: Total Tagihan | J40: 84518300 | L40: 102822000 | N40: =N39+N32 -> 115882898 | P40: 99564088
K41: =K38+K31 -> 0.0324 | M41: =M38+M31 -> 0.013745113 | O41: =O38+O31 -> 0.017144894 | Q41: =Q38+Q31 -> 0

Sheet L1a
A1: Nama KPI | B1: # | C1: =KPI!D34 -> Tingkat Retensi New Hire 4-6 bulan
A2: Periode | B2: Semester
A3: Polarisasi | B3: Minimal
A6: Periode | B6: Realisasi | C6: Target (100%) | D6: Treshold Min | E6: Skor | F6: Status
