Workbook

Sheet KPI
B1: KEY PERFORMANCE INDICATOR
B2: Jabatan : Information Technology Manager
B4: Tanggal | K4: Departemen/Jabatan | M4: Information Technology
B5: Nama/Jabatan | D5: Suherdy Yacob | K5: Nama Atasan/Jabatan | M5: Jang Bambang / IT Director
B6: Tanggal Bergabung | K6: Periode Kinerja | M6: 2025
B8: NO | D8: Perspektif & Sasaran Strategis KPI | F8: Formula | G8: Periode | H8: Verifikasi | I8: Sumber Data | J8: Realisasi Tahun | K8: Target 2025 | M8: Polarisasi | N8: UoM | O8: Realisasi (YTD) | P8: Target (YTD) | Q8: Skor | R8: Bobot | S8: Total (Skor * Bobot)
C9: #, %, IDR | E9: Sumber KPI | J9: 2024 | K9: Target 100% | L9: Treshold Min | O9: 2025 | P9: 2025 | R9: (%)
B10: FINANCIAL PERSPECTIVE
B11: F1 | C11: Meningkatkan Valuasi Bisnis
B12: F1a | C12: # | E12: VAM | G12: Quarter (3bln) | M12: Maksimal | S12: =(R12/100)*Q12 -> 0
B13: F2 | C13: Cost Control
B14: F2a | C14: # | D14: Realisasi Kasbon | E14: HAM | G14: Bulanan | I14: Data dari FA | K14: 3 | L14: 5 | M14: Minimal | N14: hari keterlambatan | O14: 173 | P14: 24 | Q14: =F2a!E19 -> 0 | R14: 5 | S14: =(R14/100)*Q14 -> 0
B15: F2b | C15: % | D15: Asset yang tidak sesuai | E15: HAM | G15: Semester | I15: Data dari Stock Opname | K15: 3 | L15: 5 | M15: Minimal | N15: ketidak sesuaian asset | Q15: =F2b!E9 -> 100 | R15: 10 | S15: =(R15/100)*Q15 -> 10
B16: CUSTOMER PERSPECTIVE
B17: C1 | C17: Menciptakan Satisfied Customer Experience
B18: C1a | C18: # | E18: Job Desc | G18: Bulanan | M18: Minimal | S18: =(R18/100)*Q18 -> 0
B19: C1b | C19: # | E19: Job Desc | G19: Bulanan | M19: Minimal | S19: =(R19/100)*Q19 -> 0
B20: C2 | C20: Mengembangkan Kerjasama Bisnis
B21: C2a | C21: # | D21: Macro | E21: HAM | G21: Tahunan | K21: 1 | L21: 1 | M21: Maksimal | N21: Jumlah Project | O21: 0 | P21: 1 | Q21: 0 | R21: 5 | S21: =(R21/100)*Q21 -> 0
B22: INTERNAL BUSINESS PROCESS PERSPECTIVE
B23: B1 | C23: Meningkatkan kualitas
B24: B1a | C24: # | D24: Insiden Keamanan Data | E24: Job Desc | G24: Bulanan | I24: Rekap Insiden IT | K24: 0 | L24: 1 | M24: Minimal | N24: Insiden | O24: 1 | P24: =B1a!C19 -> 0 | Q24: =B1a!E19 -> 98.333333 | R24: 10 | S24: =(R24/100)*Q24 -> 9.8333333
B25: B1b | C25: # | D25: Kecelakaan Kerja | E25: HAM | G25: Bulanan | I25: Data dari HSE | K25: 0 | L25: 1 | M25: Minimal | N25: Insiden | O25: 1 | P25: =B1b!C19 -> 0 | Q25: =B1b!E19 -> 98.333333 | R25: 5 | S25: =(R25/100)*Q25 -> 4.9166667
B26: B1c | C26: # | D26: Rata-rata waktu penyelesaian Tiket IT | E26: VAM | G26: Bulanan | I26: Rekap Corrective Maintenance | K26: 8 | L26: 24 | M26: Minimal | N26: Jam | O26: =B1c!B19 -> 91.69 | P26: =B1c!C19 -> 80 | Q26: =B1c!E19 -> 98.875962 | R26: 10 | S26: =(R26/100)*Q26 -> 9.8875962
B27: B1d | C27: # | D27: Kasus Downtime Server | E27: VAM | G27: Bulanan | I27: Data Insiden | K27: 1 | L27: 2 | M27: Minimal | N27: Insiden | O27: =B1d!B19 -> 1 | P27: =B1d!C19 -> 12 | Q27: =B1d!E19 -> 100 | R27: 10 | S27: =(R27/100)*Q27 -> 10
C28: # | D28: Temuan Audit Internal | E28: HAM | F28: Jumlah Temuan Audit Internal Kritis | G28: Tahunan | I28: Data Temuan
C29: # | D29: Temuan Audit Mutu & Compliance | E29: VAM | F29: Jumlah Temuan Audit Mutu & Compliance | G29: Tahunan | I29: Data Temuan | K29: 0 | L29: 1 | M29: Minimal | N29: Temuan | Q29: =B1f!E9 -> 100 | R29: 10 | S29: =(R29/100)*Q29 -> 10
B30: B1e | C30: # | D30: Temuan Audit Eksternal | E30: HAM | F30: Jumlah Temuan Audit Eksternal | G30: Project/ Event | I30: Data Temuan Mayor | K30: 3 | L30: 5 | M30: Minimal | N30: Temuan | Q30: =B1e!E9 -> 100 | R30: 5 | S30: =(R30/100)*Q30 -> 5
B31: B2 | C31: Inovasi
B32: B2a | C32: % | D32: Inovasi Terimplementasi | E32: VAM | G32: Project/ Event | K32: 100 | L32: 90 | M32: Maksimal | N32: Module berjalan | O32: =Table1_4[Achievement] -> 75 | P32: =Table1_4[Target (100%)] -> 100 | Q32: =Table1_4[Skor] -> 10 | R32: 15 | S32: =(R32/100)*Q32 -> 1.5
B33: B3 | C33: System Development
B34: B3a | C34: # | E34: Job Desc | G34: Bulanan | M34: Maksimal | S34: =(R34/100)*Q34 -> 0
B35: LEARNING & GROWTH PERSPECTIVE
B36: L1 | C36: Talent Management
B37: L1a | C37: # | D37: Talent Readiness | E37: VAM | G37: Quarter (3bln) | K37: 3 | L37: 1 | M37: Maksimal | N37: Jumlah talent ready | O37: 1 | P37: 3 | Q37: 33 | R37: 6 | S37: =(R37/100)*Q37 -> 1.98
B38: L1b | C38: % | D38: Karyawan resign dalam 3-6 bulan sejak OJT | E38: HAM | G38: Semester | I38: Data dari HR | K38: 3 | L38: 5 | M38: Minimal | N38: Jumlah % resign | O38: 0 | P38: 3 | Q38: 100 | R38: 4 | S38: =(R38/100)*Q38 -> 4
B39: L2 | C39: People Development
B40: L2a | C40: # | D40: Rata-rata jam learning karyawan | E40: HAM | G40: Bulanan | I40: Data peserta training | K40: 3 | L40: 3 | M40: Maksimal | N40: Jam | O40: =L2a!B19 -> 245.8 | P40: =L2a!C19 -> 30 | Q40: =L2a!E19 -> 819.33333 | R40: 5 | S40: =(R40/100)*Q40 -> 40.966667
B41: Total % | R41: =SUM(R12:R40) -> 100 | S41: =SUM(S12:S40) -> 108.08426
D43: Saya telah mengerti dan berkomitmen selama setahun untuk mencapai tujuan kinerja di atas.
...

Sheet Achievement
B2: Kode BSC | C2: Indikator | D2: Achieve/Not Achieve | E2: Keterangan
B3: F2a | C3: Realisasi Kasbon | D3: Not Achieve
B4: F2b | C4: Aset yg tidak sesuai | D4: Not Achieve | E4: Belum diisi/Belum ada data
B5: B1a | C5: Insiden Keamanan Data | D5: Achieve
B6: B1b | C6: Kecelakaan Kerja | D6: Achieve
B7: B1c | C7: Rata-rata Penyelesaian Tiket | D7: Achieve
B8: B1d | C8: Kasus downtime server | D8: Achieve
B9: B1e | C9: Temuan Audit Eksternal | D9: Not Achieve | E9: Belum diisi/Belum ada data
B10: B1f | C10: Temuan Audit Internal Kritis | D10: Not Achieve | E10: Belum diisi/Belum ada data
B11: L1a | C11: Talent Readiness | D11: Achieve
B12: L2a | C12: Jam Learning | D12: Achieve

Sheet F2a
A1: Nama KPI | B1: # | C1: Realisasi Kasbon
A2: Periode | B2: Bulanan
A3: Polarisasi | B3: Minimal
A6: Periode | B6: Realisasi | C6: Target (100%) | D6: Treshold Min | E6: Skor | F6: Status
A7: Januari | B7: 77.84 | C7: 3 | D7: 5 | E7: =IF(ISBLANK(B7), 0,IF(B7<=C7, 100, IF(B7>=D7, IF(B7=D7, 80, 0), 100 - ((B7-C7)/(D7-C7) * 20)))) -> 0 | F7: =IF(ISBLANK(B7), "isi data dulu", IF(B7<=C7, "sesuai target", IF(AND(B7>C7,B7<=D7), "di dalam target", IF(B7>D7, "melebihi batas", "")))) -> melebihi batas
A8: Februari | B8: 22 | C8: 3 | D8: 5 | E8: =IF(ISBLANK(B8), 0,IF(B8<=C8, 100, IF(B8>=D8, IF(B8=D8, 80, 0), 100 - ((B8-C8)/(D8-C8) * 20)))) -> 0 | F8: =IF(ISBLANK(B8), "isi data dulu", IF(B8<=C8, "sesuai target", IF(AND(B8>C8,B8<=D8), "di dalam target", IF(B8>D8, "melebihi batas", "")))) -> melebihi batas
A9: Maret | B9: 22 | C9: 3 | D9: 5 | E9: =IF(ISBLANK(B9), 0,IF(B9<=C9, 100, IF(B9>=D9, IF(B9=D9, 80, 0), 100 - ((B9-C9)/(D9-C9) * 20)))) -> 0 | F9: =IF(ISBLANK(B9), "isi data dulu", IF(B9<=C9, "sesuai target", IF(AND(B9>C9,B9<=D9), "di dalam target", IF(B9>D9, "melebihi batas", "")))) -> melebihi batas
A10: April | B10: 8 | C10: 3 | D10: 5 | E10: =IF(ISBLANK(B10), 0,IF(B10<=C10, 100, IF(B10>=D10, IF(B10=D10, 80, 0), 100 - ((B10-C10)/(D10-C10) * 20)))) -> 0 | F10: =IF(ISBLANK(B10), "isi data dulu", IF(B10<=C10, "sesuai target", IF(AND(B10>C10,B10<=D10), "di dalam target", IF(B10>D10, "melebihi batas", "")))) -> melebihi batas
A11: Mei | B11: 12 | C11: 3 | D11: 5 | E11: =IF(ISBLANK(B11), 0,IF(B11<=C11, 100, IF(B11>=D11, IF(B11=D11, 80, 0), 100 - ((B11-C11)/(D11-C11) * 20)))) -> 0 | F11: =IF(ISBLANK(B11), "isi data dulu", IF(B11<=C11, "sesuai target", IF(AND(B11>C11,B11<=D11), "di dalam target", IF(B11>D11, "melebihi batas", "")))) -> melebihi batas
A12: Juni | B12: 12 | C12: 3 | D12: 5 | E12: =IF(ISBLANK(B12), 0,IF(B12<=C12, 100, IF(B12>=D12, IF(B12=D12, 80, 0), 100 - ((B12-C12)/(D12-C12) * 20)))) -> 0 | F12: =IF(ISBLANK(B12), "isi data dulu", IF(B12<=C12, "sesuai target", IF(AND(B12>C12,B12<=D12), "di dalam target", IF(B12>D12, "melebihi batas", "")))) -> melebihi batas
A13: Juli | B13: 5 | C13: 3 | D13: 5 | E13: =IF(ISBLANK(B13), 0,IF(B13<=C13, 100, IF(B13>=D13, IF(B13=D13, 80, 0), 100 - ((B13-C13)/(D13-C13) * 20)))) -> 80 | F13: =IF(ISBLANK(B13), "isi data dulu", IF(B13<=C13, "sesuai target", IF(AND(B13>C13,B13<=D13), "di dalam target", IF(B13>D13, "melebihi batas", "")))) -> di dalam target
A14: Agustus | B14: 14 | C14: 3 | D14: 5 | E14: =IF(ISBLANK(B14), 0,IF(B14<=C14, 100, IF(B14>=D14, IF(B14=D14, 80, 0), 100 - ((B14-C14)/(D14-C14) * 20)))) -> 0 | F14: =IF(ISBLANK(B14), "isi data dulu", IF(B14<=C14, "sesuai target", IF(AND(B14>C14,B14<=D14), "di dalam target", IF(B14>D14, "melebihi batas", "")))) -> melebihi batas
A15: September | B15: 9 | C15: 3 | D15: 5 | E15: =IF(ISBLANK(B15), 0,IF(B15<=C15, 100, IF(B15>=D15, IF(B15=D15, 80, 0), 100 - ((B15-C15)/(D15-C15) * 20)))) -> 0 | F15: =IF(ISBLANK(B15), "isi data dulu", IF(B15<=C15, "sesuai target", IF(AND(B15>C15,B15<=D15), "di dalam target", IF(B15>D15, "melebihi batas", "")))) -> melebihi batas
A16: Oktober | B16: 13 | C16: 3 | D16: 5 | E16: =IF(ISBLANK(B16), 0,IF(B16<=C16, 100, IF(B16>=D16, IF(B16=D16, 80, 0), 100 - ((B16-C16)/(D16-C16) * 20)))) -> 0 | F16: =IF(ISBLANK(B16), "isi data dulu", IF(B16<=C16, "sesuai target", IF(AND(B16>C16,B16<=D16), "di dalam target", IF(B16>D16, "melebihi batas", "")))) -> melebihi batas
A17: November | E17: =IF(ISBLANK(B17), 0,IF(B17<=C17, 100, IF(B17>=D17, IF(B17=D17, 80, 0), 100 - ((B17-C17)/(D17-C17) * 20)))) -> 0 | F17: =IF(ISBLANK(B17), "isi data dulu", IF(B17<=C17, "sesuai target", IF(AND(B17>C17,B17<=D17), "di dalam target", IF(B17>D17, "melebihi batas", "")))) -> isi data dulu
A18: Desember | E18: =IF(ISBLANK(B18), 0,IF(B18<=C18, 100, IF(B18>=D18, IF(B18=D18, 80, 0), 100 - ((B18-C18)/(D18-C18) * 20)))) -> 0 | F18: =IF(ISBLANK(B18), "isi data dulu", IF(B18<=C18, "sesuai target", IF(AND(B18>C18,B18<=D18), "di dalam target", IF(B18>D18, "melebihi batas", "")))) -> isi data dulu
A19: Total | B19: =SUM(B7:B18) -> 194.84 | C19: =SUM(C7:C18) -> 30 | D19: =SUM(D7:D18) -> 50 | E19: =IF(ISBLANK(B19), 0,IF(B19<=C19, 100, IF(B19>=D19, IF(B19=D19, 80, 0), 100 - ((B19-C19)/(D19-C19) * 20)))) -> 0 | F19: =IF(B19<=C19, "sesuai target", IF(AND(B19>C19, B19<=D19), "di dalam target", IF(B19>D19, "melebihi batas", ""))) -> melebihi batas

Sheet F2b
A1: Nama KPI | B1: % | C1: Asset yang tidak sesuai
A2: Periode | B2: Semester
A3: Polarisasi | B3: Minimal
A6: Periode | B6: Realisasi | C6: Target (100%) | D6: Treshold Min | E6: Skor | F6: Status
A7: Semester 1 | B7: 0 | C7: 3 | D7: 5 | E7: =IF(ISBLANK(B7), 0,IF(B7<=C7, 100, IF(B7>=D7, IF(B7=D7, 80, 0), 100 - ((B7-C7)/(D7-C7) * 20)))) -> 100 | F7: =IF(ISBLANK(B7), "isi data dulu", IF(B7<=C7, "sesuai target", IF(AND(B7>C7,B7<=D7), "di dalam target", IF(B7>D7, "melebihi batas", "")))) -> sesuai target
A8: Semester 2 | E8: =IF(ISBLANK(B8), 0,IF(B8<=C8, 100, IF(B8>=D8, IF(B8=D8, 80, 0), 100 - ((B8-C8)/(D8-C8) * 20)))) -> 0 | F8: =IF(ISBLANK(B8), "isi data dulu", IF(B8<=C8, "sesuai target", IF(AND(B8>C8,B8<=D8), "di dalam target", IF(B8>D8, "melebihi batas", "")))) -> isi data dulu
A9: Total | B9: =SUM(B7:B8) -> 0 | C9: =SUM(C7:C8) -> 3 | D9: =SUM(D7:D8) -> 5 | E9: =IF(B9<=C9, 100, IF(B9>=D9, IF(B9=D9, 80, 0), 100 - ((B9-C9)/(D9-C9) * 20))) -> 100 | F9: =IF(B9<=C9, "sesuai target", IF(AND(B9>C9, B9<=D9), "di dalam target", IF(B9>D9, "melebihi batas", ""))) -> sesuai target

Sheet C2a
A1: Nama KPI | B1: # | C1: Macro IT | D1: Yo: ini masuk ke Open Project aja atau dihitung nilai rupiah projectnya
A2: Periode | B2: Tahunan
A3: Polarisasi | B3: Maksimal
A6: Periode | B6: Realisasi | C6: Target (100%) | D6: Treshold Min | E6: Skor | F6: Status
A7: 2025 | B7: 0 | C7: 1 | D7: 1 | E7: =(B7/C7)*100 -> 0 | F7: =IF(B7 < D7, "Dibawah target", IF(B7 <= C7, "Di dalam target", "Melebihi target")) -> Dibawah target
A8: Total | B8: =SUM(B7) -> 0 | C8: 1 | D8: =SUM(D7) -> 1 | E8: =(B8/C8)*100 -> 0 | F8: =IF(B8 < D8, "Dibawah target", IF(B8 <= C8, "Di dalam target", "Melebihi target")) -> Dibawah target

Sheet B1a
A1: Nama KPI | B1: # | C1: Insiden Keamanan Data
A2: Periode | B2: Bulanan
A3: Polarisasi | B3: Minimal
A6: Periode | B6: Realisasi | C6: Target (100%) | D6: Treshold Min | E6: Skor | F6: Status
A7: Januari | B7: 0 | C7: 0 | D7: 1 | E7: =IF(ISBLANK(B7), 0,IF(B7<=C7, 100, IF(B7>=D7, IF(B7=D7, 80, 0), 100 - ((B7-C7)/(D7-C7) * 20)))) -> 100 | F7: =IF(ISBLANK(B7), "isi data dulu", IF(B7<=C7, "sesuai target", IF(AND(B7>C7,B7<=D7), "di dalam target", IF(B7>D7, "melebihi batas", "")))) -> sesuai target
A8: Februari | B8: 0 | C8: 0 | D8: 1 | E8: =IF(ISBLANK(B8), 0,IF(B8<=C8, 100, IF(B8>=D8, IF(B8=D8, 80, 0), 100 - ((B8-C8)/(D8-C8) * 20)))) -> 100 | F8: =IF(ISBLANK(B8), "isi data dulu", IF(B8<=C8, "sesuai target", IF(AND(B8>C8,B8<=D8), "di dalam target", IF(B8>D8, "melebihi batas", "")))) -> sesuai target
A9: Maret | B9: 0 | C9: 0 | D9: 1 | E9: =IF(ISBLANK(B9), 0,IF(B9<=C9, 100, IF(B9>=D9, IF(B9=D9, 80, 0), 100 - ((B9-C9)/(D9-C9) * 20)))) -> 100 | F9: =IF(ISBLANK(B9), "isi data dulu", IF(B9<=C9, "sesuai target", IF(AND(B9>C9,B9<=D9), "di dalam target", IF(B9>D9, "melebihi batas", "")))) -> sesuai target
A10: April | B10: 0 | C10: 0 | D10: 1 | E10: =IF(ISBLANK(B10), 0,IF(B10<=C10, 100, IF(B10>=D10, IF(B10=D10, 80, 0), 100 - ((B10-C10)/(D10-C10) * 20)))) -> 100 | F10: =IF(ISBLANK(B10), "isi data dulu", IF(B10<=C10, "sesuai target", IF(AND(B10>C10,B10<=D10), "di dalam target", IF(B10>D10, "melebihi batas", "")))) -> sesuai target
A11: Mei | B11: 0 | C11: 0 | D11: 1 | E11: =IF(ISBLANK(B11), 0,IF(B11<=C11, 100, IF(B11>=D11, IF(B11=D11, 80, 0), 100 - ((B11-C11)/(D11-C11) * 20)))) -> 100 | F11: =IF(ISBLANK(B11), "isi data dulu", IF(B11<=C11, "sesuai target", IF(AND(B11>C11,B11<=D11), "di dalam target", IF(B11>D11, "melebihi batas", "")))) -> sesuai target
A12: Juni | B12: 1 | C12: 0 | D12: 1 | E12: =IF(ISBLANK(B12), 0,IF(B12<=C12, 100, IF(B12>=D12, IF(B12=D12, 80, 0), 100 - ((B12-C12)/(D12-C12) * 20)))) -> 80 | F12: =IF(ISBLANK(B12), "isi data dulu", IF(B12<=C12, "sesuai target", IF(AND(B12>C12,B12<=D12), "di dalam target", IF(B12>D12, "melebihi batas", "")))) -> di dalam target | H12: outlet Imam Bonjol share data memakai gdrive
A13: Juli | B13: 0 | C13: 0 | D13: 1 | E13: =IF(ISBLANK(B13), 0,IF(B13<=C13, 100, IF(B13>=D13, IF(B13=D13, 80, 0), 100 - ((B13-C13)/(D13-C13) * 20)))) -> 100 | F13: =IF(ISBLANK(B13), "isi data dulu", IF(B13<=C13, "sesuai target", IF(AND(B13>C13,B13<=D13), "di dalam target", IF(B13>D13, "melebihi batas", "")))) -> sesuai target
A14: Agustus | B14: 0 | C14: 0 | D14: 1 | E14: =IF(ISBLANK(B14), 0,IF(B14<=C14, 100, IF(B14>=D14, IF(B14=D14, 80, 0), 100 - ((B14-C14)/(D14-C14) * 20)))) -> 100 | F14: =IF(ISBLANK(B14), "isi data dulu", IF(B14<=C14, "sesuai target", IF(AND(B14>C14,B14<=D14), "di dalam target", IF(B14>D14, "melebihi batas", "")))) -> sesuai target
A15: September | B15: 0 | C15: 0 | D15: 1 | E15: =IF(ISBLANK(B15), 0,IF(B15<=C15, 100, IF(B15>=D15, IF(B15=D15, 80, 0), 100 - ((B15-C15)/(D15-C15) * 20)))) -> 100 | F15: =IF(ISBLANK(B15), "isi data dulu", IF(B15<=C15, "sesuai target", IF(AND(B15>C15,B15<=D15), "di dalam target", IF(B15>D15, "melebihi batas", "")))) -> sesuai target
A16: Oktober | B16: 0 | C16: 0 | D16: 1 | E16: =IF(ISBLANK(B16), 0,IF(B16<=C16, 100, IF(B16>=D16, IF(B16=D16, 80, 0), 100 - ((B16-C16)/(D16-C16) * 20)))) -> 100 | F16: =IF(ISBLANK(B16), "isi data dulu", IF(B16<=C16, "sesuai target", IF(AND(B16>C16,B16<=D16), "di dalam target", IF(B16>D16, "melebihi batas", "")))) -> sesuai target
A17: November | C17: 0 | D17: 1 | E17: =IF(ISBLANK(B17), 0,IF(B17<=C17, 100, IF(B17>=D17, IF(B17=D17, 80, 0), 100 - ((B17-C17)/(D17-C17) * 20)))) -> 0 | F17: =IF(ISBLANK(B17), "isi data dulu", IF(B17<=C17, "sesuai target", IF(AND(B17>C17,B17<=D17), "di dalam target", IF(B17>D17, "melebihi batas", "")))) -> isi data dulu
A18: Desember | C18: 0 | D18: 1 | E18: =IF(ISBLANK(B18), 0,IF(B18<=C18, 100, IF(B18>=D18, IF(B18=D18, 80, 0), 100 - ((B18-C18)/(D18-C18) * 20)))) -> 0 | F18: =IF(ISBLANK(B18), "isi data dulu", IF(B18<=C18, "sesuai target", IF(AND(B18>C18,B18<=D18), "di dalam target", IF(B18>D18, "melebihi batas", "")))) -> isi data dulu
A19: Total | B19: =SUM(B7:B18) -> 1 | C19: =SUM(C7:C18) -> 0 | D19: =SUM(D7:D18) -> 12 | E19: =IF(B19<=C19, 100, IF(B19>=D19, IF(B19=D19, 80, 0), 100 - ((B19-C19)/(D19-C19) * 20))) -> 98.333333 | F19: =IF(B19<=C19, "sesuai target", IF(AND(B19>C19, B19<=D19), "di dalam target", IF(B19>D19, "melebihi batas", ""))) -> di dalam target

Sheet B1b
A1: Nama KPI | B1: # | C1: Kecelakaan Kerja
A2: Periode | B2: Bulanan
A3: Polarisasi | B3: Minimal
A6: Periode | B6: Realisasi | C6: Target (100%) | D6: Treshold Min | E6: Skor | F6: Status
A7: Januari | B7: 0 | C7: 0 | D7: 1 | E7: =IF(ISBLANK(B7), 0,IF(B7<=C7, 100, IF(B7>=D7, IF(B7=D7, 80, 0), 100 - ((B7-C7)/(D7-C7) * 20)))) -> 100 | F7: =IF(ISBLANK(B7), "isi data dulu", IF(B7<=C7, "sesuai target", IF(AND(B7>C7,B7<=D7), "di dalam target", IF(B7>D7, "melebihi batas", "")))) -> sesuai target
A8: Februari | B8: 0 | C8: 0 | D8: 1 | E8: =IF(ISBLANK(B8), 0,IF(B8<=C8, 100, IF(B8>=D8, IF(B8=D8, 80, 0), 100 - ((B8-C8)/(D8-C8) * 20)))) -> 100 | F8: =IF(ISBLANK(B8), "isi data dulu", IF(B8<=C8, "sesuai target", IF(AND(B8>C8,B8<=D8), "di dalam target", IF(B8>D8, "melebihi batas", "")))) -> sesuai target
A9: Maret | B9: 0 | C9: 0 | D9: 1 | E9: =IF(ISBLANK(B9), 0,IF(B9<=C9, 100, IF(B9>=D9, IF(B9=D9, 80, 0), 100 - ((B9-C9)/(D9-C9) * 20)))) -> 100 | F9: =IF(ISBLANK(B9), "isi data dulu", IF(B9<=C9, "sesuai target", IF(AND(B9>C9,B9<=D9), "di dalam target", IF(B9>D9, "melebihi batas", "")))) -> sesuai target
A10: April | B10: 1 | C10: 0 | D10: 1 | E10: =IF(ISBLANK(B10), 0,IF(B10<=C10, 100, IF(B10>=D10, IF(B10=D10, 80, 0), 100 - ((B10-C10)/(D10-C10) * 20)))) -> 80 | F10: =IF(ISBLANK(B10), "isi data dulu", IF(B10<=C10, "sesuai target", IF(AND(B10>C10,B10<=D10), "di dalam target", IF(B10>D10, "melebihi batas", "")))) -> di dalam target
A11: Mei | B11: 0 | C11: 0 | D11: 1 | E11: =IF(ISBLANK(B11), 0,IF(B11<=C11, 100, IF(B11>=D11, IF(B11=D11, 80, 0), 100 - ((B11-C11)/(D11-C11) * 20)))) -> 100 | F11: =IF(ISBLANK(B11), "isi data dulu", IF(B11<=C11, "sesuai target", IF(AND(B11>C11,B11<=D11), "di dalam target", IF(B11>D11, "melebihi batas", "")))) -> sesuai target
A12: Juni | B12: 0 | C12: 0 | D12: 1 | E12: =IF(ISBLANK(B12), 0,IF(B12<=C12, 100, IF(B12>=D12, IF(B12=D12, 80, 0), 100 - ((B12-C12)/(D12-C12) * 20)))) -> 100 | F12: =IF(ISBLANK(B12), "isi data dulu", IF(B12<=C12, "sesuai target", IF(AND(B12>C12,B12<=D12), "di dalam target", IF(B12>D12, "melebihi batas", "")))) -> sesuai target
A13: Juli | B13: 0 | C13: 0 | D13: 1 | E13: =IF(ISBLANK(B13), 0,IF(B13<=C13, 100, IF(B13>=D13, IF(B13=D13, 80, 0), 100 - ((B13-C13)/(D13-C13) * 20)))) -> 100 | F13: =IF(ISBLANK(B13), "isi data dulu", IF(B13<=C13, "sesuai target", IF(AND(B13>C13,B13<=D13), "di dalam target", IF(B13>D13, "melebihi batas", "")))) -> sesuai target
A14: Agustus | B14: 0 | C14: 0 | D14: 1 | E14: =IF(ISBLANK(B14), 0,IF(B14<=C14, 100, IF(B14>=D14, IF(B14=D14, 80, 0), 100 - ((B14-C14)/(D14-C14) * 20)))) -> 100 | F14: =IF(ISBLANK(B14), "isi data dulu", IF(B14<=C14, "sesuai target", IF(AND(B14>C14,B14<=D14), "di dalam target", IF(B14>D14, "melebihi batas", "")))) -> sesuai target
A15: September | B15: 0 | C15: 0 | D15: 1 | E15: =IF(ISBLANK(B15), 0,IF(B15<=C15, 100, IF(B15>=D15, IF(B15=D15, 80, 0), 100 - ((B15-C15)/(D15-C15) * 20)))) -> 100 | F15: =IF(ISBLANK(B15), "isi data dulu", IF(B15<=C15, "sesuai target", IF(AND(B15>C15,B15<=D15), "di dalam target", IF(B15>D15, "melebihi batas", "")))) -> sesuai target
A16: Oktober | B16: 0 | C16: 0 | D16: 1 | E16: =IF(ISBLANK(B16), 0,IF(B16<=C16, 100, IF(B16>=D16, IF(B16=D16, 80, 0), 100 - ((B16-C16)/(D16-C16) * 20)))) -> 100 | F16: =IF(ISBLANK(B16), "isi data dulu", IF(B16<=C16, "sesuai target", IF(AND(B16>C16,B16<=D16), "di dalam target", IF(B16>D16, "melebihi batas", "")))) -> sesuai target
A17: November | C17: 0 | D17: 1 | E17: =IF(ISBLANK(B17), 0,IF(B17<=C17, 100, IF(B17>=D17, IF(B17=D17, 80, 0), 100 - ((B17-C17)/(D17-C17) * 20)))) -> 0 | F17: =IF(ISBLANK(B17), "isi data dulu", IF(B17<=C17, "sesuai target", IF(AND(B17>C17,B17<=D17), "di dalam target", IF(B17>D17, "melebihi batas", "")))) -> isi data dulu
A18: Desember | C18: 0 | D18: 1 | E18: =IF(ISBLANK(B18), 0,IF(B18<=C18, 100, IF(B18>=D18, IF(B18=D18, 80, 0), 100 - ((B18-C18)/(D18-C18) * 20)))) -> 0 | F18: =IF(ISBLANK(B18), "isi data dulu", IF(B18<=C18, "sesuai target", IF(AND(B18>C18,B18<=D18), "di dalam target", IF(B18>D18, "melebihi batas", "")))) -> isi data dulu
A19: Total | B19: =SUM(B7:B18) -> 1 | C19: =SUM(C7:C18) -> 0 | D19: =SUM(D7:D18) -> 12 | E19: =IF(B19<=C19, 100, IF(B19>=D19, IF(B19=D19, 80, 0), 100 - ((B19-C19)/(D19-C19) * 20))) -> 98.333333 | F19: =IF(B19<=C19, "sesuai target", IF(AND(B19>C19, B19<=D19), "di dalam target", IF(B19>D19, "melebihi batas", ""))) -> di dalam target

Sheet B1c
A1: Nama KPI | B1: # | C1: Rata-rata waktu penyelesaian Tiket IT
A2: Periode | B2: Bulanan
A3: Polarisasi | B3: Minimal
A6: Periode | B6: Realisasi | C6: Target (100%) | D6: Treshold Min | E6: Skor | F6: Status
A7: Januari | B7: 25.7 | C7: 8 | D7: 24 | E7: =IF(ISBLANK(B7), 0,IF(B7<=C7, 100, IF(B7>=D7, IF(B7=D7, 80, 0), 100 - ((B7-C7)/(D7-C7) * 20)))) -> 0 | F7: =IF(ISBLANK(B7), "isi data dulu", IF(B7<=C7, "sesuai target", IF(AND(B7>C7,B7<=D7), "di dalam target", IF(B7>D7, "melebihi batas", "")))) -> melebihi batas
A8: Februari | B8: 9.25 | C8: 8 | D8: 24 | E8: =IF(ISBLANK(B8), 0,IF(B8<=C8, 100, IF(B8>=D8, IF(B8=D8, 80, 0), 100 - ((B8-C8)/(D8-C8) * 20)))) -> 98.4375 | F8: =IF(ISBLANK(B8), "isi data dulu", IF(B8<=C8, "sesuai target", IF(AND(B8>C8,B8<=D8), "di dalam target", IF(B8>D8, "melebihi batas", "")))) -> di dalam target
A9: Maret | B9: 7.52 | C9: 8 | D9: 24 | E9: =IF(ISBLANK(B9), 0,IF(B9<=C9, 100, IF(B9>=D9, IF(B9=D9, 80, 0), 100 - ((B9-C9)/(D9-C9) * 20)))) -> 100 | F9: =IF(ISBLANK(B9), "isi data dulu", IF(B9<=C9, "sesuai target", IF(AND(B9>C9,B9<=D9), "di dalam target", IF(B9>D9, "melebihi batas", "")))) -> sesuai target
A10: April | B10: 2.93 | C10: 8 | D10: 24 | E10: =IF(ISBLANK(B10), 0,IF(B10<=C10, 100, IF(B10>=D10, IF(B10=D10, 80, 0), 100 - ((B10-C10)/(D10-C10) * 20)))) -> 100 | F10: =IF(ISBLANK(B10), "isi data dulu", IF(B10<=C10, "sesuai target", IF(AND(B10>C10,B10<=D10), "di dalam target", IF(B10>D10, "melebihi batas", "")))) -> sesuai target
A11: Mei | B11: 5.75 | C11: 8 | D11: 24 | E11: =IF(ISBLANK(B11), 0,IF(B11<=C11, 100, IF(B11>=D11, IF(B11=D11, 80, 0), 100 - ((B11-C11)/(D11-C11) * 20)))) -> 100 | F11: =IF(ISBLANK(B11), "isi data dulu", IF(B11<=C11, "sesuai target", IF(AND(B11>C11,B11<=D11), "di dalam target", IF(B11>D11, "melebihi batas", "")))) -> sesuai target
A12: Juni | B12: 4.92 | C12: 8 | D12: 24 | E12: =IF(ISBLANK(B12), 0,IF(B12<=C12, 100, IF(B12>=D12, IF(B12=D12, 80, 0), 100 - ((B12-C12)/(D12-C12) * 20)))) -> 100 | F12: =IF(ISBLANK(B12), "isi data dulu", IF(B12<=C12, "sesuai target", IF(AND(B12>C12,B12<=D12), "di dalam target", IF(B12>D12, "melebihi batas", "")))) -> sesuai target
A13: Juli | B13: 7.46 | C13: 8 | D13: 24 | E13: =IF(ISBLANK(B13), 0,IF(B13<=C13, 100, IF(B13>=D13, IF(B13=D13, 80, 0), 100 - ((B13-C13)/(D13-C13) * 20)))) -> 100 | F13: =IF(ISBLANK(B13), "isi data dulu", IF(B13<=C13, "sesuai target", IF(AND(B13>C13,B13<=D13), "di dalam target", IF(B13>D13, "melebihi batas", "")))) -> sesuai target
A14: Agustus | B14: 6.2 | C14: 8 | D14: 24 | E14: =IF(ISBLANK(B14), 0,IF(B14<=C14, 100, IF(B14>=D14, IF(B14=D14, 80, 0), 100 - ((B14-C14)/(D14-C14) * 20)))) -> 100 | F14: =IF(ISBLANK(B14), "isi data dulu", IF(B14<=C14, "sesuai target", IF(AND(B14>C14,B14<=D14), "di dalam target", IF(B14>D14, "melebihi batas", "")))) -> sesuai target
A15: September | B15: 10.86 | C15: 8 | D15: 24 | E15: =IF(ISBLANK(B15), 0,IF(B15<=C15, 100, IF(B15>=D15, IF(B15=D15, 80, 0), 100 - ((B15-C15)/(D15-C15) * 20)))) -> 96.425 | F15: =IF(ISBLANK(B15), "isi data dulu", IF(B15<=C15, "sesuai target", IF(AND(B15>C15,B15<=D15), "di dalam target", IF(B15>D15, "melebihi batas", "")))) -> di dalam target
A16: Oktober | B16: 11.1 | C16: 8 | D16: 24 | E16: =IF(ISBLANK(B16), 0,IF(B16<=C16, 100, IF(B16>=D16, IF(B16=D16, 80, 0), 100 - ((B16-C16)/(D16-C16) * 20)))) -> 96.125 | F16: =IF(ISBLANK(B16), "isi data dulu", IF(B16<=C16, "sesuai target", IF(AND(B16>C16,B16<=D16), "di dalam target", IF(B16>D16, "melebihi batas", "")))) -> di dalam target
A17: November | D17: 24 | E17: =IF(ISBLANK(B17), 0,IF(B17<=C17, 100, IF(B17>=D17, IF(B17=D17, 80, 0), 100 - ((B17-C17)/(D17-C17) * 20)))) -> 0 | F17: =IF(ISBLANK(B17), "isi data dulu", IF(B17<=C17, "sesuai target", IF(AND(B17>C17,B17<=D17), "di dalam target", IF(B17>D17, "melebihi batas", "")))) -> isi data dulu
A18: Desember | D18: 24 | E18: =IF(ISBLANK(B18), 0,IF(B18<=C18, 100, IF(B18>=D18, IF(B18=D18, 80, 0), 100 - ((B18-C18)/(D18-C18) * 20)))) -> 0 | F18: =IF(ISBLANK(B18), "isi data dulu", IF(B18<=C18, "sesuai target", IF(AND(B18>C18,B18<=D18), "di dalam target", IF(B18>D18, "melebihi batas", "")))) -> isi data dulu
A19: Total | B19: =SUM(B7:B18) -> 91.69 | C19: =SUM(C7:C18) -> 80 | D19: =SUM(D7:D18) -> 288 | E19: =IF(B19<=C19, 100, IF(B19>=D19, IF(B19=D19, 80, 0), 100 - ((B19-C19)/(D19-C19) * 20))) -> 98.875962 | F19: =IF(B19<=C19, "sesuai target", IF(AND(B19>C19, B19<=D19), "di dalam target", IF(B19>D19, "melebihi batas", ""))) -> di dalam target

Sheet B1d
A1: Nama KPI | B1: # | C1: Kasus downtime server
A2: Periode | B2: Bulanan
A3: Polarisasi | B3: Minimal
A6: Periode | B6: Realisasi | C6: Target (100%) | D6: Treshold Min | E6: Skor | F6: Status
A7: Januari | B7: 0 | C7: 1 | D7: 2 | E7: =IF(ISBLANK(B7), 0,IF(B7<=C7, 100, IF(B7>=D7, IF(B7=D7, 80, 0), 100 - ((B7-C7)/(D7-C7) * 20)))) -> 100 | F7: =IF(ISBLANK(B7), "isi data dulu", IF(B7<=C7, "sesuai target", IF(AND(B7>C7,B7<=D7), "di dalam target", IF(B7>D7, "melebihi batas", "")))) -> sesuai target
A8: Februari | B8: 0 | C8: 1 | D8: 2 | E8: =IF(ISBLANK(B8), 0,IF(B8<=C8, 100, IF(B8>=D8, IF(B8=D8, 80, 0), 100 - ((B8-C8)/(D8-C8) * 20)))) -> 100 | F8: =IF(ISBLANK(B8), "isi data dulu", IF(B8<=C8, "sesuai target", IF(AND(B8>C8,B8<=D8), "di dalam target", IF(B8>D8, "melebihi batas", "")))) -> sesuai target
A9: Maret | B9: 0 | C9: 1 | D9: 2 | E9: =IF(ISBLANK(B9), 0,IF(B9<=C9, 100, IF(B9>=D9, IF(B9=D9, 80, 0), 100 - ((B9-C9)/(D9-C9) * 20)))) -> 100 | F9: =IF(ISBLANK(B9), "isi data dulu", IF(B9<=C9, "sesuai target", IF(AND(B9>C9,B9<=D9), "di dalam target", IF(B9>D9, "melebihi batas", "")))) -> sesuai target
A10: April | B10: 0 | C10: 1 | D10: 2 | E10: =IF(ISBLANK(B10), 0,IF(B10<=C10, 100, IF(B10>=D10, IF(B10=D10, 80, 0), 100 - ((B10-C10)/(D10-C10) * 20)))) -> 100 | F10: =IF(ISBLANK(B10), "isi data dulu", IF(B10<=C10, "sesuai target", IF(AND(B10>C10,B10<=D10), "di dalam target", IF(B10>D10, "melebihi batas", "")))) -> sesuai target
A11: Mei | B11: 0 | C11: 1 | D11: 2 | E11: =IF(ISBLANK(B11), 0,IF(B11<=C11, 100, IF(B11>=D11, IF(B11=D11, 80, 0), 100 - ((B11-C11)/(D11-C11) * 20)))) -> 100 | F11: =IF(ISBLANK(B11), "isi data dulu", IF(B11<=C11, "sesuai target", IF(AND(B11>C11,B11<=D11), "di dalam target", IF(B11>D11, "melebihi batas", "")))) -> sesuai target
A12: Juni | B12: 1 | C12: 1 | D12: 2 | E12: =IF(ISBLANK(B12), 0,IF(B12<=C12, 100, IF(B12>=D12, IF(B12=D12, 80, 0), 100 - ((B12-C12)/(D12-C12) * 20)))) -> 100 | F12: =IF(ISBLANK(B12), "isi data dulu", IF(B12<=C12, "sesuai target", IF(AND(B12>C12,B12<=D12), "di dalam target", IF(B12>D12, "melebihi batas", "")))) -> sesuai target | H12: akan dilakukan pemindahan server Caddy agar tidak gabung dengan NC
A13: Juli | B13: 0 | C13: 1 | D13: 2 | E13: =IF(ISBLANK(B13), 0,IF(B13<=C13, 100, IF(B13>=D13, IF(B13=D13, 80, 0), 100 - ((B13-C13)/(D13-C13) * 20)))) -> 100 | F13: =IF(ISBLANK(B13), "isi data dulu", IF(B13<=C13, "sesuai target", IF(AND(B13>C13,B13<=D13), "di dalam target", IF(B13>D13, "melebihi batas", "")))) -> sesuai target
A14: Agustus | B14: 0 | C14: 1 | D14: 2 | E14: =IF(ISBLANK(B14), 0,IF(B14<=C14, 100, IF(B14>=D14, IF(B14=D14, 80, 0), 100 - ((B14-C14)/(D14-C14) * 20)))) -> 100 | F14: =IF(ISBLANK(B14), "isi data dulu", IF(B14<=C14, "sesuai target", IF(AND(B14>C14,B14<=D14), "di dalam target", IF(B14>D14, "melebihi batas", "")))) -> sesuai target
A15: September | B15: 0 | C15: 1 | D15: 2 | E15: =IF(ISBLANK(B15), 0,IF(B15<=C15, 100, IF(B15>=D15, IF(B15=D15, 80, 0), 100 - ((B15-C15)/(D15-C15) * 20)))) -> 100 | F15: =IF(ISBLANK(B15), "isi data dulu", IF(B15<=C15, "sesuai target", IF(AND(B15>C15,B15<=D15), "di dalam target", IF(B15>D15, "melebihi batas", "")))) -> sesuai target
A16: Oktober | B16: 0 | C16: 1 | D16: 2 | E16: =IF(ISBLANK(B16), 0,IF(B16<=C16, 100, IF(B16>=D16, IF(B16=D16, 80, 0), 100 - ((B16-C16)/(D16-C16) * 20)))) -> 100 | F16: =IF(ISBLANK(B16), "isi data dulu", IF(B16<=C16, "sesuai target", IF(AND(B16>C16,B16<=D16), "di dalam target", IF(B16>D16, "melebihi batas", "")))) -> sesuai target
A17: November | C17: 1 | D17: 2 | E17: =IF(ISBLANK(B17), 0,IF(B17<=C17, 100, IF(B17>=D17, IF(B17=D17, 80, 0), 100 - ((B17-C17)/(D17-C17) * 20)))) -> 0 | F17: =IF(ISBLANK(B17), "isi data dulu", IF(B17<=C17, "sesuai target", IF(AND(B17>C17,B17<=D17), "di dalam target", IF(B17>D17, "melebihi batas", "")))) -> isi data dulu
A18: Desember | C18: 1 | D18: 2 | E18: =IF(ISBLANK(B18), 0,IF(B18<=C18, 100, IF(B18>=D18, IF(B18=D18, 80, 0), 100 - ((B18-C18)/(D18-C18) * 20)))) -> 0 | F18: =IF(ISBLANK(B18), "isi data dulu", IF(B18<=C18, "sesuai target", IF(AND(B18>C18,B18<=D18), "di dalam target", IF(B18>D18, "melebihi batas", "")))) -> isi data dulu
A19: Total | B19: =SUM(B7:B18) -> 1 | C19: =SUM(C7:C18) -> 12 | D19: =SUM(D7:D18) -> 24 | E19: =IF(B19<=C19, 100, IF(B19>=D19, IF(B19=D19, 80, 0), 100 - ((B19-C19)/(D19-C19) * 20))) -> 100 | F19: =IF(B19<=C19, "sesuai target", IF(AND(B19>C19, B19<=D19), "di dalam target", IF(B19>D19, "melebihi batas", ""))) -> sesuai target

Sheet B1e
A1: Nama KPI | B1: # | C1: Temuan Audit Eksternal
A2: Periode | B2: Project/ Event
A3: Polarisasi | B3: Minimal
A6: Periode | B6: Realisasi | C6: Target (100%) | D6: Treshold Min | E6: Skor | F6: Status
A7: Semester 1 | B7: 0 | C7: 3 | D7: 5 | E7: =IF(ISBLANK(B7), 0,IF(B7<=C7, 100, IF(B7>=D7, IF(B7=D7, 80, 0), 100 - ((B7-C7)/(D7-C7) * 20)))) -> 100 | F7: =IF(ISBLANK(B7), "isi data dulu", IF(B7<=C7, "sesuai target", IF(AND(B7>C7,B7<=D7), "di dalam target", IF(B7>D7, "melebihi batas", "")))) -> sesuai target
A8: Semester 2 | B8: 0 | C8: 3 | D8: 5 | E8: =IF(ISBLANK(B8), 0,IF(B8<=C8, 100, IF(B8>=D8, IF(B8=D8, 80, 0), 100 - ((B8-C8)/(D8-C8) * 20)))) -> 100 | F8: =IF(ISBLANK(B8), "isi data dulu", IF(B8<=C8, "sesuai target", IF(AND(B8>C8,B8<=D8), "di dalam target", IF(B8>D8, "melebihi batas", "")))) -> sesuai target
A9: Total | B9: =SUM(B7:B8) -> 0 | C9: =SUM(C7:C8) -> 6 | D9: =SUM(D7:D8) -> 10 | E9: =IF(B9<=C9, 100, IF(B9>=D9, IF(B9=D9, 80, 0), 100 - ((B9-C9)/(D9-C9) * 20))) -> 100 | F9: =IF(B9<=C9, "sesuai target", IF(AND(B9>C9, B9<=D9), "di dalam target", IF(B9>D9, "melebihi batas", ""))) -> sesuai target

Sheet B1f
A1: Nama KPI | B1: # | C1: Temuan audit internal kritis
A2: Periode | B2: Quarter (3bln)
A3: Polarisasi | B3: Minimal
A6: Periode | B6: Realisasi | C6: Target (100%) | D6: Treshold Min | E6: Skor | F6: Status
A7: Kuarter 1 | B7: 0 | C7: 0 | D7: 1 | E7: =IF(ISBLANK(B7), 0,IF(B7<=C7, 100, IF(B7>=D7, IF(B7=D7, 80, 0), 100 - ((B7-C7)/(D7-C7) * 20)))) -> 100 | F7: =IF(ISBLANK(B7), "isi data dulu", IF(B7<=C7, "sesuai target", IF(AND(B7>C7,B7<=D7), "di dalam target", IF(B7>D7, "melebihi batas", "")))) -> sesuai target
A8: Kuarter 2 | B8: 0 | C8: 0 | D8: 1 | E8: =IF(ISBLANK(B8), 0,IF(B8<=C8, 100, IF(B8>=D8, IF(B8=D8, 80, 0), 100 - ((B8-C8)/(D8-C8) * 20)))) -> 100 | F8: =IF(ISBLANK(B8), "isi data dulu", IF(B8<=C8, "sesuai target", IF(AND(B8>C8,B8<=D8), "di dalam target", IF(B8>D8, "melebihi batas", "")))) -> sesuai target
A9: Kuarter 3 | B9: 0 | C9: 0 | D9: 1 | E9: =IF(ISBLANK(B9), 0,IF(B9<=C9, 100, IF(B9>=D9, IF(B9=D9, 80, 0), 100 - ((B9-C9)/(D9-C9) * 20)))) -> 100 | F9: =IF(ISBLANK(B9), "isi data dulu", IF(B9<=C9, "sesuai target", IF(AND(B9>C9,B9<=D9), "di dalam target", IF(B9>D9, "melebihi batas", "")))) -> sesuai target
A10: Kuarter 4 | B10: 0 | C10: 0 | D10: 1 | E10: =IF(ISBLANK(B10), 0,IF(B10<=C10, 100, IF(B10>=D10, IF(B10=D10, 80, 0), 100 - ((B10-C10)/(D10-C10) * 20)))) -> 100 | F10: =IF(ISBLANK(B10), "isi data dulu", IF(B10<=C10, "sesuai target", IF(AND(B10>C10,B10<=D10), "di dalam target", IF(B10>D10, "melebihi batas", "")))) -> sesuai target
A11: Total | B11: =SUM(B7:B10) -> 0 | C11: =SUM(C7:C10) -> 0 | D11: =SUM(D7:D10) -> 4 | E11: =IF(B11<=C11, 100, IF(B11>=D11, IF(B11=D11, 80, 0), 100 - ((B11-C11)/(D11-C11) * 20))) -> 100 | F11: =IF(B11<=C11, "sesuai target", IF(AND(B11>C11, B11<=D11), "di dalam target", IF(B11>D11, "melebihi batas", ""))) -> sesuai target

Sheet B2a
A1: Nama KPI | B1: % | C1: Inovasi Terimplementasi | E1: Yo: ini masuk ke Open Project aja atau dihitung nilai rupiah projectnya
A2: Periode | B2: Project/ Event
A3: Polarisasi | B3: Maksimal
A6: Periode | B6: Achievement | C6: Realisasi | D6: Target (100%) | E6: Treshold Min | F6: Skor | G6: Status
A7: Odoo ERP Manufacture, Outlet, HO | B7: 75 | C7: 10 | D7: 100 | E7: 90 | F7: =C7/D7*100 -> 10 | G7: =IF(C7>D7, "Melebihi target", IF(AND(C7>=E7, C7<=D7), "Di dalam target", "Dibawah target")) -> Dibawah target
C9: realisasi = terhadap kumulative

Sheet L1a
A1: Nama KPI | B1: # | C1: Talent Readiness
A2: Periode | B2: Quarter (3bln)
A3: Polarisasi | B3: Maksimal
A6: Periode | B6: Achievement | C6: Realisasi | D6: Target (100%) | E6: Treshold Min | F6: Skor | G6: Status
A7: Quarter 1 | B7: 1 | C7: =B7 -> 1 | D7: 3 | E7: 1 | F7: =C7/D7*100 -> 33.333333 | G7: =IF(ISBLANK(B7), "isi data dulu",IF(C7>D7, "Melebihi target", IF(AND(C7>=E7, C7<=D7), "Di dalam target", "Dibawah target"))) -> Di dalam target
A8: Quarter 2 | B8: 1 | C8: 1 | D8: 3 | E8: 1 | F8: =C8/D8*100 -> 33.333333 | G8: =IF(ISBLANK(B8), "isi data dulu",IF(C8>D8, "Melebihi target", IF(AND(C8>=E8, C8<=D8), "Di dalam target", "Dibawah target"))) -> Di dalam target
A9: Quarter 3 | B9: 1 | C9: 1 | D9: 3 | E9: 1 | F9: =C9/D9*100 -> 33.333333 | G9: =IF(ISBLANK(B9), "isi data dulu",IF(C9>D9, "Melebihi target", IF(AND(C9>=E9, C9<=D9), "Di dalam target", "Dibawah target"))) -> Di dalam target
A10: Quarter 4 | B10: 1 | C10: 1 | D10: 3 | E10: 1 | F10: =C10/D10*100 -> 33.333333 | G10: =IF(ISBLANK(B10), "isi data dulu",IF(C10>D10, "Melebihi target", IF(AND(C10>=E10, C10<=D10), "Di dalam target", "Dibawah target"))) -> Di dalam target

Sheet L1b
A1: Nama KPI | B1: % | C1: Karyawan resign dalam 4-6 bulan sejak OJT
A2: Periode | B2: Semester
A3: Polarisasi | B3: Minimal
A6: Periode | B6: Realisasi | C6: Target (100%) | D6: Treshold Min | E6: Skor | F6: Status
A7: Semester 1 | B7: 0 | C7: 3 | D7: 5 | E7: =IF(ISBLANK(B7), 0,IF(B7<=C7, 100, IF(B7>=D7, IF(B7=D7, 80, 0), 100 - ((B7-C7)/(D7-C7) * 20)))) -> 100 | F7: =IF(ISBLANK(B7), "isi data dulu", IF(B7<=C7, "sesuai target", IF(AND(B7>C7,B7<=D7), "di dalam target", IF(B7>D7, "melebihi batas", "")))) -> sesuai target
A8: Semester 2 | B8: 0 | C8: 3 | D8: 5 | E8: =IF(ISBLANK(B8), 0,IF(B8<=C8, 100, IF(B8>=D8, IF(B8=D8, 80, 0), 100 - ((B8-C8)/(D8-C8) * 20)))) -> 100 | F8: =IF(ISBLANK(B8), "isi data dulu", IF(B8<=C8, "sesuai target", IF(AND(B8>C8,B8<=D8), "di dalam target", IF(B8>D8, "melebihi batas", "")))) -> sesuai target
A9: Total | B9: =SUM(B7:B8) -> 0 | C9: =SUM(C7:C8) -> 6 | D9: =SUM(D7:D8) -> 10 | E9: =IF(B9<=C9, 100, IF(B9>=D9, IF(B9=D9, 80, 0), 100 - ((B9-C9)/(D9-C9) * 20))) -> 100 | F9: =IF(B9<=C9, "sesuai target", IF(AND(B9>C9, B9<=D9), "di dalam target", IF(B9>D9, "melebihi batas", ""))) -> sesuai target

Sheet L2a
A1: Nama KPI | B1: # | C1: Rata-rata jam learning karyawan
A2: Periode | B2: Bulanan
A3: Polarisasi | B3: Maksimal
A6: Periode | B6: Realisasi | C6: Target (100%) | D6: Treshold Min | E6: Skor | F6: Status | G6: Keterangan
A7: Januari | B7: 36.5 | C7: 3 | D7: 2 | E7: =IF(ISBLANK(B7), 0,IF(B7<D7, 0, IF(B7=D7, 80, IF(B7=C7, 100, IF(B7<C7, 80 + (B7-D7)/(C7-D7)*(100-80), 100 + (B7-C7)/(C7-D7)*(100-80)))))) -> 770 | F7: =IF(ISBLANK(B7), "isi data dulu",IF(B7 < D7, "Dibawah target", IF(B7 <= C7, "Di dalam target", "Melebihi target"))) -> Melebihi target
A8: Februari | B8: 21 | C8: 3 | D8: 2 | E8: =IF(ISBLANK(B8), 0,IF(B8<D8, 0, IF(B8=D8, 80, IF(B8=C8, 100, IF(B8<C8, 80 + (B8-D8)/(C8-D8)*(100-80), 100 + (B8-C8)/(C8-D8)*(100-80)))))) -> 460 | F8: =IF(ISBLANK(B8), "isi data dulu",IF(B8 < D8, "Dibawah target", IF(B8 <= C8, "Di dalam target", "Melebihi target"))) -> Melebihi target
A9: Maret | B9: 11 | C9: 3 | D9: 2 | E9: =IF(ISBLANK(B9), 0,IF(B9<D9, 0, IF(B9=D9, 80, IF(B9=C9, 100, IF(B9<C9, 80 + (B9-D9)/(C9-D9)*(100-80), 100 + (B9-C9)/(C9-D9)*(100-80)))))) -> 260 | F9: =IF(ISBLANK(B9), "isi data dulu",IF(B9 < D9, "Dibawah target", IF(B9 <= C9, "Di dalam target", "Melebihi target"))) -> Melebihi target
A10: April | B10: 5.72 | C10: 3 | D10: 2 | E10: =IF(ISBLANK(B10), 0,IF(B10<D10, 0, IF(B10=D10, 80, IF(B10=C10, 100, IF(B10<C10, 80 + (B10-D10)/(C10-D10)*(100-80), 100 + (B10-C10)/(C10-D10)*(100-80)))))) -> 154.4 | F10: =IF(ISBLANK(B10), "isi data dulu",IF(B10 < D10, "Dibawah target", IF(B10 <= C10, "Di dalam target", "Melebihi target"))) -> Melebihi target
A11: Mei | B11: 34.08 | C11: 3 | D11: 2 | E11: =IF(ISBLANK(B11), 0,IF(B11<D11, 0, IF(B11=D11, 80, IF(B11=C11, 100, IF(B11<C11, 80 + (B11-D11)/(C11-D11)*(100-80), 100 + (B11-C11)/(C11-D11)*(100-80)))))) -> 721.6 | F11: =IF(ISBLANK(B11), "isi data dulu",IF(B11 < D11, "Dibawah target", IF(B11 <= C11, "Di dalam target", "Melebihi target"))) -> Melebihi target
A12: Juni | B12: 7.5 | C12: 3 | D12: 2 | E12: =IF(ISBLANK(B12), 0,IF(B12<D12, 0, IF(B12=D12, 80, IF(B12=C12, 100, IF(B12<C12, 80 + (B12-D12)/(C12-D12)*(100-80), 100 + (B12-C12)/(C12-D12)*(100-80)))))) -> 190 | F12: =IF(ISBLANK(B12), "isi data dulu",IF(B12 < D12, "Dibawah target", IF(B12 <= C12, "Di dalam target", "Melebihi target"))) -> Melebihi target
A13: Juli | B13: 28.8 | C13: 3 | D13: 2 | E13: =IF(ISBLANK(B13), 0,IF(B13<D13, 0, IF(B13=D13, 80, IF(B13=C13, 100, IF(B13<C13, 80 + (B13-D13)/(C13-D13)*(100-80), 100 + (B13-C13)/(C13-D13)*(100-80)))))) -> 616 | F13: =IF(ISBLANK(B13), "isi data dulu",IF(B13 < D13, "Dibawah target", IF(B13 <= C13, "Di dalam target", "Melebihi target"))) -> Melebihi target
A14: Agustus | B14: 46.2 | C14: 3 | D14: 2 | E14: =IF(ISBLANK(B14), 0,IF(B14<D14, 0, IF(B14=D14, 80, IF(B14=C14, 100, IF(B14<C14, 80 + (B14-D14)/(C14-D14)*(100-80), 100 + (B14-C14)/(C14-D14)*(100-80)))))) -> 964 | F14: =IF(ISBLANK(B14), "isi data dulu",IF(B14 < D14, "Dibawah target", IF(B14 <= C14, "Di dalam target", "Melebihi target"))) -> Melebihi target
A15: September | B15: 28 | C15: 3 | D15: 2 | E15: =IF(ISBLANK(B15), 0,IF(B15<D15, 0, IF(B15=D15, 80, IF(B15=C15, 100, IF(B15<C15, 80 + (B15-D15)/(C15-D15)*(100-80), 100 + (B15-C15)/(C15-D15)*(100-80)))))) -> 600 | F15: =IF(ISBLANK(B15), "isi data dulu",IF(B15 < D15, "Dibawah target", IF(B15 <= C15, "Di dalam target", "Melebihi target"))) -> Melebihi target
A16: Oktober | B16: 27 | C16: 3 | D16: 2 | E16: =IF(ISBLANK(B16), 0,IF(B16<D16, 0, IF(B16=D16, 80, IF(B16=C16, 100, IF(B16<C16, 80 + (B16-D16)/(C16-D16)*(100-80), 100 + (B16-C16)/(C16-D16)*(100-80)))))) -> 580 | F16: =IF(ISBLANK(B16), "isi data dulu",IF(B16 < D16, "Dibawah target", IF(B16 <= C16, "Di dalam target", "Melebihi target"))) -> Melebihi target
A17: November | E17: =IF(ISBLANK(B17), 0,IF(B17<D17, 0, IF(B17=D17, 80, IF(B17=C17, 100, IF(B17<C17, 80 + (B17-D17)/(C17-D17)*(100-80), 100 + (B17-C17)/(C17-D17)*(100-80)))))) -> 0 | F17: =IF(ISBLANK(B17), "isi data dulu",IF(B17 < D17, "Dibawah target", IF(B17 <= C17, "Di dalam target", "Melebihi target"))) -> isi data dulu
A18: Desember | E18: =IF(ISBLANK(B18), 0,IF(B18<D18, 0, IF(B18=D18, 80, IF(B18=C18, 100, IF(B18<C18, 80 + (B18-D18)/(C18-D18)*(100-80), 100 + (B18-C18)/(C18-D18)*(100-80)))))) -> 0 | F18: =IF(ISBLANK(B18), "isi data dulu",IF(B18 < D18, "Dibawah target", IF(B18 <= C18, "Di dalam target", "Melebihi target"))) -> isi data dulu
A19: Total | B19: =SUM(B7:B18) -> 245.8 | C19: =SUM(C7:C18) -> 30 | D19: =SUM(D7:D18) -> 20 | E19: =(B19/C19)*100 -> 819.33333 | F19: =IF(B19 < D19, "Dibawah target", IF(B19 <= C19, "Di dalam target", "Melebihi target")) -> Melebihi target
